BEGIN:VCALENDAR
VERSION:2.0
PRODID:-//AIM Global - ECPv6.15.20//NONSGML v1.0//EN
CALSCALE:GREGORIAN
METHOD:PUBLISH
X-ORIGINAL-URL:https://www.aimglobal.org
X-WR-CALDESC:Events for AIM Global
REFRESH-INTERVAL;VALUE=DURATION:PT1H
X-Robots-Tag:noindex
X-PUBLISHED-TTL:PT1H
BEGIN:VTIMEZONE
TZID:America/New_York
BEGIN:DAYLIGHT
TZOFFSETFROM:-0500
TZOFFSETTO:-0400
TZNAME:EDT
DTSTART:20240310T070000
END:DAYLIGHT
BEGIN:STANDARD
TZOFFSETFROM:-0400
TZOFFSETTO:-0500
TZNAME:EST
DTSTART:20241103T060000
END:STANDARD
BEGIN:DAYLIGHT
TZOFFSETFROM:-0500
TZOFFSETTO:-0400
TZNAME:EDT
DTSTART:20250309T070000
END:DAYLIGHT
BEGIN:STANDARD
TZOFFSETFROM:-0400
TZOFFSETTO:-0500
TZNAME:EST
DTSTART:20251102T060000
END:STANDARD
BEGIN:DAYLIGHT
TZOFFSETFROM:-0500
TZOFFSETTO:-0400
TZNAME:EDT
DTSTART:20260308T070000
END:DAYLIGHT
BEGIN:STANDARD
TZOFFSETFROM:-0400
TZOFFSETTO:-0500
TZNAME:EST
DTSTART:20261101T060000
END:STANDARD
END:VTIMEZONE
BEGIN:VEVENT
DTSTART;VALUE=DATE:20250222
DTEND;VALUE=DATE:20250227
DTSTAMP:20260420T141928
CREATED:20250226T144033Z
LAST-MODIFIED:20250226T144033Z
UID:987500100-1740182400-1740614399@www.aimglobal.org
SUMMARY:Elecrama 2025
DESCRIPTION:
URL:https://www.aimglobal.org/event/elecrama-2025/
LOCATION:India Expo Mart\, Greater Noida NCR\, India\, India
ATTACH;FMTTYPE=image/png:https://www.aimglobal.org/wp-content/uploads/2025/02/Elecrama-Logo.png
END:VEVENT
BEGIN:VEVENT
DTSTART;TZID=America/New_York:20250226T130000
DTEND;TZID=America/New_York:20250226T140000
DTSTAMP:20260420T141928
CREATED:20250213T164412Z
LAST-MODIFIED:20250213T164412Z
UID:987500035-1740574800-1740578400@www.aimglobal.org
SUMMARY:AUTOMATE NOW: ROBOTICS & AI Virtual Event
DESCRIPTION:AUTOMATE NOW focuses on empowering Canadian manufacturers with the knowledge and tools to automate their operations. Industry experts will explore the strategic benefits and share best practices for integrating advanced robotics and AI into manufacturing workflows.
URL:https://www.aimglobal.org/event/automate-now-robotics-ai-virtual-event/
LOCATION:Virtual
ATTACH;FMTTYPE=image/jpeg:https://www.aimglobal.org/wp-content/uploads/2025/02/Automate-Now.jpg
END:VEVENT
END:VCALENDAR