BEGIN:VCALENDAR
VERSION:2.0
PRODID:-//AIM Global - ECPv6.15.20//NONSGML v1.0//EN
CALSCALE:GREGORIAN
METHOD:PUBLISH
X-WR-CALNAME:AIM Global
X-ORIGINAL-URL:https://www.aimglobal.org
X-WR-CALDESC:Events for AIM Global
REFRESH-INTERVAL;VALUE=DURATION:PT1H
X-Robots-Tag:noindex
X-PUBLISHED-TTL:PT1H
BEGIN:VTIMEZONE
TZID:America/New_York
BEGIN:DAYLIGHT
TZOFFSETFROM:-0500
TZOFFSETTO:-0400
TZNAME:EDT
DTSTART:20240310T070000
END:DAYLIGHT
BEGIN:STANDARD
TZOFFSETFROM:-0400
TZOFFSETTO:-0500
TZNAME:EST
DTSTART:20241103T060000
END:STANDARD
BEGIN:DAYLIGHT
TZOFFSETFROM:-0500
TZOFFSETTO:-0400
TZNAME:EDT
DTSTART:20250309T070000
END:DAYLIGHT
BEGIN:STANDARD
TZOFFSETFROM:-0400
TZOFFSETTO:-0500
TZNAME:EST
DTSTART:20251102T060000
END:STANDARD
BEGIN:DAYLIGHT
TZOFFSETFROM:-0500
TZOFFSETTO:-0400
TZNAME:EDT
DTSTART:20260308T070000
END:DAYLIGHT
BEGIN:STANDARD
TZOFFSETFROM:-0400
TZOFFSETTO:-0500
TZNAME:EST
DTSTART:20261101T060000
END:STANDARD
END:VTIMEZONE
BEGIN:VEVENT
DTSTART;VALUE=DATE:20250227
DTEND;VALUE=DATE:20250301
DTSTAMP:20260420T142143
CREATED:20250228T145340Z
LAST-MODIFIED:20250228T145340Z
UID:987500140-1740614400-1740787199@www.aimglobal.org
SUMMARY:PBExpo
DESCRIPTION:
URL:https://www.aimglobal.org/event/pbexpo/
LOCATION:Miami\, Florida\, Miami\, Florida
END:VEVENT
BEGIN:VEVENT
DTSTART;TZID=America/New_York:20250227T130000
DTEND;TZID=America/New_York:20250227T140000
DTSTAMP:20260420T142143
CREATED:20250226T145527Z
LAST-MODIFIED:20250226T145527Z
UID:987500110-1740661200-1740664800@www.aimglobal.org
SUMMARY:A Fresh Take on Traceability: How FSMA 204 is Reshaping Complex\, Global Supply Chains
DESCRIPTION:January 2026 may seem far away\, but leading food companies are already preparing for FSMA 204 traceability requirements. Compliance isn’t just about regulations—it’s about trust and strengthening supplier relationships.
URL:https://www.aimglobal.org/event/a-fresh-take-on-traceability-how-fsma-204-is-reshaping-complex-global-supply-chains/
LOCATION:Virtual
ATTACH;FMTTYPE=image/png:https://www.aimglobal.org/wp-content/uploads/2025/02/1740516287000.png
END:VEVENT
END:VCALENDAR