BEGIN:VCALENDAR
VERSION:2.0
PRODID:-//AIM Global - ECPv6.15.20//NONSGML v1.0//EN
CALSCALE:GREGORIAN
METHOD:PUBLISH
X-ORIGINAL-URL:https://www.aimglobal.org
X-WR-CALDESC:Events for AIM Global
REFRESH-INTERVAL;VALUE=DURATION:PT1H
X-Robots-Tag:noindex
X-PUBLISHED-TTL:PT1H
BEGIN:VTIMEZONE
TZID:America/New_York
BEGIN:DAYLIGHT
TZOFFSETFROM:-0500
TZOFFSETTO:-0400
TZNAME:EDT
DTSTART:20240310T070000
END:DAYLIGHT
BEGIN:STANDARD
TZOFFSETFROM:-0400
TZOFFSETTO:-0500
TZNAME:EST
DTSTART:20241103T060000
END:STANDARD
BEGIN:DAYLIGHT
TZOFFSETFROM:-0500
TZOFFSETTO:-0400
TZNAME:EDT
DTSTART:20250309T070000
END:DAYLIGHT
BEGIN:STANDARD
TZOFFSETFROM:-0400
TZOFFSETTO:-0500
TZNAME:EST
DTSTART:20251102T060000
END:STANDARD
BEGIN:DAYLIGHT
TZOFFSETFROM:-0500
TZOFFSETTO:-0400
TZNAME:EDT
DTSTART:20260308T070000
END:DAYLIGHT
BEGIN:STANDARD
TZOFFSETFROM:-0400
TZOFFSETTO:-0500
TZNAME:EST
DTSTART:20261101T060000
END:STANDARD
END:VTIMEZONE
BEGIN:VEVENT
DTSTART;VALUE=DATE:20250302
DTEND;VALUE=DATE:20250307
DTSTAMP:20260420T141817
CREATED:20240508T220126Z
LAST-MODIFIED:20240508T220126Z
UID:987497135-1740942000-1741287599@www.aimglobal.org
SUMMARY:HIMSS
DESCRIPTION:Forge connections with a vibrant community of healthcare experts from across the digital health ecosystem.
URL:https://www.aimglobal.org/event/himss-2/
LOCATION:Las Vegas\, Nevada\, Las Vegas\, Nevada
ATTACH;FMTTYPE=image/png:https://www.aimglobal.org/wp-content/uploads/2024/05/h25-lasvegas-logo-blue.png
END:VEVENT
BEGIN:VEVENT
DTSTART;VALUE=DATE:20250303
DTEND;VALUE=DATE:20250307
DTSTAMP:20260420T141817
CREATED:20240508T215537Z
LAST-MODIFIED:20240508T215537Z
UID:987497128-1741028400-1741287599@www.aimglobal.org
SUMMARY:Tire Technology 2025
DESCRIPTION:Join us at the tire manufacturing industry’s most highly regarded event of the year.
URL:https://www.aimglobal.org/event/tire-technology-2025/
LOCATION:Hannover\, Germany
ATTACH;FMTTYPE=image/jpeg:https://www.aimglobal.org/wp-content/uploads/2024/05/Tire-Technology-Expo.jpg
END:VEVENT
BEGIN:VEVENT
DTSTART;VALUE=DATE:20250304
DTEND;VALUE=DATE:20250307
DTSTAMP:20260420T141817
CREATED:20250305T160259Z
LAST-MODIFIED:20250305T160259Z
UID:987500178-1741046400-1741305599@www.aimglobal.org
SUMMARY:CFIA Rennes 2025
DESCRIPTION:Come meet key players serving the agri-food industry for an edition filled with new features and innovations.
URL:https://www.aimglobal.org/event/cfia-rennes-2025/
LOCATION:CFIA Rennes Parc Expo\, Bruz\, France
ATTACH;FMTTYPE=image/png:https://www.aimglobal.org/wp-content/uploads/2025/03/Sans-titre-1080-x-500-px-1080-x-300-px-5.png
END:VEVENT
BEGIN:VEVENT
DTSTART;VALUE=DATE:20250306
DTEND;VALUE=DATE:20250309
DTSTAMP:20260420T141817
CREATED:20241212T202935Z
LAST-MODIFIED:20241212T205847Z
UID:987498958-1741219200-1741478399@www.aimglobal.org
SUMMARY:Automation Expo South
DESCRIPTION:Automation Expo South is South Asia’s leading automation trade show\, showcasing cutting-edge innovations in manufacturing\, robotics\, AI\, and process automation. With 200+ global exhibitors\, it fosters collaboration\, drives technological growth\, and helps industries stay competitive by embracing advanced automation solutions.
URL:https://www.aimglobal.org/event/automation-expo-south/
LOCATION:Chennai\, India\, Chennai\, India
ATTACH;FMTTYPE=image/png:https://www.aimglobal.org/wp-content/uploads/2023/11/Automation-Expo-2024-1-e1700672280206.png
END:VEVENT
BEGIN:VEVENT
DTSTART;TZID=America/New_York:20250306T110000
DTEND;TZID=America/New_York:20250306T120000
DTSTAMP:20260420T141817
CREATED:20250227T202420Z
LAST-MODIFIED:20250227T202420Z
UID:987500117-1741258800-1741262400@www.aimglobal.org
SUMMARY:Build a Bullet Proof Supply Chain for your Retail Organization
DESCRIPTION:In this live session\, our SOTI & Bartender team of experts will show you how to build a bullet proof supply chain that can help your business stay on top of retail inventory visibility and optimize your supply chain.
URL:https://www.aimglobal.org/event/build-a-bullet-proof-supply-chain-for-your-retail-organization/
LOCATION:Virtual
ATTACH;FMTTYPE=image/png:https://www.aimglobal.org/wp-content/uploads/2025/02/fbfe7fae-6d41-4ff0-9415-0783a54a7a9d.png
END:VEVENT
END:VCALENDAR