BEGIN:VCALENDAR
VERSION:2.0
PRODID:-//AIM Global - ECPv6.15.20//NONSGML v1.0//EN
CALSCALE:GREGORIAN
METHOD:PUBLISH
X-ORIGINAL-URL:https://www.aimglobal.org
X-WR-CALDESC:Events for AIM Global
REFRESH-INTERVAL;VALUE=DURATION:PT1H
X-Robots-Tag:noindex
X-PUBLISHED-TTL:PT1H
BEGIN:VTIMEZONE
TZID:America/New_York
BEGIN:DAYLIGHT
TZOFFSETFROM:-0500
TZOFFSETTO:-0400
TZNAME:EDT
DTSTART:20240310T070000
END:DAYLIGHT
BEGIN:STANDARD
TZOFFSETFROM:-0400
TZOFFSETTO:-0500
TZNAME:EST
DTSTART:20241103T060000
END:STANDARD
BEGIN:DAYLIGHT
TZOFFSETFROM:-0500
TZOFFSETTO:-0400
TZNAME:EDT
DTSTART:20250309T070000
END:DAYLIGHT
BEGIN:STANDARD
TZOFFSETFROM:-0400
TZOFFSETTO:-0500
TZNAME:EST
DTSTART:20251102T060000
END:STANDARD
BEGIN:DAYLIGHT
TZOFFSETFROM:-0500
TZOFFSETTO:-0400
TZNAME:EDT
DTSTART:20260308T070000
END:DAYLIGHT
BEGIN:STANDARD
TZOFFSETFROM:-0400
TZOFFSETTO:-0500
TZNAME:EST
DTSTART:20261101T060000
END:STANDARD
END:VTIMEZONE
BEGIN:VEVENT
DTSTART;VALUE=DATE:20250331
DTEND;VALUE=DATE:20250404
DTSTAMP:20260420T121642
CREATED:20241212T201640Z
LAST-MODIFIED:20241212T213018Z
UID:987498951-1743379200-1743724799@www.aimglobal.org
SUMMARY:GFSI Conference
DESCRIPTION:The annual rendezvous for everyone involved in advancing food safety and consumer trust worldwide.
URL:https://www.aimglobal.org/event/gfsi-conference/
LOCATION:Dublin\, Ireland\, Dublin\, Ireland
ATTACH;FMTTYPE=image/png:https://www.aimglobal.org/wp-content/uploads/2024/12/GFSI.png
END:VEVENT
BEGIN:VEVENT
DTSTART;VALUE=DATE:20250331
DTEND;VALUE=DATE:20250405
DTSTAMP:20260420T121642
CREATED:20241212T202613Z
LAST-MODIFIED:20241212T212920Z
UID:987498955-1743379200-1743811199@www.aimglobal.org
SUMMARY:Hannover Messe
DESCRIPTION:At the world’s leading industrial trade fair\, companies from the mechanical engineering\, electrical engineering and digital industries as well as the energy sector will come together to present solutions for a high-performance\, but also sustainable industry. More than 4\,000 companies will be acting as an interconnected industrial ecosystem and demonstrating how climate neutrality can be achieved through electrification\, digitization and automation.
URL:https://www.aimglobal.org/event/hannover-messe/
LOCATION:Hannover\, Germany
ATTACH;FMTTYPE=image/png:https://www.aimglobal.org/wp-content/uploads/2024/12/Teaser_HMI_600x600.png
END:VEVENT
BEGIN:VEVENT
DTSTART;VALUE=DATE:20250331
DTEND;VALUE=DATE:20250404
DTSTAMP:20260420T121642
CREATED:20240509T184917Z
LAST-MODIFIED:20241212T212716Z
UID:987497281-1743451200-1743710399@www.aimglobal.org
SUMMARY:LabelExpo Mexico
DESCRIPTION:Labelexpo Mexico is the latest label and package printing event in the region.
URL:https://www.aimglobal.org/event/labelexpo-mexico/
LOCATION:Expo Guadalajara\, Guadalajara\, Mexico
ATTACH;FMTTYPE=image/png:https://www.aimglobal.org/wp-content/uploads/2024/05/labeltechmexico.png
END:VEVENT
BEGIN:VEVENT
DTSTART;VALUE=DATE:20250402
DTEND;VALUE=DATE:20250404
DTSTAMP:20260420T121642
CREATED:20250310T122234Z
LAST-MODIFIED:20250310T122234Z
UID:987500205-1743552000-1743724799@www.aimglobal.org
SUMMARY:Retail Technology Show
DESCRIPTION:Experience the very best in retail tech as the industry’s most innovative suppliers present the latest game-changing tech and digital solutions for in-store\, online\, and omnichannel retail.
URL:https://www.aimglobal.org/event/retail-technology-show/
LOCATION:London\, United Kingdom
ATTACH;FMTTYPE=image/jpeg:https://www.aimglobal.org/wp-content/uploads/2025/03/Retail-Tecnology-Show.jpg
END:VEVENT
END:VCALENDAR