BEGIN:VCALENDAR
VERSION:2.0
PRODID:-//AIM Global - ECPv6.15.20//NONSGML v1.0//EN
CALSCALE:GREGORIAN
METHOD:PUBLISH
X-WR-CALNAME:AIM Global
X-ORIGINAL-URL:https://www.aimglobal.org
X-WR-CALDESC:Events for AIM Global
REFRESH-INTERVAL;VALUE=DURATION:PT1H
X-Robots-Tag:noindex
X-PUBLISHED-TTL:PT1H
BEGIN:VTIMEZONE
TZID:America/New_York
BEGIN:DAYLIGHT
TZOFFSETFROM:-0500
TZOFFSETTO:-0400
TZNAME:EDT
DTSTART:20240310T070000
END:DAYLIGHT
BEGIN:STANDARD
TZOFFSETFROM:-0400
TZOFFSETTO:-0500
TZNAME:EST
DTSTART:20241103T060000
END:STANDARD
BEGIN:DAYLIGHT
TZOFFSETFROM:-0500
TZOFFSETTO:-0400
TZNAME:EDT
DTSTART:20250309T070000
END:DAYLIGHT
BEGIN:STANDARD
TZOFFSETFROM:-0400
TZOFFSETTO:-0500
TZNAME:EST
DTSTART:20251102T060000
END:STANDARD
BEGIN:DAYLIGHT
TZOFFSETFROM:-0500
TZOFFSETTO:-0400
TZNAME:EDT
DTSTART:20260308T070000
END:DAYLIGHT
BEGIN:STANDARD
TZOFFSETFROM:-0400
TZOFFSETTO:-0500
TZNAME:EST
DTSTART:20261101T060000
END:STANDARD
END:VTIMEZONE
BEGIN:VEVENT
DTSTART;VALUE=DATE:20250714
DTEND;VALUE=DATE:20250717
DTSTAMP:20260420T134337
CREATED:20241213T184342Z
LAST-MODIFIED:20241213T184342Z
UID:987499065-1752451200-1752710399@www.aimglobal.org
SUMMARY:IFT first Conference
DESCRIPTION:Connect with highly engaged decision makers actively seeking solutions\, build meaningful relationships\, and showcase your innovations to buyers with real purchasing power. Plus\, take your presence to the next level with high-impact sponsorship packages\, delivering proven results. Check out what exhibitors are saying about being at IFT FIRST and then secure your spot today.
URL:https://www.aimglobal.org/event/ift-first-conference-2/
LOCATION:McCormick Place\, Chicago
ATTACH;FMTTYPE=image/png:https://www.aimglobal.org/wp-content/uploads/2024/05/IFT.png
END:VEVENT
END:VCALENDAR