BEGIN:VCALENDAR
VERSION:2.0
PRODID:-//AIM Global - ECPv6.15.20//NONSGML v1.0//EN
CALSCALE:GREGORIAN
METHOD:PUBLISH
X-WR-CALNAME:AIM Global
X-ORIGINAL-URL:https://www.aimglobal.org
X-WR-CALDESC:Events for AIM Global
REFRESH-INTERVAL;VALUE=DURATION:PT1H
X-Robots-Tag:noindex
X-PUBLISHED-TTL:PT1H
BEGIN:VTIMEZONE
TZID:America/New_York
BEGIN:DAYLIGHT
TZOFFSETFROM:-0500
TZOFFSETTO:-0400
TZNAME:EDT
DTSTART:20240310T070000
END:DAYLIGHT
BEGIN:STANDARD
TZOFFSETFROM:-0400
TZOFFSETTO:-0500
TZNAME:EST
DTSTART:20241103T060000
END:STANDARD
BEGIN:DAYLIGHT
TZOFFSETFROM:-0500
TZOFFSETTO:-0400
TZNAME:EDT
DTSTART:20250309T070000
END:DAYLIGHT
BEGIN:STANDARD
TZOFFSETFROM:-0400
TZOFFSETTO:-0500
TZNAME:EST
DTSTART:20251102T060000
END:STANDARD
BEGIN:DAYLIGHT
TZOFFSETFROM:-0500
TZOFFSETTO:-0400
TZNAME:EDT
DTSTART:20260308T070000
END:DAYLIGHT
BEGIN:STANDARD
TZOFFSETFROM:-0400
TZOFFSETTO:-0500
TZNAME:EST
DTSTART:20261101T060000
END:STANDARD
END:VTIMEZONE
BEGIN:VEVENT
DTSTART;VALUE=DATE:20250727
DTEND;VALUE=DATE:20250731
DTSTAMP:20260421T000936
CREATED:20241213T185700Z
LAST-MODIFIED:20241213T185700Z
UID:987499069-1753574400-1753919999@www.aimglobal.org
SUMMARY:International Assocation for Food Protection Annual Conference
DESCRIPTION:The IAFP Annual Meeting is attended by more than 3\,500 of the top industry\, academic and governmental food safety professionals from six continents. This renowned event owes its reputation and success to the quantity\, quality\, and diversity of each year’s program; the quality and relevance of exhibits sharing the latest in available technologies; leading experts speaking on a variety of timely topics; and special recognition of outstanding professionals and students for their contributions in the food safety field.
URL:https://www.aimglobal.org/event/international-assocation-for-food-protection-annual-conference/
LOCATION:Cleveland\, Ohio\, Cleveland\, OH\, United States
ATTACH;FMTTYPE=image/jpeg:https://www.aimglobal.org/wp-content/uploads/2024/12/IAFP.jpg
END:VEVENT
END:VCALENDAR