BEGIN:VCALENDAR
VERSION:2.0
PRODID:-//AIM Global - ECPv6.15.20//NONSGML v1.0//EN
CALSCALE:GREGORIAN
METHOD:PUBLISH
X-ORIGINAL-URL:https://www.aimglobal.org
X-WR-CALDESC:Events for AIM Global
REFRESH-INTERVAL;VALUE=DURATION:PT1H
X-Robots-Tag:noindex
X-PUBLISHED-TTL:PT1H
BEGIN:VTIMEZONE
TZID:America/New_York
BEGIN:DAYLIGHT
TZOFFSETFROM:-0500
TZOFFSETTO:-0400
TZNAME:EDT
DTSTART:20240310T070000
END:DAYLIGHT
BEGIN:STANDARD
TZOFFSETFROM:-0400
TZOFFSETTO:-0500
TZNAME:EST
DTSTART:20241103T060000
END:STANDARD
BEGIN:DAYLIGHT
TZOFFSETFROM:-0500
TZOFFSETTO:-0400
TZNAME:EDT
DTSTART:20250309T070000
END:DAYLIGHT
BEGIN:STANDARD
TZOFFSETFROM:-0400
TZOFFSETTO:-0500
TZNAME:EST
DTSTART:20251102T060000
END:STANDARD
BEGIN:DAYLIGHT
TZOFFSETFROM:-0500
TZOFFSETTO:-0400
TZNAME:EDT
DTSTART:20260308T070000
END:DAYLIGHT
BEGIN:STANDARD
TZOFFSETFROM:-0400
TZOFFSETTO:-0500
TZNAME:EST
DTSTART:20261101T060000
END:STANDARD
END:VTIMEZONE
BEGIN:VEVENT
DTSTART;VALUE=DATE:20250818
DTEND;VALUE=DATE:20250821
DTSTAMP:20260420T121007
CREATED:20250730T161002Z
LAST-MODIFIED:20250730T161002Z
UID:987501166-1755475200-1755734399@www.aimglobal.org
SUMMARY:HealthTrust University Conference
DESCRIPTION:The HealthTrust University Conference is a premier event where members\, contracted suppliers and HealthTrust staff come together to learn and network at HealthTrust’s largest gathering\nof the year. Every year\, HealthTrust members rate the HTU Conference as one of the most worthwhile events they attend.
URL:https://www.aimglobal.org/event/healthtrust-university-conference/
LOCATION:San Antonio\, Texas\, San Antonio\, TX\, United States
ATTACH;FMTTYPE=image/jpeg:https://www.aimglobal.org/wp-content/uploads/2025/07/R-1.jpg
END:VEVENT
END:VCALENDAR