BEGIN:VCALENDAR
VERSION:2.0
PRODID:-//AIM Global - ECPv6.15.20//NONSGML v1.0//EN
CALSCALE:GREGORIAN
METHOD:PUBLISH
X-ORIGINAL-URL:https://www.aimglobal.org
X-WR-CALDESC:Events for AIM Global
REFRESH-INTERVAL;VALUE=DURATION:PT1H
X-Robots-Tag:noindex
X-PUBLISHED-TTL:PT1H
BEGIN:VTIMEZONE
TZID:America/New_York
BEGIN:DAYLIGHT
TZOFFSETFROM:-0500
TZOFFSETTO:-0400
TZNAME:EDT
DTSTART:20240310T070000
END:DAYLIGHT
BEGIN:STANDARD
TZOFFSETFROM:-0400
TZOFFSETTO:-0500
TZNAME:EST
DTSTART:20241103T060000
END:STANDARD
BEGIN:DAYLIGHT
TZOFFSETFROM:-0500
TZOFFSETTO:-0400
TZNAME:EDT
DTSTART:20250309T070000
END:DAYLIGHT
BEGIN:STANDARD
TZOFFSETFROM:-0400
TZOFFSETTO:-0500
TZNAME:EST
DTSTART:20251102T060000
END:STANDARD
BEGIN:DAYLIGHT
TZOFFSETFROM:-0500
TZOFFSETTO:-0400
TZNAME:EDT
DTSTART:20260308T070000
END:DAYLIGHT
BEGIN:STANDARD
TZOFFSETFROM:-0400
TZOFFSETTO:-0500
TZNAME:EST
DTSTART:20261101T060000
END:STANDARD
END:VTIMEZONE
BEGIN:VEVENT
DTSTART;TZID=America/New_York:20250828T140000
DTEND;TZID=America/New_York:20250828T150000
DTSTAMP:20260420T113755
CREATED:20250812T123053Z
LAST-MODIFIED:20250812T123053Z
UID:987501249-1756389600-1756393200@www.aimglobal.org
SUMMARY:The Power of RFID – Revolutionizing the Food Supply Chain Webinar
DESCRIPTION:The future of food distribution is here — and it’s powered by RFID. Join PLM TrustLink® and the International Foodservice Distributors Association (IFDA) for an exclusive\, expert-led webinar exploring how RFID (Radio Frequency Identification) is transforming the food supply chain from end to end.
URL:https://www.aimglobal.org/event/the-power-of-rfid-revolutionizing-the-food-supply-chain-webinar/
LOCATION:Virtual
ATTACH;FMTTYPE=image/jpeg:https://www.aimglobal.org/wp-content/uploads/2025/08/1755001210915.jpg
END:VEVENT
END:VCALENDAR