BEGIN:VCALENDAR
VERSION:2.0
PRODID:-//AIM Global - ECPv6.15.20//NONSGML v1.0//EN
CALSCALE:GREGORIAN
METHOD:PUBLISH
X-ORIGINAL-URL:https://www.aimglobal.org
X-WR-CALDESC:Events for AIM Global
REFRESH-INTERVAL;VALUE=DURATION:PT1H
X-Robots-Tag:noindex
X-PUBLISHED-TTL:PT1H
BEGIN:VTIMEZONE
TZID:America/New_York
BEGIN:DAYLIGHT
TZOFFSETFROM:-0500
TZOFFSETTO:-0400
TZNAME:EDT
DTSTART:20240310T070000
END:DAYLIGHT
BEGIN:STANDARD
TZOFFSETFROM:-0400
TZOFFSETTO:-0500
TZNAME:EST
DTSTART:20241103T060000
END:STANDARD
BEGIN:DAYLIGHT
TZOFFSETFROM:-0500
TZOFFSETTO:-0400
TZNAME:EDT
DTSTART:20250309T070000
END:DAYLIGHT
BEGIN:STANDARD
TZOFFSETFROM:-0400
TZOFFSETTO:-0500
TZNAME:EST
DTSTART:20251102T060000
END:STANDARD
BEGIN:DAYLIGHT
TZOFFSETFROM:-0500
TZOFFSETTO:-0400
TZNAME:EDT
DTSTART:20260308T070000
END:DAYLIGHT
BEGIN:STANDARD
TZOFFSETFROM:-0400
TZOFFSETTO:-0500
TZNAME:EST
DTSTART:20261101T060000
END:STANDARD
END:VTIMEZONE
BEGIN:VEVENT
DTSTART;TZID=America/New_York:20250903T160000
DTEND;TZID=America/New_York:20250903T170000
DTSTAMP:20260420T134509
CREATED:20250728T172341Z
LAST-MODIFIED:20250728T172341Z
UID:987501154-1756915200-1756918800@www.aimglobal.org
SUMMARY:Webinar: Why Digitalizing Asset Flow Management is the Future of Logistics
DESCRIPTION:Join us for an exclusive webinar where industry experts from Posti\, Lyngsoe Systems\, and Beontag will explore the future of logistics through the digitalization of asset flow management. \nDiscover how Posti is leveraging IoT technologies to track every roll cage across 30 logistics centers and transportation terminals and over 70 million parcels\, enhancing customer service through dynamic and responsive operations. \nIf you’re a logistics\, supply chain\, or operations leader working in trade companies\, 3PLs\, or warehouses\, this webinar is your opportunity to: \n\nUnderstand the potential of RFID\, Bluetooth Low Energy (BLE)\, and GPS technologies;\nOvercome common challenges in asset tracking through innovative solutions;\nDiscover how real-time visibility can drive cost savings\, operational efficiency\, and sustainability;\nLearn the practical steps to begin digitalizing your asset management;\nExplore how Posti successfully reduced asset losses\, optimized roll cage use\, and cut CO2 emissions with BLE.\n\nRegister now to secure your place and take the first step towards smarter\, more efficient logistics.
URL:https://www.aimglobal.org/event/webinar-why-digitalizing-asset-flow-management-is-the-future-of-logistics/
LOCATION:Virtual
ATTACH;FMTTYPE=image/jpeg:https://www.aimglobal.org/wp-content/uploads/2025/07/download.jpg
END:VEVENT
END:VCALENDAR