BEGIN:VCALENDAR
VERSION:2.0
PRODID:-//AIM Global - ECPv6.15.20//NONSGML v1.0//EN
CALSCALE:GREGORIAN
METHOD:PUBLISH
X-WR-CALNAME:AIM Global
X-ORIGINAL-URL:https://www.aimglobal.org
X-WR-CALDESC:Events for AIM Global
REFRESH-INTERVAL;VALUE=DURATION:PT1H
X-Robots-Tag:noindex
X-PUBLISHED-TTL:PT1H
BEGIN:VTIMEZONE
TZID:America/New_York
BEGIN:DAYLIGHT
TZOFFSETFROM:-0500
TZOFFSETTO:-0400
TZNAME:EDT
DTSTART:20240310T070000
END:DAYLIGHT
BEGIN:STANDARD
TZOFFSETFROM:-0400
TZOFFSETTO:-0500
TZNAME:EST
DTSTART:20241103T060000
END:STANDARD
BEGIN:DAYLIGHT
TZOFFSETFROM:-0500
TZOFFSETTO:-0400
TZNAME:EDT
DTSTART:20250309T070000
END:DAYLIGHT
BEGIN:STANDARD
TZOFFSETFROM:-0400
TZOFFSETTO:-0500
TZNAME:EST
DTSTART:20251102T060000
END:STANDARD
BEGIN:DAYLIGHT
TZOFFSETFROM:-0500
TZOFFSETTO:-0400
TZNAME:EDT
DTSTART:20260308T070000
END:DAYLIGHT
BEGIN:STANDARD
TZOFFSETFROM:-0400
TZOFFSETTO:-0500
TZNAME:EST
DTSTART:20261101T060000
END:STANDARD
END:VTIMEZONE
BEGIN:VEVENT
DTSTART;TZID=America/New_York:20250904T140000
DTEND;TZID=America/New_York:20250904T150000
DTSTAMP:20260420T151219
CREATED:20250827T132451Z
LAST-MODIFIED:20250827T133235Z
UID:987501336-1756994400-1756998000@www.aimglobal.org
SUMMARY:Boost Your Industry Visibility: How Our Community Helps You Succeed Webinar
DESCRIPTION:Join our exclusive webinar to discover how AIM membership can drive growth\, innovation\, and visibility for your company in the Automatic Identification and Data Capture (AIDC) industry. Whether you work in RFID\, barcoding\, smart devices\, or the Internet of Things (IoT)\, this session will show you how AIM helps members connect\, collaborate\, and lead in a rapidly evolving tech landscape. \nWhat You’ll Learn:\nExclusive Benefits of AIM Membership: Access industry insights\, RFP opportunities\, and promotional tools like the AIM Business Directory and member media channels to boost your visibility and attract new business. \nInfluence Industry Standards: Get involved with AIM’s core industry groups — the RFID Experts Group\, Technical Symbology Committee\, and Visibility Technologies Group — and help shape global AIDC standards and best practices. \nCommunity & Leadership Development: Learn about our new Women of AIDC and Young Professionals groups\, created to empower the next generation of industry leaders. \nConnect with Key Stakeholders: Hear from Mike Allen as he shares how AIM’s hands-on workshops and collaborative forums provide opportunities to network with potential partners and customers. \nAdvocate for Industry Growth: Be part of a forward-thinking community working together to strengthen the future of AIDC. \nWhether you’re a startup or an industry leader\, AIM membership offers the tools and connections you need to thrive in the global AIDC ecosystem. \n📅 Register today to learn how AIM can help your organization expand its reach\, lead in standardization\, and stay ahead of emerging AIDC technologies.
URL:https://www.aimglobal.org/event/boost-your-industry-visibility-how-our-community-helps-you-succeed-webinar/
LOCATION:Virtual
ATTACH;FMTTYPE=image/png:https://www.aimglobal.org/wp-content/uploads/2025/08/Boost-Your-Industry-Visibility-How-Our-Community-Helps-You-Succeed-Recruitment-Webinar-.png
END:VEVENT
END:VCALENDAR