BEGIN:VCALENDAR
VERSION:2.0
PRODID:-//AIM Global - ECPv6.15.20//NONSGML v1.0//EN
CALSCALE:GREGORIAN
METHOD:PUBLISH
X-ORIGINAL-URL:https://www.aimglobal.org
X-WR-CALDESC:Events for AIM Global
REFRESH-INTERVAL;VALUE=DURATION:PT1H
X-Robots-Tag:noindex
X-PUBLISHED-TTL:PT1H
BEGIN:VTIMEZONE
TZID:America/New_York
BEGIN:DAYLIGHT
TZOFFSETFROM:-0500
TZOFFSETTO:-0400
TZNAME:EDT
DTSTART:20240310T070000
END:DAYLIGHT
BEGIN:STANDARD
TZOFFSETFROM:-0400
TZOFFSETTO:-0500
TZNAME:EST
DTSTART:20241103T060000
END:STANDARD
BEGIN:DAYLIGHT
TZOFFSETFROM:-0500
TZOFFSETTO:-0400
TZNAME:EDT
DTSTART:20250309T070000
END:DAYLIGHT
BEGIN:STANDARD
TZOFFSETFROM:-0400
TZOFFSETTO:-0500
TZNAME:EST
DTSTART:20251102T060000
END:STANDARD
BEGIN:DAYLIGHT
TZOFFSETFROM:-0500
TZOFFSETTO:-0400
TZNAME:EDT
DTSTART:20260308T070000
END:DAYLIGHT
BEGIN:STANDARD
TZOFFSETFROM:-0400
TZOFFSETTO:-0500
TZNAME:EST
DTSTART:20261101T060000
END:STANDARD
END:VTIMEZONE
BEGIN:VEVENT
DTSTART;TZID=America/New_York:20250910T110000
DTEND;TZID=America/New_York:20250910T120000
DTSTAMP:20260420T134511
CREATED:20250827T134400Z
LAST-MODIFIED:20250827T134400Z
UID:987501344-1757502000-1757505600@www.aimglobal.org
SUMMARY:Easily Work with RFID Temperature Sensor Labels Webinar
DESCRIPTION:Unlock the power of RFID temperature sensors in modern supply chain management. In this exclusive live webinar\, you’ll discover how these innovative sensors are printed and encoded\, enabling seamless real-time tracking and temperature monitoring across logistics networks. \nWhat You’ll Learn:\n\n\nThe full process of printing and encoding RFID temperature sensors \n\n\nHow real-time sensor data is captured and transmitted efficiently \n\n\nHow this data is pushed to the cloud for monitoring\, analytics\, and automation \n\n\nUse cases of smart decision-making powered by sensor-driven insights \n\n\nWhy Attend?\nWhether you’re in cold chain logistics\, pharmaceutical distribution\, or smart packaging\, this webinar will show you how RFID technology is transforming supply chain visibility and compliance. \n✅ Free to attend✅ Live Q&A with industry experts✅ Ideal for professionals in IoT\, logistics\, manufacturing\, and tech
URL:https://www.aimglobal.org/event/easily-work-with-rfid-temperature-sensor-labels-webinar/
LOCATION:Virtual
ATTACH;FMTTYPE=image/png:https://www.aimglobal.org/wp-content/uploads/2025/08/Easily-Work-RFID-Temperature-Sensor-Labels-ASYGN-ANANTICS-TSC.png
END:VEVENT
END:VCALENDAR