BEGIN:VCALENDAR
VERSION:2.0
PRODID:-//AIM Global - ECPv6.15.20//NONSGML v1.0//EN
CALSCALE:GREGORIAN
METHOD:PUBLISH
X-ORIGINAL-URL:https://www.aimglobal.org
X-WR-CALDESC:Events for AIM Global
REFRESH-INTERVAL;VALUE=DURATION:PT1H
X-Robots-Tag:noindex
X-PUBLISHED-TTL:PT1H
BEGIN:VTIMEZONE
TZID:America/New_York
BEGIN:DAYLIGHT
TZOFFSETFROM:-0500
TZOFFSETTO:-0400
TZNAME:EDT
DTSTART:20240310T070000
END:DAYLIGHT
BEGIN:STANDARD
TZOFFSETFROM:-0400
TZOFFSETTO:-0500
TZNAME:EST
DTSTART:20241103T060000
END:STANDARD
BEGIN:DAYLIGHT
TZOFFSETFROM:-0500
TZOFFSETTO:-0400
TZNAME:EDT
DTSTART:20250309T070000
END:DAYLIGHT
BEGIN:STANDARD
TZOFFSETFROM:-0400
TZOFFSETTO:-0500
TZNAME:EST
DTSTART:20251102T060000
END:STANDARD
BEGIN:DAYLIGHT
TZOFFSETFROM:-0500
TZOFFSETTO:-0400
TZNAME:EDT
DTSTART:20260308T070000
END:DAYLIGHT
BEGIN:STANDARD
TZOFFSETFROM:-0400
TZOFFSETTO:-0500
TZNAME:EST
DTSTART:20261101T060000
END:STANDARD
END:VTIMEZONE
BEGIN:VEVENT
DTSTART;VALUE=DATE:20250914
DTEND;VALUE=DATE:20250916
DTSTAMP:20260421T044101
CREATED:20241213T200103Z
LAST-MODIFIED:20241213T200103Z
UID:987499085-1757808000-1757980799@www.aimglobal.org
SUMMARY:AIPIA World Congress Europe
DESCRIPTION:The AWA & AIPIA Smart Labeling Seminar 2025\, part of the AWA Seminar Series: Co-located with Labelexpo Europe 2025 offers a comprehensive program on smart labeling\, making it the ideal kickoff to Labelexpo week.
URL:https://www.aimglobal.org/event/aipia-world-congress-europe-2/
LOCATION:Barcelona\, Spain\, Barcelona\, Spain
ATTACH;FMTTYPE=image/png:https://www.aimglobal.org/wp-content/uploads/2024/05/aipa-1.png
END:VEVENT
BEGIN:VEVENT
DTSTART;VALUE=DATE:20250914
DTEND;VALUE=DATE:20250917
DTSTAMP:20260421T044101
CREATED:20241213T200825Z
LAST-MODIFIED:20241213T200825Z
UID:987499087-1757808000-1758067199@www.aimglobal.org
SUMMARY:North America Food Safety & Quality Summit
DESCRIPTION:The North American Food Safety & Quality Series is a premier gathering of industry leaders\, food safety executives\, and experts dedicated to exploring innovative strategies\, emerging trends\, and best practices in the dynamic world of food regulations.
URL:https://www.aimglobal.org/event/north-america-food-safety-quality-summit/
LOCATION:Austin\, TX
ATTACH;FMTTYPE=image/png:https://www.aimglobal.org/wp-content/uploads/2024/12/nafs-1.png
END:VEVENT
END:VCALENDAR