BEGIN:VCALENDAR
VERSION:2.0
PRODID:-//AIM Global - ECPv6.15.20//NONSGML v1.0//EN
CALSCALE:GREGORIAN
METHOD:PUBLISH
X-ORIGINAL-URL:https://www.aimglobal.org
X-WR-CALDESC:Events for AIM Global
REFRESH-INTERVAL;VALUE=DURATION:PT1H
X-Robots-Tag:noindex
X-PUBLISHED-TTL:PT1H
BEGIN:VTIMEZONE
TZID:America/New_York
BEGIN:DAYLIGHT
TZOFFSETFROM:-0500
TZOFFSETTO:-0400
TZNAME:EDT
DTSTART:20240310T070000
END:DAYLIGHT
BEGIN:STANDARD
TZOFFSETFROM:-0400
TZOFFSETTO:-0500
TZNAME:EST
DTSTART:20241103T060000
END:STANDARD
BEGIN:DAYLIGHT
TZOFFSETFROM:-0500
TZOFFSETTO:-0400
TZNAME:EDT
DTSTART:20250309T070000
END:DAYLIGHT
BEGIN:STANDARD
TZOFFSETFROM:-0400
TZOFFSETTO:-0500
TZNAME:EST
DTSTART:20251102T060000
END:STANDARD
BEGIN:DAYLIGHT
TZOFFSETFROM:-0500
TZOFFSETTO:-0400
TZNAME:EDT
DTSTART:20260308T070000
END:DAYLIGHT
BEGIN:STANDARD
TZOFFSETFROM:-0400
TZOFFSETTO:-0500
TZNAME:EST
DTSTART:20261101T060000
END:STANDARD
END:VTIMEZONE
BEGIN:VEVENT
DTSTART;VALUE=DATE:20251006
DTEND;VALUE=DATE:20251010
DTSTAMP:20260420T220130
CREATED:20241227T165028Z
LAST-MODIFIED:20241227T165028Z
UID:987499322-1759708800-1760054399@www.aimglobal.org
SUMMARY:Electric & Hybrid Vehicle Technology Expo North America
DESCRIPTION:Gain Access to Exclusive Education and Insider Insights at the Battery Show Conference
URL:https://www.aimglobal.org/event/electric-hybrid-vehicle-technology-expo-north-america-2/
LOCATION:Huntington Place\, Detroit\, Michigan
ATTACH;FMTTYPE=image/png:https://www.aimglobal.org/wp-content/uploads/2024/05/ehvtc-1.png
END:VEVENT
BEGIN:VEVENT
DTSTART;VALUE=DATE:20251006
DTEND;VALUE=DATE:20251010
DTSTAMP:20260420T220130
CREATED:20241227T165544Z
LAST-MODIFIED:20241227T165544Z
UID:987499324-1759708800-1760054399@www.aimglobal.org
SUMMARY:The Battery Show North America
DESCRIPTION:Gain Access to Exclusive Education and Insider Insights at the Battery Show Conference
URL:https://www.aimglobal.org/event/the-battery-show-north-america-2/
LOCATION:Huntington Place\, Detroit\, Michigan
ATTACH;FMTTYPE=image/png:https://www.aimglobal.org/wp-content/uploads/2024/12/Untitled-design-13.png
END:VEVENT
BEGIN:VEVENT
DTSTART;VALUE=DATE:20251007
DTEND;VALUE=DATE:20251009
DTSTAMP:20260420T220130
CREATED:20241227T170236Z
LAST-MODIFIED:20241227T170236Z
UID:987499327-1759795200-1759967999@www.aimglobal.org
SUMMARY:American Medical Device Summit
DESCRIPTION:
URL:https://www.aimglobal.org/event/american-medical-device-summit-2/
LOCATION:Chicago\, IL
ATTACH;FMTTYPE=image/png:https://www.aimglobal.org/wp-content/uploads/2024/05/generis-logo-blue-2.png
END:VEVENT
BEGIN:VEVENT
DTSTART;VALUE=DATE:20251007
DTEND;VALUE=DATE:20251010
DTSTAMP:20260420T220130
CREATED:20251001T145716Z
LAST-MODIFIED:20251001T145716Z
UID:987501494-1759795200-1760054399@www.aimglobal.org
SUMMARY:Traffic InfraTech Expo 2025
DESCRIPTION:Traffic Infratech Expo along with its concurrent shows: Road Infratech Expo and Parking Infratech Expo\, has been a catalyst in India’s infrastructure and mobility revolution. Showcasing the nation’s growing leadership in traffic and transport technology\, road safety\, security\, parking management\, smart mobility\, and road construction\, the fair fosters innovation and collaboration. It serves as a platform to highlight cutting-edge mobility solutions\, facilitate the sharing of knowledge\, and create opportunities for meaningful interactions between mobility experts\, government departments\, and private organizations.
URL:https://www.aimglobal.org/event/traffic-infratech-expo-2025/
LOCATION:Bharat Mandapam\, New Delhi\, India\, Bharat Mandapam\, New Delhi\, India
ATTACH;FMTTYPE=image/png:https://www.aimglobal.org/wp-content/uploads/2025/10/Traffic-InfraTech-Expo-IDTECH-scaled.png
END:VEVENT
END:VCALENDAR