BEGIN:VCALENDAR
VERSION:2.0
PRODID:-//AIM Global - ECPv6.15.20//NONSGML v1.0//EN
CALSCALE:GREGORIAN
METHOD:PUBLISH
X-WR-CALNAME:AIM Global
X-ORIGINAL-URL:https://www.aimglobal.org
X-WR-CALDESC:Events for AIM Global
REFRESH-INTERVAL;VALUE=DURATION:PT1H
X-Robots-Tag:noindex
X-PUBLISHED-TTL:PT1H
BEGIN:VTIMEZONE
TZID:America/New_York
BEGIN:DAYLIGHT
TZOFFSETFROM:-0500
TZOFFSETTO:-0400
TZNAME:EDT
DTSTART:20240310T070000
END:DAYLIGHT
BEGIN:STANDARD
TZOFFSETFROM:-0400
TZOFFSETTO:-0500
TZNAME:EST
DTSTART:20241103T060000
END:STANDARD
BEGIN:DAYLIGHT
TZOFFSETFROM:-0500
TZOFFSETTO:-0400
TZNAME:EDT
DTSTART:20250309T070000
END:DAYLIGHT
BEGIN:STANDARD
TZOFFSETFROM:-0400
TZOFFSETTO:-0500
TZNAME:EST
DTSTART:20251102T060000
END:STANDARD
BEGIN:DAYLIGHT
TZOFFSETFROM:-0500
TZOFFSETTO:-0400
TZNAME:EDT
DTSTART:20260308T070000
END:DAYLIGHT
BEGIN:STANDARD
TZOFFSETFROM:-0400
TZOFFSETTO:-0500
TZNAME:EST
DTSTART:20261101T060000
END:STANDARD
END:VTIMEZONE
BEGIN:VEVENT
DTSTART;VALUE=DATE:20251013
DTEND;VALUE=DATE:20251018
DTSTAMP:20260420T165417
CREATED:20241227T140724Z
LAST-MODIFIED:20241227T140724Z
UID:987499297-1760313600-1760745599@www.aimglobal.org
SUMMARY:GITEX 2024
DESCRIPTION:Global Collaboration to Forge a Future AI Economy
URL:https://www.aimglobal.org/event/gitex-2024-2/
LOCATION:Dubai
ATTACH;FMTTYPE=image/jpeg:https://www.aimglobal.org/wp-content/uploads/2024/05/gitex.jpg
END:VEVENT
BEGIN:VEVENT
DTSTART;VALUE=DATE:20251013
DTEND;VALUE=DATE:20251018
DTSTAMP:20260420T165417
CREATED:20240509T165245Z
LAST-MODIFIED:20240509T165245Z
UID:987497182-1760385600-1760731199@www.aimglobal.org
SUMMARY:National Association of Convenience Stores Show
DESCRIPTION:Every year\, the NACS Show brings together convenience and fuel retailing industry professionals for four days of learning\, buying and selling\, networking and fun — all designed to help participants grow their bottom line.
URL:https://www.aimglobal.org/event/national-association-of-convenience-stores-show/
LOCATION:Chicago\, IL
ATTACH;FMTTYPE=image/jpeg:https://www.aimglobal.org/wp-content/uploads/2024/05/NACS-Show.jpg
END:VEVENT
BEGIN:VEVENT
DTSTART;VALUE=DATE:20251015
DTEND;VALUE=DATE:20251018
DTSTAMP:20260420T165417
CREATED:20250815T140549Z
LAST-MODIFIED:20250815T140549Z
UID:987501296-1760486400-1760745599@www.aimglobal.org
SUMMARY:LogiMAT Southeast Asia
DESCRIPTION:LogiMAT SEA and LogiFOOD SEA 2025 \n\n\nTwo Unparalleled Logistics Trade Shows in One Destination \n\n\nExperience Southeast Asia’s most comprehensive platform for intralogistics\, warehouse\, process management\, and food logistics industries under one roof
URL:https://www.aimglobal.org/event/logimat-southeast-asia/
LOCATION:Bangkok\, Thailand\, Bangkok\, Thailand
ATTACH;FMTTYPE=image/png:https://www.aimglobal.org/wp-content/uploads/2024/07/logimat-logo.png
END:VEVENT
END:VCALENDAR