BEGIN:VCALENDAR
VERSION:2.0
PRODID:-//AIM Global - ECPv6.15.20//NONSGML v1.0//EN
CALSCALE:GREGORIAN
METHOD:PUBLISH
X-ORIGINAL-URL:https://www.aimglobal.org
X-WR-CALDESC:Events for AIM Global
REFRESH-INTERVAL;VALUE=DURATION:PT1H
X-Robots-Tag:noindex
X-PUBLISHED-TTL:PT1H
BEGIN:VTIMEZONE
TZID:America/New_York
BEGIN:DAYLIGHT
TZOFFSETFROM:-0500
TZOFFSETTO:-0400
TZNAME:EDT
DTSTART:20240310T070000
END:DAYLIGHT
BEGIN:STANDARD
TZOFFSETFROM:-0400
TZOFFSETTO:-0500
TZNAME:EST
DTSTART:20241103T060000
END:STANDARD
BEGIN:DAYLIGHT
TZOFFSETFROM:-0500
TZOFFSETTO:-0400
TZNAME:EDT
DTSTART:20250309T070000
END:DAYLIGHT
BEGIN:STANDARD
TZOFFSETFROM:-0400
TZOFFSETTO:-0500
TZNAME:EST
DTSTART:20251102T060000
END:STANDARD
BEGIN:DAYLIGHT
TZOFFSETFROM:-0500
TZOFFSETTO:-0400
TZNAME:EDT
DTSTART:20260308T070000
END:DAYLIGHT
BEGIN:STANDARD
TZOFFSETFROM:-0400
TZOFFSETTO:-0500
TZNAME:EST
DTSTART:20261101T060000
END:STANDARD
END:VTIMEZONE
BEGIN:VEVENT
DTSTART;VALUE=DATE:20251020
DTEND;VALUE=DATE:20251024
DTSTAMP:20260420T195852
CREATED:20240509T220336Z
LAST-MODIFIED:20240509T220336Z
UID:987497408-1760990400-1761249599@www.aimglobal.org
SUMMARY:PACK EX Toronto
DESCRIPTION:This all-in-one\, industry-wide event lets you explore the latest trends and technologies shaping the future in advanced design and manufacturing across automation\, robotics\, energy efficiency\, packaging\, plastics\, processing and more to accelerate your business goals and grow your career.
URL:https://www.aimglobal.org/event/pack-ex-toronto/
LOCATION:Toronto Congress Centre\, Toronto\, Canada
ATTACH;FMTTYPE=image/png:https://www.aimglobal.org/wp-content/uploads/2024/05/Packexpotor.png
END:VEVENT
BEGIN:VEVENT
DTSTART;VALUE=DATE:20251021
DTEND;VALUE=DATE:20251023
DTSTAMP:20260420T195852
CREATED:20241227T141603Z
LAST-MODIFIED:20241227T141603Z
UID:987499299-1761004800-1761177599@www.aimglobal.org
SUMMARY:MD&M MinnPack
DESCRIPTION:The Midwest’s Largest Annual End-to-End Design and Manufacturing Event
URL:https://www.aimglobal.org/event/mdm-minnpack/
LOCATION:Minneapolis Convention Center
ATTACH;FMTTYPE=image/png:https://www.aimglobal.org/wp-content/uploads/2023/11/Minnpack.png
END:VEVENT
BEGIN:VEVENT
DTSTART;VALUE=DATE:20251021
DTEND;VALUE=DATE:20251024
DTSTAMP:20260420T195852
CREATED:20241227T142120Z
LAST-MODIFIED:20241227T142120Z
UID:987499301-1761004800-1761263999@www.aimglobal.org
SUMMARY:PACK EX Toronto
DESCRIPTION:Toronto’s End-to-End Design and Manufacturing Show Returns
URL:https://www.aimglobal.org/event/pack-ex-toronto-2/
LOCATION:Toronto Congress Centre\, Toronto\, Canada
ATTACH;FMTTYPE=image/png:https://www.aimglobal.org/wp-content/uploads/2023/11/ADM.png
END:VEVENT
BEGIN:VEVENT
DTSTART;TZID=America/New_York:20251021T123000
DTEND;TZID=America/New_York:20251022T163000
DTSTAMP:20260420T195852
CREATED:20250905T162528Z
LAST-MODIFIED:20250905T162528Z
UID:987501428-1761049800-1761150600@www.aimglobal.org
SUMMARY:reCONNECT: The Connected Future of the Food Industry Virtual Event
DESCRIPTION:The 8th Annual reCONNECT: The Connected Future of the Food Industry is Trustwell’s two-day virtual event designed for food safety\, quality\, regulatory\, and supply chain professionals. With daily\, live keynotes and a rich on-demand session library\, registrants will explore how technology\, strategy\, and cross-functional collaboration are transforming the way food and beverage brands improve (and maintain) food safety\, build supply chain resilience\, and meet evolving consumer and regulatory expectations.
URL:https://www.aimglobal.org/event/reconnect-the-connected-future-of-the-food-industry-virtual-event/
LOCATION:Virtual
ATTACH;FMTTYPE=image/png:https://www.aimglobal.org/wp-content/uploads/2024/05/Trustwelll_logo_2col_pos_RGB.png
END:VEVENT
BEGIN:VEVENT
DTSTART;VALUE=DATE:20251022
DTEND;VALUE=DATE:20251024
DTSTAMP:20260420T195852
CREATED:20241227T142243Z
LAST-MODIFIED:20241227T142243Z
UID:987499303-1761091200-1761263999@www.aimglobal.org
SUMMARY:Wireless IoT Tomorrow
DESCRIPTION:Wireless IoT Tomorrow is the must-attend trade show for everybody who wants to explore the world of digital transformation. This is your turn to unlock the benefits of Wireless IoT from October 22 to October 23\, 2025 in Wiesbaden\, Germany. The featured event offers comprehensive programs\, seminars\, special forums\, top panel discussions and speed labs.
URL:https://www.aimglobal.org/event/wireless-iot-tomorrow-2/
LOCATION:Wiesbaden\, Germany
ATTACH;FMTTYPE=image/png:https://www.aimglobal.org/wp-content/uploads/2023/11/WIOT.png
END:VEVENT
BEGIN:VEVENT
DTSTART;VALUE=DATE:20251022
DTEND;VALUE=DATE:20251025
DTSTAMP:20260420T195852
CREATED:20241227T142921Z
LAST-MODIFIED:20241227T142921Z
UID:987499305-1761091200-1761350399@www.aimglobal.org
SUMMARY:Printing United Expo
DESCRIPTION:The most dynamic and comprehensive printing event in the world.
URL:https://www.aimglobal.org/event/printing-united-expo/
LOCATION:Orlando\, Florida\, Orlando\, FL\, United States
ATTACH;FMTTYPE=image/jpeg:https://www.aimglobal.org/wp-content/uploads/2024/05/cropped-printing_united_expo_horiz_cmyk-6.2.jpg
END:VEVENT
END:VCALENDAR