BEGIN:VCALENDAR
VERSION:2.0
PRODID:-//AIM Global - ECPv6.15.20//NONSGML v1.0//EN
CALSCALE:GREGORIAN
METHOD:PUBLISH
X-ORIGINAL-URL:https://www.aimglobal.org
X-WR-CALDESC:Events for AIM Global
REFRESH-INTERVAL;VALUE=DURATION:PT1H
X-Robots-Tag:noindex
X-PUBLISHED-TTL:PT1H
BEGIN:VTIMEZONE
TZID:America/New_York
BEGIN:DAYLIGHT
TZOFFSETFROM:-0500
TZOFFSETTO:-0400
TZNAME:EDT
DTSTART:20240310T070000
END:DAYLIGHT
BEGIN:STANDARD
TZOFFSETFROM:-0400
TZOFFSETTO:-0500
TZNAME:EST
DTSTART:20241103T060000
END:STANDARD
BEGIN:DAYLIGHT
TZOFFSETFROM:-0500
TZOFFSETTO:-0400
TZNAME:EDT
DTSTART:20250309T070000
END:DAYLIGHT
BEGIN:STANDARD
TZOFFSETFROM:-0400
TZOFFSETTO:-0500
TZNAME:EST
DTSTART:20251102T060000
END:STANDARD
BEGIN:DAYLIGHT
TZOFFSETFROM:-0500
TZOFFSETTO:-0400
TZNAME:EDT
DTSTART:20260308T070000
END:DAYLIGHT
BEGIN:STANDARD
TZOFFSETFROM:-0400
TZOFFSETTO:-0500
TZNAME:EST
DTSTART:20261101T060000
END:STANDARD
END:VTIMEZONE
BEGIN:VEVENT
DTSTART;VALUE=DATE:20251029
DTEND;VALUE=DATE:20251101
DTSTAMP:20260421T021138
CREATED:20241217T185443Z
LAST-MODIFIED:20241217T185639Z
UID:987499112-1761696000-1761955199@www.aimglobal.org
SUMMARY:Transport Logistics Southeast Asia
DESCRIPTION:The Most Influential Meeting Place for Logistics\, Mobility\, IT and Supply Chain Management in Southeast Asia.
URL:https://www.aimglobal.org/event/transport-logistics-southeast-asia/
LOCATION:Singapore
ATTACH;FMTTYPE=image/png:https://www.aimglobal.org/wp-content/uploads/2024/12/transport-logistic.png
END:VEVENT
BEGIN:VEVENT
DTSTART;TZID=America/New_York:20251029T140000
DTEND;TZID=America/New_York:20251029T150000
DTSTAMP:20260421T021138
CREATED:20251020T174724Z
LAST-MODIFIED:20251020T174724Z
UID:987501560-1761746400-1761750000@www.aimglobal.org
SUMMARY:IUID Compliance Webinar
DESCRIPTION:Compliance to Military IUID regulations is critical for Government contractors today. Maintaining asset accountability with proper identification\, labeling and reporting has never been more important. \nUnderstanding the details of DFARS 252.245-7005 along with MIL-STD-130 is key for the success of your program. Learn how to properly identify\, mark and report government assets efficiently. \nDan Faria\, A2B Tracking’s IUID Specialist\, will explain the key elements that you need to follow in order to meet MIL-STD-130 regulations and be able to pass that inevitable DCMA property audit. Dan will be taking questions to help you get your IUID program up to speed. \nYou’ll learn: \n\nThe specific data needed to create a conforming MIL-STD-130 label\nThe difference between Construct 1 and Construct 2\nBest practices for Verification and Validation\nThe critical data elements that need to be reported to the IUID Registry\nHow to streamline this process
URL:https://www.aimglobal.org/event/iuid-compliance-webinar/
LOCATION:Virtual
ATTACH;FMTTYPE=image/jpeg:https://www.aimglobal.org/wp-content/uploads/2025/10/1760538061036.jpg
END:VEVENT
END:VCALENDAR