BEGIN:VCALENDAR
VERSION:2.0
PRODID:-//AIM Global - ECPv6.15.20//NONSGML v1.0//EN
CALSCALE:GREGORIAN
METHOD:PUBLISH
X-ORIGINAL-URL:https://www.aimglobal.org
X-WR-CALDESC:Events for AIM Global
REFRESH-INTERVAL;VALUE=DURATION:PT1H
X-Robots-Tag:noindex
X-PUBLISHED-TTL:PT1H
BEGIN:VTIMEZONE
TZID:America/New_York
BEGIN:DAYLIGHT
TZOFFSETFROM:-0500
TZOFFSETTO:-0400
TZNAME:EDT
DTSTART:20240310T070000
END:DAYLIGHT
BEGIN:STANDARD
TZOFFSETFROM:-0400
TZOFFSETTO:-0500
TZNAME:EST
DTSTART:20241103T060000
END:STANDARD
BEGIN:DAYLIGHT
TZOFFSETFROM:-0500
TZOFFSETTO:-0400
TZNAME:EDT
DTSTART:20250309T070000
END:DAYLIGHT
BEGIN:STANDARD
TZOFFSETFROM:-0400
TZOFFSETTO:-0500
TZNAME:EST
DTSTART:20251102T060000
END:STANDARD
BEGIN:DAYLIGHT
TZOFFSETFROM:-0500
TZOFFSETTO:-0400
TZNAME:EDT
DTSTART:20260308T070000
END:DAYLIGHT
BEGIN:STANDARD
TZOFFSETFROM:-0400
TZOFFSETTO:-0500
TZNAME:EST
DTSTART:20261101T060000
END:STANDARD
END:VTIMEZONE
BEGIN:VEVENT
DTSTART;VALUE=DATE:20251118
DTEND;VALUE=DATE:20251121
DTSTAMP:20260420T150739
CREATED:20241227T170634Z
LAST-MODIFIED:20241227T170634Z
UID:987499329-1763424000-1763683199@www.aimglobal.org
SUMMARY:Enlit Europe
DESCRIPTION:
URL:https://www.aimglobal.org/event/enlit-europe-2/
LOCATION:Bilbao\, Spain\, Bilbao\, Spain
ATTACH;FMTTYPE=image/png:https://www.aimglobal.org/wp-content/uploads/2024/05/enlit-europe.png
END:VEVENT
BEGIN:VEVENT
DTSTART;VALUE=DATE:20251119
DTEND;VALUE=DATE:20251121
DTSTAMP:20260420T150739
CREATED:20241227T171413Z
LAST-MODIFIED:20241227T171413Z
UID:987499332-1763510400-1763683199@www.aimglobal.org
SUMMARY:BIOMEDevice Silicon Valley
DESCRIPTION:Discover the Future of Medical Device Technology at MEDevice
URL:https://www.aimglobal.org/event/biomedevice-silicon-valley-2/
LOCATION:Silicone Valley\, CA\, Silicone Valley\, CA\, United States
ATTACH;FMTTYPE=image/png:https://www.aimglobal.org/wp-content/uploads/2024/12/png.png
END:VEVENT
BEGIN:VEVENT
DTSTART;TZID=America/New_York:20251120T120000
DTEND;TZID=America/New_York:20251120T130000
DTSTAMP:20260420T150739
CREATED:20251110T144355Z
LAST-MODIFIED:20251110T144355Z
UID:987501671-1763640000-1763643600@www.aimglobal.org
SUMMARY:Building Reliable Asset Intelligence Webinar
DESCRIPTION:This presentation highlights the collaboration between Tego and Metalcraft to deliver a powerful asset tracking solution for the aerospace and defense industry. By combining Metalcraft’s durable RFID identification products with Tego’s intelligent data management technology\, the partnership enables end-to-end visibility of high-value tools and equipment. Attendees will learn how this integrated solution improves efficiency\, reduces downtime\, and enhances accountability in mission-critical environments.
URL:https://www.aimglobal.org/event/building-reliable-asset-intelligence-webinar/
LOCATION:Virtual
ATTACH;FMTTYPE=image/png:https://www.aimglobal.org/wp-content/uploads/2025/11/Waiting-Room-Webinar-Metalcraft-Tego.png
END:VEVENT
BEGIN:VEVENT
DTSTART;TZID=America/New_York:20251120T130000
DTEND;TZID=America/New_York:20251120T140000
DTSTAMP:20260420T150739
CREATED:20251031T135303Z
LAST-MODIFIED:20251031T135303Z
UID:987501638-1763643600-1763647200@www.aimglobal.org
SUMMARY:Rethinking Device Design: Where Data and Compliance Align
DESCRIPTION:In today’s connected medical device ecosystem\, data\, traceability and compliance are no longer separate disciplines — they’re converging imperatives that must be addressed from the very start of design. Yet many development teams still approach serialization\, labeling and life cycle data capture as afterthoughts\, leading to costly redesigns and approval delays. \nThis webinar brings together experts in FDA regulatory strategy and RFID-enabled device intelligence to explore how early integration of identification and data systems builds compliance into the foundation of product design. Participants will gain a practical understanding of how to bridge R&D\, regulatory and operational priorities to improve device performance and market readiness.
URL:https://www.aimglobal.org/event/rethinking-device-design-where-data-and-compliance-align/
LOCATION:Virtual
ATTACH;FMTTYPE=image/jpeg:https://www.aimglobal.org/wp-content/uploads/2025/10/1761750076209.jpg
END:VEVENT
END:VCALENDAR