BEGIN:VCALENDAR
VERSION:2.0
PRODID:-//AIM Global - ECPv6.15.20//NONSGML v1.0//EN
CALSCALE:GREGORIAN
METHOD:PUBLISH
X-WR-CALNAME:AIM Global
X-ORIGINAL-URL:https://www.aimglobal.org
X-WR-CALDESC:Events for AIM Global
REFRESH-INTERVAL;VALUE=DURATION:PT1H
X-Robots-Tag:noindex
X-PUBLISHED-TTL:PT1H
BEGIN:VTIMEZONE
TZID:America/New_York
BEGIN:DAYLIGHT
TZOFFSETFROM:-0500
TZOFFSETTO:-0400
TZNAME:EDT
DTSTART:20240310T070000
END:DAYLIGHT
BEGIN:STANDARD
TZOFFSETFROM:-0400
TZOFFSETTO:-0500
TZNAME:EST
DTSTART:20241103T060000
END:STANDARD
BEGIN:DAYLIGHT
TZOFFSETFROM:-0500
TZOFFSETTO:-0400
TZNAME:EDT
DTSTART:20250309T070000
END:DAYLIGHT
BEGIN:STANDARD
TZOFFSETFROM:-0400
TZOFFSETTO:-0500
TZNAME:EST
DTSTART:20251102T060000
END:STANDARD
BEGIN:DAYLIGHT
TZOFFSETFROM:-0500
TZOFFSETTO:-0400
TZNAME:EDT
DTSTART:20260308T070000
END:DAYLIGHT
BEGIN:STANDARD
TZOFFSETFROM:-0400
TZOFFSETTO:-0500
TZNAME:EST
DTSTART:20261101T060000
END:STANDARD
END:VTIMEZONE
BEGIN:VEVENT
DTSTART;VALUE=DATE:20251202
DTEND;VALUE=DATE:20251206
DTSTAMP:20260420T160603
CREATED:20241227T172504Z
LAST-MODIFIED:20241227T172504Z
UID:987499341-1764633600-1764979199@www.aimglobal.org
SUMMARY:Labelexpo Asia
DESCRIPTION:
URL:https://www.aimglobal.org/event/labelexpo-asia-2/
LOCATION:Shanghai\, China
ATTACH;FMTTYPE=image/png:https://www.aimglobal.org/wp-content/uploads/2024/12/Untitled-design-14.png
END:VEVENT
BEGIN:VEVENT
DTSTART;TZID=America/New_York:20251204T100000
DTEND;TZID=America/New_York:20251204T110000
DTSTAMP:20260420T160603
CREATED:20251110T145500Z
LAST-MODIFIED:20251110T145500Z
UID:987501680-1764842400-1764846000@www.aimglobal.org
SUMMARY:Unlocking Industrial Digitalization with RFID and BLE Solutions Webinar
DESCRIPTION:In this session\, we will explore through real use cases how Beontag’s cutting edge RFID and BLE solutions are transforming industrial operations\, from asset tracking to supply chain. Discover our product portfolio specifically engineered for durability and performance in harsh environments\, enabling reliable operations and digital transformation across industries. Whether you’re looking to improve operational efficiency\, ensure traceability\, or enable smarter workflows\, this session will offer practical insights into the power of industrial-grade RFID and BLE.
URL:https://www.aimglobal.org/event/unlocking-industrial-digitalization-with-rfid-and-ble-solutions-webinar/
LOCATION:TX
ATTACH;FMTTYPE=image/png:https://www.aimglobal.org/wp-content/uploads/2025/11/Unlocking-Industrial-Digitalization-with-RFID-and-BLE-Solutions.png
END:VEVENT
END:VCALENDAR