BEGIN:VCALENDAR
VERSION:2.0
PRODID:-//AIM Global - ECPv6.15.20//NONSGML v1.0//EN
CALSCALE:GREGORIAN
METHOD:PUBLISH
X-WR-CALNAME:AIM Global
X-ORIGINAL-URL:https://www.aimglobal.org
X-WR-CALDESC:Events for AIM Global
REFRESH-INTERVAL;VALUE=DURATION:PT1H
X-Robots-Tag:noindex
X-PUBLISHED-TTL:PT1H
BEGIN:VTIMEZONE
TZID:America/New_York
BEGIN:DAYLIGHT
TZOFFSETFROM:-0500
TZOFFSETTO:-0400
TZNAME:EDT
DTSTART:20240310T070000
END:DAYLIGHT
BEGIN:STANDARD
TZOFFSETFROM:-0400
TZOFFSETTO:-0500
TZNAME:EST
DTSTART:20241103T060000
END:STANDARD
BEGIN:DAYLIGHT
TZOFFSETFROM:-0500
TZOFFSETTO:-0400
TZNAME:EDT
DTSTART:20250309T070000
END:DAYLIGHT
BEGIN:STANDARD
TZOFFSETFROM:-0400
TZOFFSETTO:-0500
TZNAME:EST
DTSTART:20251102T060000
END:STANDARD
BEGIN:DAYLIGHT
TZOFFSETFROM:-0500
TZOFFSETTO:-0400
TZNAME:EDT
DTSTART:20260308T070000
END:DAYLIGHT
BEGIN:STANDARD
TZOFFSETFROM:-0400
TZOFFSETTO:-0500
TZNAME:EST
DTSTART:20261101T060000
END:STANDARD
END:VTIMEZONE
BEGIN:VEVENT
DTSTART;VALUE=DATE:20251211
DTEND;VALUE=DATE:20251214
DTSTAMP:20260420T223955
CREATED:20251203T212810Z
LAST-MODIFIED:20251203T212810Z
UID:987501744-1765411200-1765670399@www.aimglobal.org
SUMMARY:IFSEC India 2025
DESCRIPTION:Guided by the theme “Shaping Nations\, Securing Futures – IFSEC Delivers The Platform To Make It Happen\,” this flagship event continues to set benchmarks in the security industry. Bringing together global security experts\, industry leaders\, and decision-makers\, IFSEC India is the ultimate platform for innovation\, collaboration\, and growth.
URL:https://www.aimglobal.org/event/ifsec-india-2025/
LOCATION:Bharat Mandapam\, New Delhi\, India\, Bharat Mandapam\, New Delhi\, India
ATTACH;FMTTYPE=image/png:https://www.aimglobal.org/wp-content/uploads/2025/12/IFSEC-POST.png
END:VEVENT
END:VCALENDAR