BEGIN:VCALENDAR
VERSION:2.0
PRODID:-//AIM Global - ECPv6.15.20//NONSGML v1.0//EN
CALSCALE:GREGORIAN
METHOD:PUBLISH
X-WR-CALNAME:AIM Global
X-ORIGINAL-URL:https://www.aimglobal.org
X-WR-CALDESC:Events for AIM Global
REFRESH-INTERVAL;VALUE=DURATION:PT1H
X-Robots-Tag:noindex
X-PUBLISHED-TTL:PT1H
BEGIN:VTIMEZONE
TZID:America/New_York
BEGIN:DAYLIGHT
TZOFFSETFROM:-0500
TZOFFSETTO:-0400
TZNAME:EDT
DTSTART:20240310T070000
END:DAYLIGHT
BEGIN:STANDARD
TZOFFSETFROM:-0400
TZOFFSETTO:-0500
TZNAME:EST
DTSTART:20241103T060000
END:STANDARD
BEGIN:DAYLIGHT
TZOFFSETFROM:-0500
TZOFFSETTO:-0400
TZNAME:EDT
DTSTART:20250309T070000
END:DAYLIGHT
BEGIN:STANDARD
TZOFFSETFROM:-0400
TZOFFSETTO:-0500
TZNAME:EST
DTSTART:20251102T060000
END:STANDARD
BEGIN:DAYLIGHT
TZOFFSETFROM:-0500
TZOFFSETTO:-0400
TZNAME:EDT
DTSTART:20260308T070000
END:DAYLIGHT
BEGIN:STANDARD
TZOFFSETFROM:-0400
TZOFFSETTO:-0500
TZNAME:EST
DTSTART:20261101T060000
END:STANDARD
END:VTIMEZONE
BEGIN:VEVENT
DTSTART;TZID=America/New_York:20251216T160000
DTEND;TZID=America/New_York:20251216T170000
DTSTAMP:20260421T025903
CREATED:20251204T135620Z
LAST-MODIFIED:20251204T202310Z
UID:987501753-1765900800-1765904400@www.aimglobal.org
SUMMARY:AIM Young Professionals Town Hall
DESCRIPTION:AIM is excited to present an exclusive fireside-style conversation with two of the most influential minds in the AIDC industry: Dr. Clive Hohberger and Sprague Ackley as part of our Young Professionals Mastermind Group. This informal Happy Hour session brings together innovators who helped shape the technologies we rely on every day like barcode symbologies\, RFID advancements\, labeling standards\, and end-to-end traceability systems. \nAttendees will gain firsthand insight into: \n\nHow these industry legends built their careers\nKey moments that shaped the trajectory of barcoding and RFID\nLessons learned from decades of standardization and global impact\nEmerging trends that future leaders should prepare for\n Practical advice on navigating a career in AIDC\, standards work\, product engineering\, and innovation\n\nWhether you are early in your career or exploring new opportunities in AIDC\, this session offers invaluable wisdom from two pioneers who helped define the modern automatic identification landscape.
URL:https://www.aimglobal.org/event/aim-young-professionals-town-hall/
LOCATION:Virtual
ATTACH;FMTTYPE=image/jpeg:https://www.aimglobal.org/wp-content/uploads/2025/12/Young-Professionals-Happy-Hour-Social-Media-Image.jpg
END:VEVENT
END:VCALENDAR