BEGIN:VCALENDAR
VERSION:2.0
PRODID:-//AIM Global - ECPv6.15.20//NONSGML v1.0//EN
CALSCALE:GREGORIAN
METHOD:PUBLISH
X-WR-CALNAME:AIM Global
X-ORIGINAL-URL:https://www.aimglobal.org
X-WR-CALDESC:Events for AIM Global
REFRESH-INTERVAL;VALUE=DURATION:PT1H
X-Robots-Tag:noindex
X-PUBLISHED-TTL:PT1H
BEGIN:VTIMEZONE
TZID:America/New_York
BEGIN:DAYLIGHT
TZOFFSETFROM:-0500
TZOFFSETTO:-0400
TZNAME:EDT
DTSTART:20250309T070000
END:DAYLIGHT
BEGIN:STANDARD
TZOFFSETFROM:-0400
TZOFFSETTO:-0500
TZNAME:EST
DTSTART:20251102T060000
END:STANDARD
BEGIN:DAYLIGHT
TZOFFSETFROM:-0500
TZOFFSETTO:-0400
TZNAME:EDT
DTSTART:20260308T070000
END:DAYLIGHT
BEGIN:STANDARD
TZOFFSETFROM:-0400
TZOFFSETTO:-0500
TZNAME:EST
DTSTART:20261101T060000
END:STANDARD
BEGIN:DAYLIGHT
TZOFFSETFROM:-0500
TZOFFSETTO:-0400
TZNAME:EDT
DTSTART:20270314T070000
END:DAYLIGHT
BEGIN:STANDARD
TZOFFSETFROM:-0400
TZOFFSETTO:-0500
TZNAME:EST
DTSTART:20271107T060000
END:STANDARD
END:VTIMEZONE
BEGIN:VEVENT
DTSTART;VALUE=DATE:20260111
DTEND;VALUE=DATE:20260114
DTSTAMP:20260420T121358
CREATED:20260109T165654Z
LAST-MODIFIED:20260109T165654Z
UID:987502019-1768089600-1768348799@www.aimglobal.org
SUMMARY:NRF '26: Retails Big Show
DESCRIPTION:The simple buyer and seller relationship is over. But untapped potential for retailers? That’s just beginning! A diverse and growing global value chain means consumer behavior is constantly changing from one moment to the next. Are you ready for The Next Now? \nPriceless connections. Practical education. Futuristic solutions. Everything you need now — and next — is right here at NRF 2026: Retail’s Big Show.
URL:https://www.aimglobal.org/event/nrf-26-retails-big-show/
LOCATION:Jacob K. Javits Convention Center\, New York\, New York
ATTACH;FMTTYPE=image/jpeg:https://www.aimglobal.org/wp-content/uploads/2026/01/NRF-26-logo.jpg
END:VEVENT
END:VCALENDAR