BEGIN:VCALENDAR
VERSION:2.0
PRODID:-//AIM Global - ECPv6.15.20//NONSGML v1.0//EN
CALSCALE:GREGORIAN
METHOD:PUBLISH
X-ORIGINAL-URL:https://www.aimglobal.org
X-WR-CALDESC:Events for AIM Global
REFRESH-INTERVAL;VALUE=DURATION:PT1H
X-Robots-Tag:noindex
X-PUBLISHED-TTL:PT1H
BEGIN:VTIMEZONE
TZID:America/New_York
BEGIN:DAYLIGHT
TZOFFSETFROM:-0500
TZOFFSETTO:-0400
TZNAME:EDT
DTSTART:20250309T070000
END:DAYLIGHT
BEGIN:STANDARD
TZOFFSETFROM:-0400
TZOFFSETTO:-0500
TZNAME:EST
DTSTART:20251102T060000
END:STANDARD
BEGIN:DAYLIGHT
TZOFFSETFROM:-0500
TZOFFSETTO:-0400
TZNAME:EDT
DTSTART:20260308T070000
END:DAYLIGHT
BEGIN:STANDARD
TZOFFSETFROM:-0400
TZOFFSETTO:-0500
TZNAME:EST
DTSTART:20261101T060000
END:STANDARD
BEGIN:DAYLIGHT
TZOFFSETFROM:-0500
TZOFFSETTO:-0400
TZNAME:EDT
DTSTART:20270314T070000
END:DAYLIGHT
BEGIN:STANDARD
TZOFFSETFROM:-0400
TZOFFSETTO:-0500
TZNAME:EST
DTSTART:20271107T060000
END:STANDARD
END:VTIMEZONE
BEGIN:VEVENT
DTSTART;TZID=America/New_York:20260128T130000
DTEND;TZID=America/New_York:20260128T140000
DTSTAMP:20260421T045731
CREATED:20260106T140257Z
LAST-MODIFIED:20260106T140257Z
UID:987501944-1769605200-1769608800@www.aimglobal.org
SUMMARY:Enhanced Property Management for Costpoint Webinar
DESCRIPTION:Government contractors face tough audits and can’t afford to have gaps in their compliance. Manual spreadsheets and outdated inventory processes are no longer adequate. \nJoin us for a focused executive session on how integrating Deltek Costpoint + A2B Tracking delivers stronger internal controls\, automated reporting to government systems (like PIEE\, WAWF\, GFP Module)\, and provides real-time asset accountability that stands up to audit scrutiny. \nIn this session\, you’ll learn how to:\n– Strengthen accuracy in inventory and government property records\n– Apply modern Barcode and RFID best practices\n– Automate property reporting directly into government systems\n– Use Costpoint + A2B to achieve end-to-end audit readiness \nReduce Risk. Improve efficiency. \nDon’t miss this opportunity to get ahead of your next audit. Modernize your property management processes and protect your organization from avoidable findings.
URL:https://www.aimglobal.org/event/enhanced-property-management-for-costpoint-webinar/
LOCATION:Virtual
ATTACH;FMTTYPE=image/jpeg:https://www.aimglobal.org/wp-content/uploads/2026/01/1766088173055.jpg
END:VEVENT
END:VCALENDAR