BEGIN:VCALENDAR
VERSION:2.0
PRODID:-//AIM Global - ECPv6.15.20//NONSGML v1.0//EN
CALSCALE:GREGORIAN
METHOD:PUBLISH
X-ORIGINAL-URL:https://www.aimglobal.org
X-WR-CALDESC:Events for AIM Global
REFRESH-INTERVAL;VALUE=DURATION:PT1H
X-Robots-Tag:noindex
X-PUBLISHED-TTL:PT1H
BEGIN:VTIMEZONE
TZID:America/New_York
BEGIN:DAYLIGHT
TZOFFSETFROM:-0500
TZOFFSETTO:-0400
TZNAME:EDT
DTSTART:20250309T070000
END:DAYLIGHT
BEGIN:STANDARD
TZOFFSETFROM:-0400
TZOFFSETTO:-0500
TZNAME:EST
DTSTART:20251102T060000
END:STANDARD
BEGIN:DAYLIGHT
TZOFFSETFROM:-0500
TZOFFSETTO:-0400
TZNAME:EDT
DTSTART:20260308T070000
END:DAYLIGHT
BEGIN:STANDARD
TZOFFSETFROM:-0400
TZOFFSETTO:-0500
TZNAME:EST
DTSTART:20261101T060000
END:STANDARD
BEGIN:DAYLIGHT
TZOFFSETFROM:-0500
TZOFFSETTO:-0400
TZNAME:EDT
DTSTART:20270314T070000
END:DAYLIGHT
BEGIN:STANDARD
TZOFFSETFROM:-0400
TZOFFSETTO:-0500
TZNAME:EST
DTSTART:20271107T060000
END:STANDARD
END:VTIMEZONE
BEGIN:VEVENT
DTSTART;VALUE=DATE:20260203
DTEND;VALUE=DATE:20260206
DTSTAMP:20260420T154728
CREATED:20260112T190503Z
LAST-MODIFIED:20260112T190503Z
UID:987502068-1770076800-1770335999@www.aimglobal.org
SUMMARY:MD&M West
DESCRIPTION:MD&M West connects you with 1\,700+ manufacturing suppliers\, cutting-edge technologies\, and industry experts in one powerful three-day event. Whether you’re sourcing new materials\, evaluating manufacturing partners\, or discovering breakthrough innovations\, this is where manufacturing leaders come to build their competitive advantage and accelerate their success.
URL:https://www.aimglobal.org/event/mdm-west/
LOCATION:Anaheim Convention Center\, CA
ATTACH;FMTTYPE=image/png:https://www.aimglobal.org/wp-content/uploads/2026/01/1725525410590.png
END:VEVENT
BEGIN:VEVENT
DTSTART;VALUE=DATE:20260204
DTEND;VALUE=DATE:20260206
DTSTAMP:20260420T154728
CREATED:20260112T192121Z
LAST-MODIFIED:20260112T192121Z
UID:987502074-1770163200-1770335999@www.aimglobal.org
SUMMARY:IoT Tech Expo Global
DESCRIPTION:IoT Tech Expo is the leading event for IoT\, Digital Twins & Enterprise Transformation\, Embedded Systems\, IoT Security IoT Connectivity & Connected Devices\, Smart Infrastructures & Automation\, Data & Analytics and Edge Platforms.
URL:https://www.aimglobal.org/event/iot-tech-expo-global-2/
LOCATION:Olympia London
ATTACH;FMTTYPE=image/png:https://www.aimglobal.org/wp-content/uploads/2024/05/iottechecpo.png
END:VEVENT
END:VCALENDAR