BEGIN:VCALENDAR
VERSION:2.0
PRODID:-//AIM Global - ECPv6.15.20//NONSGML v1.0//EN
CALSCALE:GREGORIAN
METHOD:PUBLISH
X-ORIGINAL-URL:https://www.aimglobal.org
X-WR-CALDESC:Events for AIM Global
REFRESH-INTERVAL;VALUE=DURATION:PT1H
X-Robots-Tag:noindex
X-PUBLISHED-TTL:PT1H
BEGIN:VTIMEZONE
TZID:America/New_York
BEGIN:DAYLIGHT
TZOFFSETFROM:-0500
TZOFFSETTO:-0400
TZNAME:EDT
DTSTART:20250309T070000
END:DAYLIGHT
BEGIN:STANDARD
TZOFFSETFROM:-0400
TZOFFSETTO:-0500
TZNAME:EST
DTSTART:20251102T060000
END:STANDARD
BEGIN:DAYLIGHT
TZOFFSETFROM:-0500
TZOFFSETTO:-0400
TZNAME:EDT
DTSTART:20260308T070000
END:DAYLIGHT
BEGIN:STANDARD
TZOFFSETFROM:-0400
TZOFFSETTO:-0500
TZNAME:EST
DTSTART:20261101T060000
END:STANDARD
BEGIN:DAYLIGHT
TZOFFSETFROM:-0500
TZOFFSETTO:-0400
TZNAME:EDT
DTSTART:20270314T070000
END:DAYLIGHT
BEGIN:STANDARD
TZOFFSETFROM:-0400
TZOFFSETTO:-0500
TZNAME:EST
DTSTART:20271107T060000
END:STANDARD
END:VTIMEZONE
BEGIN:VEVENT
DTSTART;VALUE=DATE:20260209
DTEND;VALUE=DATE:20260212
DTSTAMP:20260420T225729
CREATED:20260109T170015Z
LAST-MODIFIED:20260109T170251Z
UID:987502022-1770595200-1770854399@www.aimglobal.org
SUMMARY:Manifest 2026
DESCRIPTION:The Global Destination for Supply Chain and Logistics Innovation \nJoin us February 9th – 11th\, 2026 in Las Vegas for the premiere gathering that unites the entire eco-system of Fortune 500 global supply chain executives\, logistics service providers\, innovators and investors at the forefront of logistics tech and end-to-end supply chain. Experience unprecedented access to the people and technologies changing the way the world moves.
URL:https://www.aimglobal.org/event/manifest-2026/
LOCATION:The Venetian\, 3355 Las Vegas Blvd\, Las Vegas\, Nevada\, United States
ATTACH;FMTTYPE=image/jpeg:https://www.aimglobal.org/wp-content/uploads/2024/07/manifest.jpg
END:VEVENT
END:VCALENDAR