BEGIN:VCALENDAR
VERSION:2.0
PRODID:-//AIM Global - ECPv6.15.20//NONSGML v1.0//EN
CALSCALE:GREGORIAN
METHOD:PUBLISH
X-WR-CALNAME:AIM Global
X-ORIGINAL-URL:https://www.aimglobal.org
X-WR-CALDESC:Events for AIM Global
REFRESH-INTERVAL;VALUE=DURATION:PT1H
X-Robots-Tag:noindex
X-PUBLISHED-TTL:PT1H
BEGIN:VTIMEZONE
TZID:America/New_York
BEGIN:DAYLIGHT
TZOFFSETFROM:-0500
TZOFFSETTO:-0400
TZNAME:EDT
DTSTART:20250309T070000
END:DAYLIGHT
BEGIN:STANDARD
TZOFFSETFROM:-0400
TZOFFSETTO:-0500
TZNAME:EST
DTSTART:20251102T060000
END:STANDARD
BEGIN:DAYLIGHT
TZOFFSETFROM:-0500
TZOFFSETTO:-0400
TZNAME:EDT
DTSTART:20260308T070000
END:DAYLIGHT
BEGIN:STANDARD
TZOFFSETFROM:-0400
TZOFFSETTO:-0500
TZNAME:EST
DTSTART:20261101T060000
END:STANDARD
BEGIN:DAYLIGHT
TZOFFSETFROM:-0500
TZOFFSETTO:-0400
TZNAME:EDT
DTSTART:20270314T070000
END:DAYLIGHT
BEGIN:STANDARD
TZOFFSETFROM:-0400
TZOFFSETTO:-0500
TZNAME:EST
DTSTART:20271107T060000
END:STANDARD
END:VTIMEZONE
BEGIN:VEVENT
DTSTART;VALUE=DATE:20260216
DTEND;VALUE=DATE:20260220
DTSTAMP:20260421T082756
CREATED:20240509T193640Z
LAST-MODIFIED:20241206T145657Z
UID:987497319-1771268400-1771527599@www.aimglobal.org
SUMMARY:The Floral Conference
DESCRIPTION:Two coasts\, one floral experience. Instead of two Floral Conferences\, breeders\, buyers and attendees from all over the world are convening in Miami for a united floral event. Featuring expanded networking opportunities\, enriched collaborative workshop options\, and top breeders\, this will be a Floral Conference like no other.
URL:https://www.aimglobal.org/event/packexpo-east/
LOCATION:Miami\, Florida\, Miami\, Florida
ATTACH;FMTTYPE=image/jpeg:https://www.aimglobal.org/wp-content/uploads/2024/05/floral-conference.jpg
END:VEVENT
BEGIN:VEVENT
DTSTART;VALUE=DATE:20260217
DTEND;VALUE=DATE:20260220
DTSTAMP:20260421T082756
CREATED:20241206T145849Z
LAST-MODIFIED:20241206T145849Z
UID:987498858-1771286400-1771545599@www.aimglobal.org
SUMMARY:PackExpo East
DESCRIPTION:PACK EXPO East is a biennial packaging and processing industry trade show. The show provides a unique opportunity for consumer-packaged goods (CPG) and life science companies located on the East Coast to connect with top packaging and processing suppliers and to experience the latest technologies in person.
URL:https://www.aimglobal.org/event/packexpo-east-2/
LOCATION:Philadelphia\, PA\, Philadelphia\, PA
ATTACH;FMTTYPE=image/png:https://www.aimglobal.org/wp-content/uploads/2023/11/Pack-East-Logo-1-e1700669262759.png
END:VEVENT
BEGIN:VEVENT
DTSTART;TZID=America/New_York:20260219T100000
DTEND;TZID=America/New_York:20260219T110000
DTSTAMP:20260421T082756
CREATED:20260209T132310Z
LAST-MODIFIED:20260209T132310Z
UID:987502324-1771495200-1771498800@www.aimglobal.org
SUMMARY:EV Charging and RFID: Integrated Mobility Solutions for 2026
DESCRIPTION:Join Beontag and NXP Semiconductors for an exclusive webinar exploring how RFID-powered solutions (such as Beontag’s Bio Paper Card powered by NXP MIFARE DUOX) address today’s real-world EV charging challenges.
URL:https://www.aimglobal.org/event/ev-charging-and-rfid-integrated-mobility-solutions-for-2026/
LOCATION:Virtual
ATTACH;FMTTYPE=image/jpeg:https://www.aimglobal.org/wp-content/uploads/2026/02/beontag.jpg
END:VEVENT
BEGIN:VEVENT
DTSTART;TZID=America/New_York:20260219T150000
DTEND;TZID=America/New_York:20260219T190000
DTSTAMP:20260421T082756
CREATED:20260205T185143Z
LAST-MODIFIED:20260205T185217Z
UID:987502305-1771513200-1771527600@www.aimglobal.org
SUMMARY:Vision on Tap - Wasau\, Wisconsin
DESCRIPTION:Whether you’re just starting your journey in machine vision or you’re a seasoned veteran\, this event offers a welcoming space for all levels of expertise to come together\, get your questions answered and explore solutions to help improve the productivity of your facility.
URL:https://www.aimglobal.org/event/vision-on-tap-wasau-wisconsin/
LOCATION:Bull Falls Brewing Company\, 905 E Thomas St\, Wausau\, Wisconsin\, United States
ATTACH;FMTTYPE=image/png:https://www.aimglobal.org/wp-content/uploads/2026/02/Untitled-design-45.png
END:VEVENT
END:VCALENDAR