BEGIN:VCALENDAR
VERSION:2.0
PRODID:-//AIM Global - ECPv6.15.20//NONSGML v1.0//EN
CALSCALE:GREGORIAN
METHOD:PUBLISH
X-WR-CALNAME:AIM Global
X-ORIGINAL-URL:https://www.aimglobal.org
X-WR-CALDESC:Events for AIM Global
REFRESH-INTERVAL;VALUE=DURATION:PT1H
X-Robots-Tag:noindex
X-PUBLISHED-TTL:PT1H
BEGIN:VTIMEZONE
TZID:America/New_York
BEGIN:DAYLIGHT
TZOFFSETFROM:-0500
TZOFFSETTO:-0400
TZNAME:EDT
DTSTART:20250309T070000
END:DAYLIGHT
BEGIN:STANDARD
TZOFFSETFROM:-0400
TZOFFSETTO:-0500
TZNAME:EST
DTSTART:20251102T060000
END:STANDARD
BEGIN:DAYLIGHT
TZOFFSETFROM:-0500
TZOFFSETTO:-0400
TZNAME:EDT
DTSTART:20260308T070000
END:DAYLIGHT
BEGIN:STANDARD
TZOFFSETFROM:-0400
TZOFFSETTO:-0500
TZNAME:EST
DTSTART:20261101T060000
END:STANDARD
BEGIN:DAYLIGHT
TZOFFSETFROM:-0500
TZOFFSETTO:-0400
TZNAME:EDT
DTSTART:20270314T070000
END:DAYLIGHT
BEGIN:STANDARD
TZOFFSETFROM:-0400
TZOFFSETTO:-0500
TZNAME:EST
DTSTART:20271107T060000
END:STANDARD
END:VTIMEZONE
BEGIN:VEVENT
DTSTART;VALUE=DATE:20260404
DTEND;VALUE=DATE:20260408
DTSTAMP:20260422T094706
CREATED:20260403T151927Z
LAST-MODIFIED:20260403T151927Z
UID:987502769-1775260800-1775606399@www.aimglobal.org
SUMMARY:PSTC Tape Week
DESCRIPTION:Tape Week is the premier event for the pressure-sensitive adhesive tape industry\, offering tailored learning and networking opportunities during a pivotal time of change. With a new PSTC president\, evolving economic trends\, and a focus on industry verticals\, attendees can explore how these developments align with their company goals.  \n\n\n\n\nCustomize your experience with flexible courses and a personalized schedule to match your interests and learning needs.  Tape Week is your chance to connect\, collaborate\, and prepare for the future of our industry together.
URL:https://www.aimglobal.org/event/pstc-tape-week-2/
LOCATION:Louisville\, Kentucky\, Louisville\, KY\, United States
ATTACH;FMTTYPE=image/png:https://www.aimglobal.org/wp-content/uploads/2024/12/PSTC_Logo@3x-300x102-1.png
END:VEVENT
END:VCALENDAR