BEGIN:VCALENDAR
VERSION:2.0
PRODID:-//AIM Global - ECPv6.15.20//NONSGML v1.0//EN
CALSCALE:GREGORIAN
METHOD:PUBLISH
X-WR-CALNAME:AIM Global
X-ORIGINAL-URL:https://www.aimglobal.org
X-WR-CALDESC:Events for AIM Global
REFRESH-INTERVAL;VALUE=DURATION:PT1H
X-Robots-Tag:noindex
X-PUBLISHED-TTL:PT1H
BEGIN:VTIMEZONE
TZID:America/New_York
BEGIN:DAYLIGHT
TZOFFSETFROM:-0500
TZOFFSETTO:-0400
TZNAME:EDT
DTSTART:20250309T070000
END:DAYLIGHT
BEGIN:STANDARD
TZOFFSETFROM:-0400
TZOFFSETTO:-0500
TZNAME:EST
DTSTART:20251102T060000
END:STANDARD
BEGIN:DAYLIGHT
TZOFFSETFROM:-0500
TZOFFSETTO:-0400
TZNAME:EDT
DTSTART:20260308T070000
END:DAYLIGHT
BEGIN:STANDARD
TZOFFSETFROM:-0400
TZOFFSETTO:-0500
TZNAME:EST
DTSTART:20261101T060000
END:STANDARD
BEGIN:DAYLIGHT
TZOFFSETFROM:-0500
TZOFFSETTO:-0400
TZNAME:EDT
DTSTART:20270314T070000
END:DAYLIGHT
BEGIN:STANDARD
TZOFFSETFROM:-0400
TZOFFSETTO:-0500
TZNAME:EST
DTSTART:20271107T060000
END:STANDARD
END:VTIMEZONE
BEGIN:VEVENT
DTSTART;VALUE=DATE:20260413
DTEND;VALUE=DATE:20260415
DTSTAMP:20260422T093303
CREATED:20260313T175158Z
LAST-MODIFIED:20260313T175158Z
UID:987502476-1776038400-1776211199@www.aimglobal.org
SUMMARY:National Association of Convenience Stores Food Safety Forum
DESCRIPTION:The NACS Food Safety Forum is developed and administered by convenience industry food safety\, foodservice\, quality assurance and risk management leaders. This is the only retail-focused event of its kind for the global convenience community.
URL:https://www.aimglobal.org/event/national-association-of-convenience-stores-food-safety-forum-2/
LOCATION:Renaissance Schaumburg Convention Center Hotel\, Chicago\, Illinois
ATTACH;FMTTYPE=image/jpeg:https://www.aimglobal.org/wp-content/uploads/2024/05/NACS-Show.jpg
END:VEVENT
BEGIN:VEVENT
DTSTART;VALUE=DATE:20260413
DTEND;VALUE=DATE:20260417
DTSTAMP:20260422T093303
CREATED:20260317T165139Z
LAST-MODIFIED:20260317T165139Z
UID:987502478-1776038400-1776383999@www.aimglobal.org
SUMMARY:MODEX
DESCRIPTION:As the largest manufacturing and supply chain event in 2026\, MODEX showcases supply chains from every angle\, featuring over 1\,000 exhibits\, 200 educational sessions and four keynotes. MODEX’s unique combination of hands-on product and technology demonstrations\, education and face-to-face connections makes it the can’t-miss experience for supply chain professionals in 2026.
URL:https://www.aimglobal.org/event/modex-2/
LOCATION:Georgia World Congress Center
ATTACH;FMTTYPE=image/png:https://www.aimglobal.org/wp-content/uploads/2023/08/Modex-2.png
END:VEVENT
END:VCALENDAR