BEGIN:VCALENDAR
VERSION:2.0
PRODID:-//AIM Global - ECPv6.15.20//NONSGML v1.0//EN
CALSCALE:GREGORIAN
METHOD:PUBLISH
X-WR-CALNAME:AIM Global
X-ORIGINAL-URL:https://www.aimglobal.org
X-WR-CALDESC:Events for AIM Global
REFRESH-INTERVAL;VALUE=DURATION:PT1H
X-Robots-Tag:noindex
X-PUBLISHED-TTL:PT1H
BEGIN:VTIMEZONE
TZID:America/New_York
BEGIN:DAYLIGHT
TZOFFSETFROM:-0500
TZOFFSETTO:-0400
TZNAME:EDT
DTSTART:20250309T070000
END:DAYLIGHT
BEGIN:STANDARD
TZOFFSETFROM:-0400
TZOFFSETTO:-0500
TZNAME:EST
DTSTART:20251102T060000
END:STANDARD
BEGIN:DAYLIGHT
TZOFFSETFROM:-0500
TZOFFSETTO:-0400
TZNAME:EDT
DTSTART:20260308T070000
END:DAYLIGHT
BEGIN:STANDARD
TZOFFSETFROM:-0400
TZOFFSETTO:-0500
TZNAME:EST
DTSTART:20261101T060000
END:STANDARD
BEGIN:DAYLIGHT
TZOFFSETFROM:-0500
TZOFFSETTO:-0400
TZNAME:EDT
DTSTART:20270314T070000
END:DAYLIGHT
BEGIN:STANDARD
TZOFFSETFROM:-0400
TZOFFSETTO:-0500
TZNAME:EST
DTSTART:20271107T060000
END:STANDARD
END:VTIMEZONE
BEGIN:VEVENT
DTSTART;VALUE=DATE:20260420
DTEND;VALUE=DATE:20260425
DTSTAMP:20260422T075528
CREATED:20260114T212922Z
LAST-MODIFIED:20260114T212922Z
UID:987502098-1776643200-1777075199@www.aimglobal.org
SUMMARY:Hannover Messe
DESCRIPTION:Industry is facing a historic transformation – driven by global competition\, rising costs\, and artificial intelligence. HANNOVER MESSE 2026 will show how companies can turn these pressures into opportunities. With a new thematic structure\, optimized visitor navigation\, fresh networking formats\, and a strong focus on artificial intelligence\, the show will offer even greater value and a more targeted experience for exhibitors and attendees alike.
URL:https://www.aimglobal.org/event/hannover-messe-2/
LOCATION:Hanover\, Germany\, Hanover\, Germany
ATTACH;FMTTYPE=image/png:https://www.aimglobal.org/wp-content/uploads/2024/12/Teaser_HMI_600x600.png
END:VEVENT
BEGIN:VEVENT
DTSTART;VALUE=DATE:20260421
DTEND;VALUE=DATE:20260424
DTSTAMP:20260422T075528
CREATED:20260320T150711Z
LAST-MODIFIED:20260320T150711Z
UID:987502517-1776729600-1776988799@www.aimglobal.org
SUMMARY:GS1 Standards Week 2026
DESCRIPTION:GS1 Standards Week 2026 is a hybrid event dedicated to advancing GS1 global standards through inclusive collaboration and expert-led working sessions. \nFor the first time since 2019\, we’ll gather in person in Brussels—while continuing to offer a virtual experience to ensure global participation. The event brings together digital\, e-commerce and supply chain standards experts to collaborate in GSMP working groups\, shaping solutions that drive industry’s digital transformation and deliver value across sectors\, from retail to healthcare.
URL:https://www.aimglobal.org/event/gs1-standards-week-2026/
LOCATION:DoubleTree by Hilton Brussels City\, Rue Gineste 3\, Brussels\, 1210\, Belgium
ATTACH;FMTTYPE=image/png:https://www.aimglobal.org/wp-content/uploads/2026/03/Untitled-design-63.png
END:VEVENT
BEGIN:VEVENT
DTSTART;VALUE=DATE:20260422
DTEND;VALUE=DATE:20260424
DTSTAMP:20260422T075528
CREATED:20260317T171523Z
LAST-MODIFIED:20260317T171523Z
UID:987502481-1776816000-1776988799@www.aimglobal.org
SUMMARY:Retail Technology Show
DESCRIPTION:Welcome to the Retail Technology Show – the premier destination for innovation\, insight\, and connection in the retail. Held annually at ExCeL London\, this dynamic event unites the world’s most forward-thinking retailers with leading tech innovators to explore the future of commerce.
URL:https://www.aimglobal.org/event/retail-technology-show-2/
LOCATION:Excel London\, One Western Gateway\,\, Royal Victoria Dock\,\, London\, E16 1XL\, United Kingdom
ATTACH;FMTTYPE=image/jpeg:https://www.aimglobal.org/wp-content/uploads/2025/03/Retail-Tecnology-Show.jpg
END:VEVENT
BEGIN:VEVENT
DTSTART;VALUE=DATE:20260422
DTEND;VALUE=DATE:20260424
DTSTAMP:20260422T075528
CREATED:20260403T142712Z
LAST-MODIFIED:20260403T142712Z
UID:987502755-1776816000-1776988799@www.aimglobal.org
SUMMARY:MD&M South
DESCRIPTION:Immerse yourself in the forefront of the medical device manufacturing industry\, where leading MedTech companies across the Southeast converge to showcase and demonstrate cutting-edge technologies\, components\, and solutions that drive life-saving medical innovations – all under one roof. \nConnect with a dynamic network of industry leaders and peers through engaging conferences\, hands-on workshops\, and show-floor theaters. Gain valuable insights from key figures shaping the future of the medical device sector and seize this unparalleled opportunity to stay ahead of industry advancements\, enhance your expertise\, and position your company for long-term success.
URL:https://www.aimglobal.org/event/mdm-south/
LOCATION:Charlotte Convention Center\, Charlotte\, North Carolina
ATTACH;FMTTYPE=image/png:https://www.aimglobal.org/wp-content/uploads/2026/04/1765215132085.png
END:VEVENT
END:VCALENDAR