BEGIN:VCALENDAR
VERSION:2.0
PRODID:-//AIM Global - ECPv6.15.20//NONSGML v1.0//EN
CALSCALE:GREGORIAN
METHOD:PUBLISH
X-WR-CALNAME:AIM Global
X-ORIGINAL-URL:https://www.aimglobal.org
X-WR-CALDESC:Events for AIM Global
REFRESH-INTERVAL;VALUE=DURATION:PT1H
X-Robots-Tag:noindex
X-PUBLISHED-TTL:PT1H
BEGIN:VTIMEZONE
TZID:America/New_York
BEGIN:DAYLIGHT
TZOFFSETFROM:-0500
TZOFFSETTO:-0400
TZNAME:EDT
DTSTART:20250309T070000
END:DAYLIGHT
BEGIN:STANDARD
TZOFFSETFROM:-0400
TZOFFSETTO:-0500
TZNAME:EST
DTSTART:20251102T060000
END:STANDARD
BEGIN:DAYLIGHT
TZOFFSETFROM:-0500
TZOFFSETTO:-0400
TZNAME:EDT
DTSTART:20260308T070000
END:DAYLIGHT
BEGIN:STANDARD
TZOFFSETFROM:-0400
TZOFFSETTO:-0500
TZNAME:EST
DTSTART:20261101T060000
END:STANDARD
BEGIN:DAYLIGHT
TZOFFSETFROM:-0500
TZOFFSETTO:-0400
TZNAME:EDT
DTSTART:20270314T070000
END:DAYLIGHT
BEGIN:STANDARD
TZOFFSETFROM:-0400
TZOFFSETTO:-0500
TZNAME:EST
DTSTART:20271107T060000
END:STANDARD
END:VTIMEZONE
BEGIN:VEVENT
DTSTART;VALUE=DATE:20260427
DTEND;VALUE=DATE:20260430
DTSTAMP:20260422T094045
CREATED:20260320T152036Z
LAST-MODIFIED:20260320T152036Z
UID:987502527-1777248000-1777507199@www.aimglobal.org
SUMMARY:International Powder & Bulk Solids Conference
DESCRIPTION:The International Powder & Bulk Solids Conference & Exhibition\, also known as ‘The Powder Show’\, is the only event in the Western Hemisphere bringing together the powder & bulk solids handling and dry processing sector — the community of OEMs\, process engineers\, and executives whose activity accounts for 70% of the manufacturing lifecycle of every product on Earth.
URL:https://www.aimglobal.org/event/international-powder-bulk-solids-conference/
LOCATION:Donald E. Stephens Convention Center\, Rosemont (Chicago)\, IL\, United States
ATTACH;FMTTYPE=image/jpeg:https://www.aimglobal.org/wp-content/uploads/2026/03/Powder-Bulk-Solids-conf-1920x1080-1.jpg
END:VEVENT
END:VCALENDAR