BEGIN:VCALENDAR
VERSION:2.0
PRODID:-//AIM Global - ECPv6.15.20//NONSGML v1.0//EN
CALSCALE:GREGORIAN
METHOD:PUBLISH
X-ORIGINAL-URL:https://www.aimglobal.org
X-WR-CALDESC:Events for AIM Global
REFRESH-INTERVAL;VALUE=DURATION:PT1H
X-Robots-Tag:noindex
X-PUBLISHED-TTL:PT1H
BEGIN:VTIMEZONE
TZID:America/New_York
BEGIN:DAYLIGHT
TZOFFSETFROM:-0500
TZOFFSETTO:-0400
TZNAME:EDT
DTSTART:20240310T070000
END:DAYLIGHT
BEGIN:STANDARD
TZOFFSETFROM:-0400
TZOFFSETTO:-0500
TZNAME:EST
DTSTART:20241103T060000
END:STANDARD
BEGIN:DAYLIGHT
TZOFFSETFROM:-0500
TZOFFSETTO:-0400
TZNAME:EDT
DTSTART:20250309T070000
END:DAYLIGHT
BEGIN:STANDARD
TZOFFSETFROM:-0400
TZOFFSETTO:-0500
TZNAME:EST
DTSTART:20251102T060000
END:STANDARD
BEGIN:DAYLIGHT
TZOFFSETFROM:-0500
TZOFFSETTO:-0400
TZNAME:EDT
DTSTART:20260308T070000
END:DAYLIGHT
BEGIN:STANDARD
TZOFFSETFROM:-0400
TZOFFSETTO:-0500
TZNAME:EST
DTSTART:20261101T060000
END:STANDARD
END:VTIMEZONE
BEGIN:VEVENT
DTSTART;VALUE=DATE:20250818
DTEND;VALUE=DATE:20250821
DTSTAMP:20260420T151017
CREATED:20250730T161002Z
LAST-MODIFIED:20250730T161002Z
UID:987501166-1755475200-1755734399@www.aimglobal.org
SUMMARY:HealthTrust University Conference
DESCRIPTION:The HealthTrust University Conference is a premier event where members\, contracted suppliers and HealthTrust staff come together to learn and network at HealthTrust’s largest gathering\nof the year. Every year\, HealthTrust members rate the HTU Conference as one of the most worthwhile events they attend.
URL:https://www.aimglobal.org/event/healthtrust-university-conference/
LOCATION:San Antonio\, Texas\, San Antonio\, TX\, United States
ATTACH;FMTTYPE=image/jpeg:https://www.aimglobal.org/wp-content/uploads/2025/07/R-1.jpg
END:VEVENT
BEGIN:VEVENT
DTSTART;TZID=America/New_York:20250820T110000
DTEND;TZID=America/New_York:20250820T120000
DTSTAMP:20260420T151017
CREATED:20250815T130658Z
LAST-MODIFIED:20250815T130658Z
UID:987501299-1755687600-1755691200@www.aimglobal.org
SUMMARY:Women of AIDC Presents - Leveraging AI for a Safer Today and Tomorrow
DESCRIPTION:AI is here and is expected to be a valuable tool for food safety leaders. Purni Wickramasinghe\, Ph.D.\, Food Safety & Restaurant Solutions at Chick-fil-A will highlight the early and visible benefits of using AI for data-informed decision making. AI’s potential ranges from use in on-farm agricultural and retail programs to further strengthening FSMS and cultural behaviors. Attendees will learn how AI is making the food system safer. \n Learning objectives: \n• Learn how AI can be leveraged with risk assessment \n• Understand how AI can be used to make data-informed decisions \n• Learn how AI is making produce safer
URL:https://www.aimglobal.org/event/women-of-aidc-presents-leveraging-ai-for-a-safer-today-and-tomorrow/
LOCATION:Virtual
ATTACH;FMTTYPE=image/jpeg:https://www.aimglobal.org/wp-content/uploads/2025/05/Women-of-AIDC-logo.jpg
END:VEVENT
BEGIN:VEVENT
DTSTART;TZID=America/New_York:20250820T130000
DTEND;TZID=America/New_York:20250820T140000
DTSTAMP:20260420T151017
CREATED:20250812T122734Z
LAST-MODIFIED:20250812T122734Z
UID:987501246-1755694800-1755698400@www.aimglobal.org
SUMMARY:The Why and How of Managing Government Property for the Defense Contractor Webinar
DESCRIPTION:Join us on August 20th to gain valuable insights into best practices for managing government property in accordance with federal regulations and improve your audit readiness.
URL:https://www.aimglobal.org/event/the-why-and-how-of-managing-government-property-for-the-defense-contractor-webinar/
LOCATION:Virtual
ATTACH;FMTTYPE=image/jpeg:https://www.aimglobal.org/wp-content/uploads/2025/08/A2B-logo_Stacked2.jpg
END:VEVENT
BEGIN:VEVENT
DTSTART;TZID=America/New_York:20250821T120000
DTEND;TZID=America/New_York:20250821T130000
DTSTAMP:20260420T151017
CREATED:20250815T142202Z
LAST-MODIFIED:20250815T145529Z
UID:987501303-1755777600-1755781200@www.aimglobal.org
SUMMARY:RFID & RTLS: Transforming Modern Manufacturing and Supply Chain Webinar by AIM India
DESCRIPTION:Join us for a valuable webinar on August 21st\, 2025\, at 4:00 PM IST\, presented by AIM INDIA. \nGain insights into the latest industry trends and AIDC (Automatic Identification and Data Capture) knowledge from our Expert Speaker\, Sagar Bhor\, Partner Manager Flowcate GmbH.
URL:https://www.aimglobal.org/event/rfid-rtls-transforming-modern-manufacturing-and-supply-chain-webinar-by-aim-india/
LOCATION:TX
ATTACH;FMTTYPE=image/jpeg:https://www.aimglobal.org/wp-content/uploads/2025/08/1754375729280.jpg
END:VEVENT
BEGIN:VEVENT
DTSTART;TZID=America/New_York:20250828T140000
DTEND;TZID=America/New_York:20250828T150000
DTSTAMP:20260420T151017
CREATED:20250812T123053Z
LAST-MODIFIED:20250812T123053Z
UID:987501249-1756389600-1756393200@www.aimglobal.org
SUMMARY:The Power of RFID – Revolutionizing the Food Supply Chain Webinar
DESCRIPTION:The future of food distribution is here — and it’s powered by RFID. Join PLM TrustLink® and the International Foodservice Distributors Association (IFDA) for an exclusive\, expert-led webinar exploring how RFID (Radio Frequency Identification) is transforming the food supply chain from end to end.
URL:https://www.aimglobal.org/event/the-power-of-rfid-revolutionizing-the-food-supply-chain-webinar/
LOCATION:Virtual
ATTACH;FMTTYPE=image/jpeg:https://www.aimglobal.org/wp-content/uploads/2025/08/1755001210915.jpg
END:VEVENT
BEGIN:VEVENT
DTSTART;TZID=America/New_York:20250903T160000
DTEND;TZID=America/New_York:20250903T170000
DTSTAMP:20260420T151017
CREATED:20250728T172341Z
LAST-MODIFIED:20250728T172341Z
UID:987501154-1756915200-1756918800@www.aimglobal.org
SUMMARY:Webinar: Why Digitalizing Asset Flow Management is the Future of Logistics
DESCRIPTION:Join us for an exclusive webinar where industry experts from Posti\, Lyngsoe Systems\, and Beontag will explore the future of logistics through the digitalization of asset flow management. \nDiscover how Posti is leveraging IoT technologies to track every roll cage across 30 logistics centers and transportation terminals and over 70 million parcels\, enhancing customer service through dynamic and responsive operations. \nIf you’re a logistics\, supply chain\, or operations leader working in trade companies\, 3PLs\, or warehouses\, this webinar is your opportunity to: \n\nUnderstand the potential of RFID\, Bluetooth Low Energy (BLE)\, and GPS technologies;\nOvercome common challenges in asset tracking through innovative solutions;\nDiscover how real-time visibility can drive cost savings\, operational efficiency\, and sustainability;\nLearn the practical steps to begin digitalizing your asset management;\nExplore how Posti successfully reduced asset losses\, optimized roll cage use\, and cut CO2 emissions with BLE.\n\nRegister now to secure your place and take the first step towards smarter\, more efficient logistics.
URL:https://www.aimglobal.org/event/webinar-why-digitalizing-asset-flow-management-is-the-future-of-logistics/
LOCATION:Virtual
ATTACH;FMTTYPE=image/jpeg:https://www.aimglobal.org/wp-content/uploads/2025/07/download.jpg
END:VEVENT
BEGIN:VEVENT
DTSTART;TZID=America/New_York:20250904T140000
DTEND;TZID=America/New_York:20250904T150000
DTSTAMP:20260420T151017
CREATED:20250827T132451Z
LAST-MODIFIED:20250827T133235Z
UID:987501336-1756994400-1756998000@www.aimglobal.org
SUMMARY:Boost Your Industry Visibility: How Our Community Helps You Succeed Webinar
DESCRIPTION:Join our exclusive webinar to discover how AIM membership can drive growth\, innovation\, and visibility for your company in the Automatic Identification and Data Capture (AIDC) industry. Whether you work in RFID\, barcoding\, smart devices\, or the Internet of Things (IoT)\, this session will show you how AIM helps members connect\, collaborate\, and lead in a rapidly evolving tech landscape. \nWhat You’ll Learn:\nExclusive Benefits of AIM Membership: Access industry insights\, RFP opportunities\, and promotional tools like the AIM Business Directory and member media channels to boost your visibility and attract new business. \nInfluence Industry Standards: Get involved with AIM’s core industry groups — the RFID Experts Group\, Technical Symbology Committee\, and Visibility Technologies Group — and help shape global AIDC standards and best practices. \nCommunity & Leadership Development: Learn about our new Women of AIDC and Young Professionals groups\, created to empower the next generation of industry leaders. \nConnect with Key Stakeholders: Hear from Mike Allen as he shares how AIM’s hands-on workshops and collaborative forums provide opportunities to network with potential partners and customers. \nAdvocate for Industry Growth: Be part of a forward-thinking community working together to strengthen the future of AIDC. \nWhether you’re a startup or an industry leader\, AIM membership offers the tools and connections you need to thrive in the global AIDC ecosystem. \n📅 Register today to learn how AIM can help your organization expand its reach\, lead in standardization\, and stay ahead of emerging AIDC technologies.
URL:https://www.aimglobal.org/event/boost-your-industry-visibility-how-our-community-helps-you-succeed-webinar/
LOCATION:Virtual
ATTACH;FMTTYPE=image/png:https://www.aimglobal.org/wp-content/uploads/2025/08/Boost-Your-Industry-Visibility-How-Our-Community-Helps-You-Succeed-Recruitment-Webinar-.png
END:VEVENT
BEGIN:VEVENT
DTSTART;VALUE=DATE:20250905
DTEND;VALUE=DATE:20250907
DTSTAMP:20260420T151017
CREATED:20241227T135524Z
LAST-MODIFIED:20241227T140043Z
UID:987499291-1757030400-1757203199@www.aimglobal.org
SUMMARY:NECANN New Jersey
DESCRIPTION:The annual gathering of the New Jersey Cannabis Industry
URL:https://www.aimglobal.org/event/necann-new-jersey-2/
LOCATION:Atlantic City\, NJ\, Atlantic City\, NJ\, United States
ATTACH;FMTTYPE=image/png:https://www.aimglobal.org/wp-content/uploads/2024/05/NECANN.png
END:VEVENT
BEGIN:VEVENT
DTSTART;TZID=America/New_York:20250910T110000
DTEND;TZID=America/New_York:20250910T120000
DTSTAMP:20260420T151017
CREATED:20250827T134400Z
LAST-MODIFIED:20250827T134400Z
UID:987501344-1757502000-1757505600@www.aimglobal.org
SUMMARY:Easily Work with RFID Temperature Sensor Labels Webinar
DESCRIPTION:Unlock the power of RFID temperature sensors in modern supply chain management. In this exclusive live webinar\, you’ll discover how these innovative sensors are printed and encoded\, enabling seamless real-time tracking and temperature monitoring across logistics networks. \nWhat You’ll Learn:\n\n\nThe full process of printing and encoding RFID temperature sensors \n\n\nHow real-time sensor data is captured and transmitted efficiently \n\n\nHow this data is pushed to the cloud for monitoring\, analytics\, and automation \n\n\nUse cases of smart decision-making powered by sensor-driven insights \n\n\nWhy Attend?\nWhether you’re in cold chain logistics\, pharmaceutical distribution\, or smart packaging\, this webinar will show you how RFID technology is transforming supply chain visibility and compliance. \n✅ Free to attend✅ Live Q&A with industry experts✅ Ideal for professionals in IoT\, logistics\, manufacturing\, and tech
URL:https://www.aimglobal.org/event/easily-work-with-rfid-temperature-sensor-labels-webinar/
LOCATION:Virtual
ATTACH;FMTTYPE=image/png:https://www.aimglobal.org/wp-content/uploads/2025/08/Easily-Work-RFID-Temperature-Sensor-Labels-ASYGN-ANANTICS-TSC.png
END:VEVENT
BEGIN:VEVENT
DTSTART;VALUE=DATE:20250914
DTEND;VALUE=DATE:20250916
DTSTAMP:20260420T151017
CREATED:20241213T200103Z
LAST-MODIFIED:20241213T200103Z
UID:987499085-1757808000-1757980799@www.aimglobal.org
SUMMARY:AIPIA World Congress Europe
DESCRIPTION:The AWA & AIPIA Smart Labeling Seminar 2025\, part of the AWA Seminar Series: Co-located with Labelexpo Europe 2025 offers a comprehensive program on smart labeling\, making it the ideal kickoff to Labelexpo week.
URL:https://www.aimglobal.org/event/aipia-world-congress-europe-2/
LOCATION:Barcelona\, Spain\, Barcelona\, Spain
ATTACH;FMTTYPE=image/png:https://www.aimglobal.org/wp-content/uploads/2024/05/aipa-1.png
END:VEVENT
BEGIN:VEVENT
DTSTART;VALUE=DATE:20250914
DTEND;VALUE=DATE:20250917
DTSTAMP:20260420T151017
CREATED:20241213T200825Z
LAST-MODIFIED:20241213T200825Z
UID:987499087-1757808000-1758067199@www.aimglobal.org
SUMMARY:North America Food Safety & Quality Summit
DESCRIPTION:The North American Food Safety & Quality Series is a premier gathering of industry leaders\, food safety executives\, and experts dedicated to exploring innovative strategies\, emerging trends\, and best practices in the dynamic world of food regulations.
URL:https://www.aimglobal.org/event/north-america-food-safety-quality-summit/
LOCATION:Austin\, TX
ATTACH;FMTTYPE=image/png:https://www.aimglobal.org/wp-content/uploads/2024/12/nafs-1.png
END:VEVENT
BEGIN:VEVENT
DTSTART;VALUE=DATE:20250915
DTEND;VALUE=DATE:20250918
DTSTAMP:20260420T151017
CREATED:20241213T201311Z
LAST-MODIFIED:20241213T201311Z
UID:987499091-1757894400-1758153599@www.aimglobal.org
SUMMARY:Channel Futures MSP Summit
DESCRIPTION:MSP Summit is where the industry’s top power players unite. Here’s what’s in store: \n\nElite Networking: Build game-changing connections with 1\,000+ MSP pros.\nEpic Expo Hall: Discover cutting-edge solutions from 90+ managed services vendors.\nWorkshops to Dominate: Level up with AI for MSPs\, business growth\, and more.\nThe Prestigious MSP 501 Awards Gala: Where legends are made.
URL:https://www.aimglobal.org/event/channel-futures-msp-summit-3/
LOCATION:Orlando\, Florida\, Orlando\, FL\, United States
ATTACH;FMTTYPE=image/png:https://www.aimglobal.org/wp-content/uploads/2024/05/mspsummit.png
END:VEVENT
BEGIN:VEVENT
DTSTART;VALUE=DATE:20250915
DTEND;VALUE=DATE:20250920
DTSTAMP:20260420T151017
CREATED:20240509T183426Z
LAST-MODIFIED:20240509T183426Z
UID:987497269-1757966400-1758311999@www.aimglobal.org
SUMMARY:LabelExpo Europe
DESCRIPTION:LabelExpo Europe is the world’s largest event for the label and package printing industry.
URL:https://www.aimglobal.org/event/labelexpo-europe/
LOCATION:Fira Barcelona Gran Via\, Barcelona\, Spain
ATTACH;FMTTYPE=image/png:https://www.aimglobal.org/wp-content/uploads/2024/05/labelexpoeurope.png
END:VEVENT
BEGIN:VEVENT
DTSTART;VALUE=DATE:20250916
DTEND;VALUE=DATE:20250919
DTSTAMP:20260420T151017
CREATED:20241227T130626Z
LAST-MODIFIED:20241227T130626Z
UID:987499271-1757980800-1758239999@www.aimglobal.org
SUMMARY:NRF Paris
DESCRIPTION:Retail’s most important event in Europe takes place in Paris from 16 – 18 September 2025. Be inspired by the biggest retail leaders across Europe in one of the world’s most dynamic and consumer-driven markets.
URL:https://www.aimglobal.org/event/nrf-paris/
LOCATION:Paris
ATTACH;FMTTYPE=image/png:https://www.aimglobal.org/wp-content/uploads/2024/07/nrf.png
END:VEVENT
BEGIN:VEVENT
DTSTART;VALUE=DATE:20250917
DTEND;VALUE=DATE:20250920
DTSTAMP:20260420T151017
CREATED:20241227T131259Z
LAST-MODIFIED:20241227T131259Z
UID:987499273-1758067200-1758326399@www.aimglobal.org
SUMMARY:IFMA World Workplace
DESCRIPTION:At World Workplace\, we’re bringing together the brightest minds in facility management\, workplace strategy and business innovation.
URL:https://www.aimglobal.org/event/ifma-world-workplace-2/
LOCATION:Minneapolis\, Minneapolis\, MN\, United States
ATTACH;FMTTYPE=image/png:https://www.aimglobal.org/wp-content/uploads/2024/12/ww25-logo_color.png
END:VEVENT
BEGIN:VEVENT
DTSTART;TZID=America/New_York:20250918T130000
DTEND;TZID=America/New_York:20250918T140000
DTSTAMP:20260420T151017
CREATED:20250902T193915Z
LAST-MODIFIED:20250902T194334Z
UID:987501389-1758200400-1758204000@www.aimglobal.org
SUMMARY:Securing Digital Identities: The Growing Risk of QR-Code Exploits and How to Address Them
DESCRIPTION:As QR codes become a critical touchpoint across supply chains\, retail\, digital payments\, and consumer engagement\, they are increasingly targeted by cybercriminals. Emerging threats like QR phishing (quishing) and QR-jacking are exposing vulnerabilities that can compromise enterprise systems and erode consumer trust. \nThis session provides a deep dive into the latest QR code security threats\, including those uncovered by leading global threat intelligence organizations. We’ll explore the mechanics of modern QR code-based attacks\, how threat actors are exploiting them across industries\, and what businesses must do to stay protected. \nKey Takeaways for Attendees: \n\nAn overview of modern QR code attack vectors and exploitation tactics\nReal-world case studies of QR code misuse in supply chain\, retail\, and consumer scenarios\nInsights into the role of international standards bodies like GS1\, AIM\, and ISO in defining secure QR code practices\nA comparative analysis of security solutions\, including GS1 Digital Link\, secure digital tokens\, and non-cloneable authentication technologies\nStrategic guidance on mitigation practices\, from consumer education to technological countermeasures\n\nThis session is essential for professionals in cybersecurity\, supply chain management\, digital marketing\, retail IT\, and fintech\, seeking to safeguard their QR code ecosystems and maintain consumer trust in the face of growing digital threats.
URL:https://www.aimglobal.org/event/securing-digital-identities-the-growing-risk-of-qr-code-exploits-and-how-to-address-them/
LOCATION:Virtual
ATTACH;FMTTYPE=image/png:https://www.aimglobal.org/wp-content/uploads/2025/09/Securing-Digital-Identities-The-Growing-Risk-of-QR-Code-Exploits-and-How-to-Address-Them.png
END:VEVENT
BEGIN:VEVENT
DTSTART;VALUE=DATE:20250919
DTEND;VALUE=DATE:20250921
DTSTAMP:20260420T151017
CREATED:20241227T131532Z
LAST-MODIFIED:20241227T131532Z
UID:987499277-1758240000-1758412799@www.aimglobal.org
SUMMARY:NECANN New York
DESCRIPTION:Attend NECANN’s New York Cannabis Convention\, the only cannabis expo focused exclusively on the NY market!
URL:https://www.aimglobal.org/event/necann-new-york-2/
LOCATION:Joseph A. Floreano Rochester Riverside Convention Center\, Rochester\, New York
ATTACH;FMTTYPE=image/png:https://www.aimglobal.org/wp-content/uploads/2024/05/NECANN.png
END:VEVENT
BEGIN:VEVENT
DTSTART;VALUE=DATE:20250924
DTEND;VALUE=DATE:20250926
DTSTAMP:20260420T151017
CREATED:20241227T132127Z
LAST-MODIFIED:20241227T132127Z
UID:987499279-1758672000-1758844799@www.aimglobal.org
SUMMARY:IoT Tech Expo Europe
DESCRIPTION:IoT Tech Expo is the leading event for IoT\, Digital Twins & Enterprise Transformation\, IoT Security IoT Connectivity & Connected Devices\, Smart Infrastructures & Automation\, Data & Analytics and Edge Platforms.
URL:https://www.aimglobal.org/event/iot-tech-expo-europe-2/
LOCATION:Amsterdam\, Netherlands\, Amsterdam\, Netherlands
ATTACH;FMTTYPE=image/png:https://www.aimglobal.org/wp-content/uploads/2024/05/iottechecpo.png
END:VEVENT
BEGIN:VEVENT
DTSTART;VALUE=DATE:20250924
DTEND;VALUE=DATE:20250926
DTSTAMP:20260420T151017
CREATED:20241227T132550Z
LAST-MODIFIED:20241227T132550Z
UID:987499281-1758672000-1758844799@www.aimglobal.org
SUMMARY:Medical Technology Ireland
DESCRIPTION:Europe’s second largest and fastest growing medical device design and manufacturing Show!
URL:https://www.aimglobal.org/event/medical-technology-ireland-2/
LOCATION:Galway Racecourse\, Galway\, Ireland
ATTACH;FMTTYPE=image/png:https://www.aimglobal.org/wp-content/uploads/2024/05/medical-tech-ireland.png
END:VEVENT
BEGIN:VEVENT
DTSTART;VALUE=DATE:20250928
DTEND;VALUE=DATE:20251001
DTSTAMP:20260420T151017
CREATED:20241227T133330Z
LAST-MODIFIED:20241227T133330Z
UID:987499285-1759017600-1759276799@www.aimglobal.org
SUMMARY:International Foodservice Distributors Association (IFDA) Conference
DESCRIPTION:Where food distribution\, talent and technology intersect.
URL:https://www.aimglobal.org/event/international-foodservice-distributors-association-ifda-conference-2/
LOCATION:Columbus\, OH
ATTACH;FMTTYPE=image/png:https://www.aimglobal.org/wp-content/uploads/2024/05/ifda-e1735306353380.png
END:VEVENT
BEGIN:VEVENT
DTSTART;VALUE=DATE:20250928
DTEND;VALUE=DATE:20251002
DTSTAMP:20260420T151017
CREATED:20241227T132935Z
LAST-MODIFIED:20241227T132935Z
UID:987499283-1759017600-1759363199@www.aimglobal.org
SUMMARY:GroceryShop
DESCRIPTION:
URL:https://www.aimglobal.org/event/groceryshop-2/
LOCATION:Mandalay Bay\, Las Vegas\, Nevada
ATTACH;FMTTYPE=image/png:https://www.aimglobal.org/wp-content/uploads/2024/05/groceryshop.png
END:VEVENT
BEGIN:VEVENT
DTSTART;VALUE=DATE:20250928
DTEND;VALUE=DATE:20251002
DTSTAMP:20260420T151017
CREATED:20240509T192940Z
LAST-MODIFIED:20250815T143826Z
UID:987497316-1759089600-1759348799@www.aimglobal.org
SUMMARY:PACK EXPO Las Vegas
DESCRIPTION:The drive to innovate\, optimize and connect with industry peers will bring together over 30\,000 professionals from 40+ vertical industries and 2\,300 exhibiting companies at the largest packaging and processing show of 2025—PACK EXPO Las Vegas. Don’t miss it.
URL:https://www.aimglobal.org/event/packexpo-lasvegas/
LOCATION:Las Vegas\, Nevada\, Las Vegas\, Nevada
ATTACH;FMTTYPE=image/jpeg:https://www.aimglobal.org/wp-content/uploads/2025/08/PELV-1-1.jpg
END:VEVENT
BEGIN:VEVENT
DTSTART;VALUE=DATE:20250929
DTEND;VALUE=DATE:20251002
DTSTAMP:20260420T151017
CREATED:20241227T134425Z
LAST-MODIFIED:20241227T134425Z
UID:987499287-1759104000-1759363199@www.aimglobal.org
SUMMARY:LogiPharma
DESCRIPTION:The Most Important Global Pharmaceutical Supply Chain Event of the Year.
URL:https://www.aimglobal.org/event/logipharma-2/
LOCATION:Boston\, MA
ATTACH;FMTTYPE=image/png:https://www.aimglobal.org/wp-content/uploads/2023/12/Logipharma-1.png
END:VEVENT
BEGIN:VEVENT
DTSTART;VALUE=DATE:20250930
DTEND;VALUE=DATE:20251002
DTSTAMP:20260420T151017
CREATED:20241227T135151Z
LAST-MODIFIED:20241227T135151Z
UID:987499289-1759190400-1759363199@www.aimglobal.org
SUMMARY:BIOMEDevice Boston
DESCRIPTION:Where We Unlock the Possibilities in MedTech Innovation
URL:https://www.aimglobal.org/event/biomedevice-boston-2/
LOCATION:Boston\, MA
ATTACH;FMTTYPE=image/png:https://www.aimglobal.org/wp-content/uploads/2024/05/biomed-1.png
END:VEVENT
BEGIN:VEVENT
DTSTART;VALUE=DATE:20251001
DTEND;VALUE=DATE:20251003
DTSTAMP:20260420T151017
CREATED:20241227T140520Z
LAST-MODIFIED:20241227T140520Z
UID:987499294-1759276800-1759449599@www.aimglobal.org
SUMMARY:AIAG Quality Summit
DESCRIPTION:As we look ahead to the upcoming 2025 AIAG Quality Summit\, set to unfold at the Suburban Collection Showplace in Novi\, Michigan on October 1-2\, 2025\, an opportunity emerges to secure your presence at the pinnacle event of automotive quality excellence
URL:https://www.aimglobal.org/event/aiag-quality-summit-2/
LOCATION:Suburban Collection Showplace\, 46100 Grand River Avenue\, Novi\, MI\, 48374\, United States
ATTACH;FMTTYPE=image/jpeg:https://www.aimglobal.org/wp-content/uploads/2024/07/aiag-logo.jpg
END:VEVENT
BEGIN:VEVENT
DTSTART;TZID=America/New_York:20251001T073000
DTEND;TZID=America/New_York:20251001T100000
DTSTAMP:20260420T151017
CREATED:20250827T181616Z
LAST-MODIFIED:20250827T181616Z
UID:987501356-1759303800-1759312800@www.aimglobal.org
SUMMARY:AIM Partnership Breakfast at PACK EXPO Las Vegas
DESCRIPTION:Start your PACK EXPO morning with AIM’s Partnership Breakfast\, bringing together industry leaders\, technology providers\, and supply chain innovators. This networking event features high-level discussions on the trends and technologies reshaping packaging\, labeling\, automation\, and traceability. Gain exclusive insights\, make valuable connections\, and be part of the conversation shaping the future of AIDC.
URL:https://www.aimglobal.org/event/aim-partnership-breakfast-at-pack-expo-las-vegas/
LOCATION:TX
END:VEVENT
BEGIN:VEVENT
DTSTART;VALUE=DATE:20251006
DTEND;VALUE=DATE:20251010
DTSTAMP:20260420T151017
CREATED:20241227T165028Z
LAST-MODIFIED:20241227T165028Z
UID:987499322-1759708800-1760054399@www.aimglobal.org
SUMMARY:Electric & Hybrid Vehicle Technology Expo North America
DESCRIPTION:Gain Access to Exclusive Education and Insider Insights at the Battery Show Conference
URL:https://www.aimglobal.org/event/electric-hybrid-vehicle-technology-expo-north-america-2/
LOCATION:Huntington Place\, Detroit\, Michigan
ATTACH;FMTTYPE=image/png:https://www.aimglobal.org/wp-content/uploads/2024/05/ehvtc-1.png
END:VEVENT
BEGIN:VEVENT
DTSTART;VALUE=DATE:20251006
DTEND;VALUE=DATE:20251010
DTSTAMP:20260420T151017
CREATED:20241227T165544Z
LAST-MODIFIED:20241227T165544Z
UID:987499324-1759708800-1760054399@www.aimglobal.org
SUMMARY:The Battery Show North America
DESCRIPTION:Gain Access to Exclusive Education and Insider Insights at the Battery Show Conference
URL:https://www.aimglobal.org/event/the-battery-show-north-america-2/
LOCATION:Huntington Place\, Detroit\, Michigan
ATTACH;FMTTYPE=image/png:https://www.aimglobal.org/wp-content/uploads/2024/12/Untitled-design-13.png
END:VEVENT
BEGIN:VEVENT
DTSTART;VALUE=DATE:20251007
DTEND;VALUE=DATE:20251009
DTSTAMP:20260420T151017
CREATED:20241227T170236Z
LAST-MODIFIED:20241227T170236Z
UID:987499327-1759795200-1759967999@www.aimglobal.org
SUMMARY:American Medical Device Summit
DESCRIPTION:
URL:https://www.aimglobal.org/event/american-medical-device-summit-2/
LOCATION:Chicago\, IL
ATTACH;FMTTYPE=image/png:https://www.aimglobal.org/wp-content/uploads/2024/05/generis-logo-blue-2.png
END:VEVENT
BEGIN:VEVENT
DTSTART;VALUE=DATE:20251007
DTEND;VALUE=DATE:20251010
DTSTAMP:20260420T151017
CREATED:20251001T145716Z
LAST-MODIFIED:20251001T145716Z
UID:987501494-1759795200-1760054399@www.aimglobal.org
SUMMARY:Traffic InfraTech Expo 2025
DESCRIPTION:Traffic Infratech Expo along with its concurrent shows: Road Infratech Expo and Parking Infratech Expo\, has been a catalyst in India’s infrastructure and mobility revolution. Showcasing the nation’s growing leadership in traffic and transport technology\, road safety\, security\, parking management\, smart mobility\, and road construction\, the fair fosters innovation and collaboration. It serves as a platform to highlight cutting-edge mobility solutions\, facilitate the sharing of knowledge\, and create opportunities for meaningful interactions between mobility experts\, government departments\, and private organizations.
URL:https://www.aimglobal.org/event/traffic-infratech-expo-2025/
LOCATION:Bharat Mandapam\, New Delhi\, India\, Bharat Mandapam\, New Delhi\, India
ATTACH;FMTTYPE=image/png:https://www.aimglobal.org/wp-content/uploads/2025/10/Traffic-InfraTech-Expo-IDTECH-scaled.png
END:VEVENT
END:VCALENDAR