BEGIN:VCALENDAR
VERSION:2.0
PRODID:-//AIM Global - ECPv6.15.20//NONSGML v1.0//EN
CALSCALE:GREGORIAN
METHOD:PUBLISH
X-WR-CALNAME:AIM Global
X-ORIGINAL-URL:https://www.aimglobal.org
X-WR-CALDESC:Events for AIM Global
REFRESH-INTERVAL;VALUE=DURATION:PT1H
X-Robots-Tag:noindex
X-PUBLISHED-TTL:PT1H
BEGIN:VTIMEZONE
TZID:America/New_York
BEGIN:DAYLIGHT
TZOFFSETFROM:-0500
TZOFFSETTO:-0400
TZNAME:EDT
DTSTART:20250309T070000
END:DAYLIGHT
BEGIN:STANDARD
TZOFFSETFROM:-0400
TZOFFSETTO:-0500
TZNAME:EST
DTSTART:20251102T060000
END:STANDARD
BEGIN:DAYLIGHT
TZOFFSETFROM:-0500
TZOFFSETTO:-0400
TZNAME:EDT
DTSTART:20260308T070000
END:DAYLIGHT
BEGIN:STANDARD
TZOFFSETFROM:-0400
TZOFFSETTO:-0500
TZNAME:EST
DTSTART:20261101T060000
END:STANDARD
BEGIN:DAYLIGHT
TZOFFSETFROM:-0500
TZOFFSETTO:-0400
TZNAME:EDT
DTSTART:20270314T070000
END:DAYLIGHT
BEGIN:STANDARD
TZOFFSETFROM:-0400
TZOFFSETTO:-0500
TZNAME:EST
DTSTART:20271107T060000
END:STANDARD
END:VTIMEZONE
BEGIN:VEVENT
DTSTART;VALUE=DATE:20260511
DTEND;VALUE=DATE:20260514
DTSTAMP:20260421T005145
CREATED:20260320T153127Z
LAST-MODIFIED:20260320T153127Z
UID:987502535-1778457600-1778716799@www.aimglobal.org
SUMMARY:The MedTech Forum Europe 2026
DESCRIPTION:The MedTech Forum is the largest health and medical technology industry conference in Europe and a key event since 2007.\nJoin industry leaders\, leading innovators and investors to discuss the future opportunities in the medical technology sector.
URL:https://www.aimglobal.org/event/the-medtech-forum-europe-2026/
LOCATION:Stockholm Waterfront Congress Centre\, Nils Ericsons Plan 4\, Stockholm\, Sweden
ATTACH;FMTTYPE=image/png:https://www.aimglobal.org/wp-content/uploads/2026/03/logo_mtf2026_v4.png
END:VEVENT
BEGIN:VEVENT
DTSTART;VALUE=DATE:20260511
DTEND;VALUE=DATE:20260515
DTSTAMP:20260421T005145
CREATED:20260320T152620Z
LAST-MODIFIED:20260320T152620Z
UID:987502531-1778457600-1778803199@www.aimglobal.org
SUMMARY:Food Safety Summit 2026
DESCRIPTION:Food safety professionals meet at the Summit to share solutions driving the future of the industry. You’ve come to the right place. Produced by Food Safety Magazine\, with content curated by the Educational Advisory Board\, this is the industry’s event. Be part of the community driving real change with authority\, energy\, and passion for public health. Whether you’re just starting out or a seasoned professional; this is your Food Safety Summit. You belong.
URL:https://www.aimglobal.org/event/food-safety-summit-2026/
LOCATION:Donald E. Stephens Convention Center\, Rosemont (Chicago)\, IL\, United States
ATTACH;FMTTYPE=image/jpeg:https://www.aimglobal.org/wp-content/uploads/2024/07/Food-safety-summit.jpg
END:VEVENT
BEGIN:VEVENT
DTSTART;TZID=America/New_York:20260512T100000
DTEND;TZID=America/New_York:20260512T110000
DTSTAMP:20260421T005145
CREATED:20260407T150309Z
LAST-MODIFIED:20260409T133155Z
UID:987502847-1778580000-1778583600@www.aimglobal.org
SUMMARY:Unified Locating as the Key to Physical AI Creating a Common Language for Spatial Intelligence
DESCRIPTION:Through the joint formation of the GPos Experts Group\, this collaboration brings together identification\, locating\, and communication in a common spatial context. Industrial automation is facing a paradigm shift: machines\, robots\, and mobile systems are learning to “understand” space. With the new OPC UA Companion Specification for Identification and Locating\, a common language of “spatial intelligence” was established. The new specification is considered a milestone for the next evolutionary stage of industrial intelligence.
URL:https://www.aimglobal.org/event/unified-locating-as-the-key-to-physical-ai-creating-a-common-language-for-spatial-intelligence/
LOCATION:Virtual
ATTACH;FMTTYPE=image/png:https://www.aimglobal.org/wp-content/uploads/2026/04/AIM-Germany-Webinar-.png
END:VEVENT
BEGIN:VEVENT
DTSTART;VALUE=DATE:20260513
DTEND;VALUE=DATE:20260516
DTSTAMP:20260421T005145
CREATED:20260320T153919Z
LAST-MODIFIED:20260320T153919Z
UID:987502542-1778630400-1778889599@www.aimglobal.org
SUMMARY:IoT Solutions World Congress
DESCRIPTION:Explore the future of IoT at the LoRa Alliance Pavilion\, where 19 member companies will showcase live demos\, game-changing solutions\, and real-world deployments powered by LoRaWAN. \nWhether you’re just getting started or scaling your IoT strategy\, this is your chance to learn from the experts\, find the right partners\, and see how LoRaWAN is enabling everything from smart cities to industrial automation—driving impact for people\, planet\, and business.
URL:https://www.aimglobal.org/event/iot-solutions-world-congress-2/
LOCATION:Fira Barcelona Gran Via\, Barcelona\, Spain
ATTACH;FMTTYPE=image/png:https://www.aimglobal.org/wp-content/uploads/2026/03/download.png
END:VEVENT
BEGIN:VEVENT
DTSTART;VALUE=DATE:20260516
DTEND;VALUE=DATE:20260520
DTSTAMP:20260421T005145
CREATED:20260320T194129Z
LAST-MODIFIED:20260320T194129Z
UID:987502551-1778889600-1779235199@www.aimglobal.org
SUMMARY:National Restaurant Association Show
DESCRIPTION:Join thousands of foodservice professionals at the National Restaurant Association Show in Chicago\, Saturday–Tuesday\, May 16–19\, 2026. Discover AI\, robotics\, plant-based trends\, sustainable packaging and more.
URL:https://www.aimglobal.org/event/national-restaurant-association-show-4/
LOCATION:McCormick Place\, Chicago
ATTACH;FMTTYPE=image/png:https://www.aimglobal.org/wp-content/uploads/2024/05/National-Restaruant-Show.png
END:VEVENT
BEGIN:VEVENT
DTSTART;VALUE=DATE:20260518
DTEND;VALUE=DATE:20260520
DTSTAMP:20260421T005145
CREATED:20260403T165823Z
LAST-MODIFIED:20260403T165823Z
UID:987502804-1779062400-1779235199@www.aimglobal.org
SUMMARY:IoT Tech Expo North America
DESCRIPTION:Join Fortune 500 leaders\, IoT innovators\, and global technology partners as they turn connected systems from pilot projects into scalable operational reality. Covering IoT\, embedded systems\, autonomous infrastructure\, digital twins\, Edge AI\, physical AI\, and IoT security.
URL:https://www.aimglobal.org/event/iot-tech-expo-north-america-3/
LOCATION:San Jose McEnery Convention Center\, San Jose\, CA\, United States
ATTACH;FMTTYPE=image/png:https://www.aimglobal.org/wp-content/uploads/2023/11/Iot-Tech-Expo-NA.png
END:VEVENT
BEGIN:VEVENT
DTSTART;VALUE=DATE:20260519
DTEND;VALUE=DATE:20260521
DTSTAMP:20260421T005145
CREATED:20260112T185627Z
LAST-MODIFIED:20260112T185627Z
UID:987502066-1779148800-1779321599@www.aimglobal.org
SUMMARY:The Floral Conference
DESCRIPTION:Breeders\, buyers and attendees from all over the world and across the floral supply chain are convening in Miami for an incredible floral event. Featuring expanded networking opportunities\, enriched education sessions\, buyer roundtables and a breeder showcase\, this will be a Floral Conference like no other.
URL:https://www.aimglobal.org/event/the-floral-conference-2/
LOCATION:Miami\, Florida\, Miami\, Florida
ATTACH;FMTTYPE=image/jpeg:https://www.aimglobal.org/wp-content/uploads/2024/05/floral-conference.jpg
END:VEVENT
BEGIN:VEVENT
DTSTART;VALUE=DATE:20260519
DTEND;VALUE=DATE:20260521
DTSTAMP:20260421T005145
CREATED:20260407T160201Z
LAST-MODIFIED:20260407T160201Z
UID:987502855-1779148800-1779321599@www.aimglobal.org
SUMMARY:RAIN Tire Masterclass\, Ohio
DESCRIPTION:The RAIN Alliance Tire Masterclass is coming to Solon\, Ohio — the heart of the U.S. automotive\, rubber\, and tire industry — and\, for the first time\, it will be delivered as a two-day intensive program hosted by Hana RFID\, the leading provider of embeddable RFID tire tagging for over 20 years. \nDay one is dedicated exclusively to tire manufacturers\, providing practical guidance on embedding RAIN RFID technology into tires at an industrial scale\, covering design\, manufacturing integration\, RF performance\, and lifecycle traceability.  \nDay two expands the conversation to the broader tire ecosystem\, including car manufacturers\, fleet operators\, service and dealer networks\, retreaders\, recyclers\, and technology providers. The focus shifts to how embedded RAIN tags unlock immediate value across the entire tire lifecycle. \nThrough real-world use cases and interactive discussions\, participants will explore how a tire’s digital twin improves safety\, compliance\, fleet operations\, service accuracy\, retreading optimization\, and end-of-life traceability.
URL:https://www.aimglobal.org/event/rain-tire-masterclass-ohio/
LOCATION:Hana RFID HQ\, 29000 Aurora Rd\, Solon\, OH\, 44139\, United States
END:VEVENT
BEGIN:VEVENT
DTSTART;TZID=America/New_York:20260519T110000
DTEND;TZID=America/New_York:20260520T130000
DTSTAMP:20260421T005145
CREATED:20260407T155003Z
LAST-MODIFIED:20260409T134243Z
UID:987502853-1779188400-1779282000@www.aimglobal.org
SUMMARY:RFID Community Connect
DESCRIPTION:AIM is hosting RFID Community Connect\, a two-day virtual event taking place May 19–20\, 2026\, designed to bring the RFID community together for focused education\, industry discussion\, and networking.
URL:https://www.aimglobal.org/event/rfid-community-connect/
LOCATION:Virtual
ATTACH;FMTTYPE=image/png:https://www.aimglobal.org/wp-content/uploads/2026/03/Community-Connect-1.png
END:VEVENT
BEGIN:VEVENT
DTSTART;VALUE=DATE:20260520
DTEND;VALUE=DATE:20260521
DTSTAMP:20260421T005145
CREATED:20260410T185258Z
LAST-MODIFIED:20260410T185258Z
UID:987502883-1779235200-1779321599@www.aimglobal.org
SUMMARY:AIPIA & AWA Smart Packaging World Congress 2026
DESCRIPTION:
URL:https://www.aimglobal.org/event/aipia-awa-smart-packaging-world-congress-2026/
LOCATION:Amsterdam\, Netherlands\, Amsterdam\, Netherlands
ATTACH;FMTTYPE=image/png:https://www.aimglobal.org/wp-content/uploads/2024/05/aipa-1.png
END:VEVENT
BEGIN:VEVENT
DTSTART;VALUE=DATE:20260520
DTEND;VALUE=DATE:20260522
DTSTAMP:20260421T005145
CREATED:20241213T165819Z
LAST-MODIFIED:20241213T165819Z
UID:987499008-1779235200-1779407999@www.aimglobal.org
SUMMARY:MD&M SouthPack
DESCRIPTION:Medtech moves fast. Keep the pace with the latest innovations and immerse yourself in a community of visionaries and industry leaders. It’s all waiting at the Southeast’s most comprehensive medical design and manufacturing event — MD&M South.
URL:https://www.aimglobal.org/event/mdm-southpack-2/
LOCATION:Charlotte Convention Center\, Charlotte\, North Carolina
ATTACH;FMTTYPE=image/png:https://www.aimglobal.org/wp-content/uploads/2024/05/southpack.png
END:VEVENT
BEGIN:VEVENT
DTSTART;VALUE=DATE:20260520
DTEND;VALUE=DATE:20260522
DTSTAMP:20260421T005145
CREATED:20260212T133106Z
LAST-MODIFIED:20260212T133106Z
UID:987502333-1779235200-1779407999@www.aimglobal.org
SUMMARY:AIPIA & AWA Smart Packaging World Congress 2025
DESCRIPTION:Join global packaging\, brand\, and technology leaders in Amsterdam on 20–21 May 2026 for the AIPIA & AWA Smart Packaging World Congress\, where strategy meets implementation.
URL:https://www.aimglobal.org/event/aipia-awa-smart-packaging-world-congress-2025/
LOCATION:Amsterdam\, Netherlands\, Amsterdam\, Netherlands
ATTACH;FMTTYPE=image/jpeg:https://www.aimglobal.org/wp-content/uploads/2026/02/preview-scaled.jpg
END:VEVENT
BEGIN:VEVENT
DTSTART;VALUE=DATE:20260526
DTEND;VALUE=DATE:20260529
DTSTAMP:20260421T005145
CREATED:20260410T190048Z
LAST-MODIFIED:20260410T190048Z
UID:987502885-1779753600-1780012799@www.aimglobal.org
SUMMARY:AHRMM26 Annual Conference
DESCRIPTION:The AHRMM Annual Conference is where the health care supply chain connects\, innovates and evolves.
URL:https://www.aimglobal.org/event/ahrmm26-annual-conference/
LOCATION:San Antonio\, Texas\, San Antonio\, TX\, United States
ATTACH;FMTTYPE=image/png:https://www.aimglobal.org/wp-content/uploads/2024/07/ahrmm.png
END:VEVENT
BEGIN:VEVENT
DTSTART;VALUE=DATE:20260602
DTEND;VALUE=DATE:20260605
DTSTAMP:20260421T005145
CREATED:20260403T172850Z
LAST-MODIFIED:20260403T172850Z
UID:987502821-1780358400-1780617599@www.aimglobal.org
SUMMARY:NRF '26 Asia Pacific
DESCRIPTION:NRF 2026: Retail’s Big Show Asia Pacific will be held from 2 – 4 June 2026 at Marina Bay Sands\, Singapore. Bringing together retail industry leaders from across the region to collaborate on a Pan Asia Pacific stage\, APAC’s premier retail trade event will scale even greater heights as THE meeting point for the world’s fastest growing markets.
URL:https://www.aimglobal.org/event/nrf-26-asia-pacific/
LOCATION:Marina Bay Sands Convention Center\, Singapore
ATTACH;FMTTYPE=image/png:https://www.aimglobal.org/wp-content/uploads/2024/07/nrf.png
END:VEVENT
BEGIN:VEVENT
DTSTART;VALUE=DATE:20260603
DTEND;VALUE=DATE:20260605
DTSTAMP:20260421T005145
CREATED:20260403T170200Z
LAST-MODIFIED:20260403T170200Z
UID:987502807-1780444800-1780617599@www.aimglobal.org
SUMMARY:Smart Manufacturing Week
DESCRIPTION:Where change-makers can find insights\, solutions & connections for their manufacturing & engineering projects. \nResearched and Produced by The Manufacturer – market experts trusted by our established audience to create\, curate and deliver content of value.
URL:https://www.aimglobal.org/event/smart-manufacturing-week/
LOCATION:NEC Birmingham\, Birmingham\, United Kingdom
ATTACH;FMTTYPE=image/jpeg:https://www.aimglobal.org/wp-content/uploads/2026/04/download-1.jpg
END:VEVENT
BEGIN:VEVENT
DTSTART;VALUE=DATE:20260609
DTEND;VALUE=DATE:20260611
DTSTAMP:20260421T005145
CREATED:20260403T162433Z
LAST-MODIFIED:20260403T162433Z
UID:987502784-1780963200-1781135999@www.aimglobal.org
SUMMARY:Food Sure Summit
DESCRIPTION:Join leading food experts over 2-days as they discuss the latest industry developments\, sharing case studies and valuable expertise on food safety\, quality\, and manufacturing practices. \nLearn from some of the best in the business as top speakers from some of the largest food companies in the country share best practices\, regulations\, and techniques. On top of a high-quality program\, you’ll also be able to partake in the built-in networking opportunities that are designed to help you expand your network in the industry face-to-face.
URL:https://www.aimglobal.org/event/food-sure-summit/
LOCATION:Novotel Amsterdam City Hotel\, Amsterdam\, Netherlands
ATTACH;FMTTYPE=image/png:https://www.aimglobal.org/wp-content/uploads/2026/04/ceedc3c1-node_FoodSure_EU_2026_Logo_Original.png
END:VEVENT
BEGIN:VEVENT
DTSTART;VALUE=DATE:20260609
DTEND;VALUE=DATE:20260611
DTSTAMP:20260421T005145
CREATED:20260403T164450Z
LAST-MODIFIED:20260403T164450Z
UID:987502795-1780963200-1781135999@www.aimglobal.org
SUMMARY:European Medical Device Summit
DESCRIPTION:The European Medical Device Summit is a leading medtech event in Europe\, offering actionable strategies to advance medical device development\, design\, product development technologies\, and regulatory affairs. \nJoin over 200 fellow medical device leaders to explore advanced medical device technologies such as eQMS\, continued process verification (CPV)\, and regulatory reporting. Hear from some of the largest medical technology companies on QMS management\, ISO standards for medical devices\, and change management in digital transformation.
URL:https://www.aimglobal.org/event/european-medical-device-summit-4/
LOCATION:Martim Hotel Dusseldorf\, Dusseldorf\, Germany
ATTACH;FMTTYPE=image/png:https://www.aimglobal.org/wp-content/uploads/2024/05/generis-logo-blue-2.png
END:VEVENT
BEGIN:VEVENT
DTSTART;VALUE=DATE:20260609
DTEND;VALUE=DATE:20260612
DTSTAMP:20260421T005145
CREATED:20260403T160617Z
LAST-MODIFIED:20260403T160617Z
UID:987502777-1780963200-1781222399@www.aimglobal.org
SUMMARY:LOUPE Southeast Asia
DESCRIPTION:LOUPE Southeast Asia is the region’s largest event for label\, mid-web flexible packaging\, and inline folding carton converting where the world’s leading suppliers showcase live demonstrations of the latest presses\, substrates\, and converting systems.
URL:https://www.aimglobal.org/event/loupe-southeast-asia/
LOCATION:Bangkok\, Thailand\, Bangkok\, Thailand
ATTACH;FMTTYPE=image/png:https://www.aimglobal.org/wp-content/uploads/2026/04/download-3.png
END:VEVENT
BEGIN:VEVENT
DTSTART;VALUE=DATE:20260609
DTEND;VALUE=DATE:20260612
DTSTAMP:20260421T005145
CREATED:20260403T161833Z
LAST-MODIFIED:20260403T161833Z
UID:987502781-1780963200-1781222399@www.aimglobal.org
SUMMARY:GS1 Connect Conference
DESCRIPTION:Score big with four days of fresh content\, new speakers\, and 50+ sessions spanning five industry tracks. Discover the power of GS1 Standards during interactive workshops and dive into an expanded Beyond the Barcode exhibit designed to prepare you for 2D barcode adoption for Sunrise 2027.
URL:https://www.aimglobal.org/event/gs1-connect-conference/
LOCATION:The Cosmopolitan\, Las Vegas\, Nevada\, United States
ATTACH;FMTTYPE=image/jpeg:https://www.aimglobal.org/wp-content/uploads/2024/07/GS1-GO-Logo.jpg
END:VEVENT
BEGIN:VEVENT
DTSTART;VALUE=DATE:20260609
DTEND;VALUE=DATE:20260612
DTSTAMP:20260421T005145
CREATED:20260403T162612Z
LAST-MODIFIED:20260403T162612Z
UID:987502788-1780963200-1781222399@www.aimglobal.org
SUMMARY:SHOPTALK Europe
DESCRIPTION:Shoptalk Europe brings together the most senior leaders from retailers\, consumer brands\, investors\, and technology innovators. \nIt’s where the industry unites to reimagine how tomorrow’s consumers will discover\, shop\, and buy\, both in-store and online. You’ll walk away with powerful ideas\, practical tactics\, and meaningful connections that every department across your business can use to drive real transformation.
URL:https://www.aimglobal.org/event/shoptalk-europe-3/
LOCATION:Fira Gran Via\, Barcelona\, Spain
ATTACH;FMTTYPE=image/png:https://www.aimglobal.org/wp-content/uploads/2026/01/shoptalk-logo-freelogovectors.net_.png
END:VEVENT
BEGIN:VEVENT
DTSTART;VALUE=DATE:20260609
DTEND;VALUE=DATE:20260612
DTSTAMP:20260421T005145
CREATED:20260403T164014Z
LAST-MODIFIED:20260403T164304Z
UID:987502790-1780963200-1781222399@www.aimglobal.org
SUMMARY:Electric & Hybrid Vehicle Technology Expo Europe
DESCRIPTION:Electric & Hybrid Vehicle Technology Expo Europe returns to Stuttgart\, Germany\, providing attendees with opportunities to learn how to navigate complex industry challenges and supply chain risks\, network with existing and new suppliers and partners\, and keep their business future-proof.
URL:https://www.aimglobal.org/event/european-medical-device-summit-3/
LOCATION:Messe Stuttgart\, Stuttgart\, Germany
ATTACH;FMTTYPE=image/png:https://www.aimglobal.org/wp-content/uploads/2026/04/ElectricHybrid_EU_nodate_ElectricHybrid_EU_nodate_4c.png
END:VEVENT
BEGIN:VEVENT
DTSTART;VALUE=DATE:20260609
DTEND;VALUE=DATE:20260612
DTSTAMP:20260421T005145
CREATED:20260403T164623Z
LAST-MODIFIED:20260403T164623Z
UID:987502798-1780963200-1781222399@www.aimglobal.org
SUMMARY:The Battery Show Europe
DESCRIPTION:Empowering Europe’s Battery\, EV and Energy Storage Value Chain to create connections for future success \n\nThe Battery Show Europe returns to Stuttgart\, Germany\, providing attendees with opportunities to learn how to navigate complex industry challenges and supply chain risks\, network with existing and new suppliers and partners\, and keep their business future-proof.
URL:https://www.aimglobal.org/event/the-battery-show-europe-3/
LOCATION:Messe Stuttgart\, Stuttgart\, Germany
ATTACH;FMTTYPE=image/png:https://www.aimglobal.org/wp-content/uploads/2023/11/The-Battery-show-Europe.png
END:VEVENT
BEGIN:VEVENT
DTSTART;VALUE=DATE:20260610
DTEND;VALUE=DATE:20260613
DTSTAMP:20260421T005145
CREATED:20260320T154536Z
LAST-MODIFIED:20260320T160223Z
UID:987502545-1781049600-1781308799@www.aimglobal.org
SUMMARY:Edge Slovenia
DESCRIPTION:Three days of cutting-edge insights. Unmatched networking. The latest technology. And a city that blends old-world charm with modern innovation. It’s the perfect backdrop for your next breakthrough.
URL:https://www.aimglobal.org/event/edge-slovenia/
LOCATION:Ljubljana Exhibition and Convention Centre\, Ljubljana\, Slovenia
ATTACH;FMTTYPE=image/png:https://www.aimglobal.org/wp-content/uploads/2026/03/6047210-69091b9a3984b.png
END:VEVENT
BEGIN:VEVENT
DTSTART;VALUE=DATE:20260621
DTEND;VALUE=DATE:20260625
DTSTAMP:20260421T005145
CREATED:20260403T171159Z
LAST-MODIFIED:20260403T171159Z
UID:987502810-1782000000-1782345599@www.aimglobal.org
SUMMARY:AWWA Annual Conference & Expo
DESCRIPTION:Every water professional is a hero on a journey. From protecting public health to preserving resources\, water heroes fight the challenges the water community faces and protect their communities. \nAs your strategic ally\, you can rely on AWWA to support your heroic deeds by providing the knowledge\, connections\, and support you need to lead with confidence and defend clean and safe water.
URL:https://www.aimglobal.org/event/awwa-annual-conference-expo/
LOCATION:Washington D.C.\, Washington D.C.\, United States
ATTACH;FMTTYPE=image/png:https://www.aimglobal.org/wp-content/uploads/2024/05/acelogo-e1734114852361.png
END:VEVENT
BEGIN:VEVENT
DTSTART;VALUE=DATE:20260622
DTEND;VALUE=DATE:20260627
DTSTAMP:20260421T005145
CREATED:20260320T152752Z
LAST-MODIFIED:20260320T152752Z
UID:987502533-1782086400-1782518399@www.aimglobal.org
SUMMARY:Automate
DESCRIPTION:Automate is North America’s largest robotics and automation event — and the best place to take your ideas from insight to impact. \nOur show floor features the world’s leading automation solutions\, from AI and robotics to motion control\, vision systems\, and more. Plus\, our educational conference is second to none\, led by the brightest minds in automation today. \nReady to transform the way you work? Take the next step at Automate.
URL:https://www.aimglobal.org/event/automate-3/
LOCATION:McCormick Place\, Chicago
ATTACH;FMTTYPE=image/jpeg:https://www.aimglobal.org/wp-content/uploads/2023/11/automate-e1700671813446.jpg
END:VEVENT
BEGIN:VEVENT
DTSTART;VALUE=DATE:20260623
DTEND;VALUE=DATE:20260626
DTSTAMP:20260421T005145
CREATED:20260403T155946Z
LAST-MODIFIED:20260403T155946Z
UID:987502773-1782172800-1782431999@www.aimglobal.org
SUMMARY:2027 European Symposium
DESCRIPTION:Going forward\, IAFP’s European Symposium on Food Safety will take place on a biennial basis. The location for the 2027 European Symposium will be announced soo
URL:https://www.aimglobal.org/event/2027-european-symposium/
LOCATION:Messe München\, Munich\, Germany
ATTACH;FMTTYPE=image/png:https://www.aimglobal.org/wp-content/uploads/2026/04/download-2.png
END:VEVENT
BEGIN:VEVENT
DTSTART;VALUE=DATE:20260624
DTEND;VALUE=DATE:20260627
DTSTAMP:20260421T005145
CREATED:20241217T190214Z
LAST-MODIFIED:20241217T190214Z
UID:987499114-1782259200-1782518399@www.aimglobal.org
SUMMARY:Transport Logistic China
DESCRIPTION:As Asia’s largest and most exciting fair\, you can catch up on the latest developments\, exchange knowledge\, and efficiently network with your target customers and logistics experts from all over the world.
URL:https://www.aimglobal.org/event/transport-logistic-china/
LOCATION:Shanghai New International Exhibition Centre\, Shanghai\, China
ATTACH;FMTTYPE=image/png:https://www.aimglobal.org/wp-content/uploads/2024/12/transport-logistic.png
END:VEVENT
BEGIN:VEVENT
DTSTART;VALUE=DATE:20260624
DTEND;VALUE=DATE:20260701
DTSTAMP:20260421T005145
CREATED:20240509T191030Z
LAST-MODIFIED:20240509T191030Z
UID:987497306-1782331200-1782849599@www.aimglobal.org
SUMMARY:American Library Association Conference
DESCRIPTION:Join us for top-quality education and best practices; featured thought leaders; and special programming for library professionals looking to further develop their libraries\, communities\, and careers
URL:https://www.aimglobal.org/event/american-library-association-conference-5/
LOCATION:Denver\, Colorado\, Denver\, Colorado
ATTACH;FMTTYPE=image/png:https://www.aimglobal.org/wp-content/uploads/2024/05/ALAannual-1.png
END:VEVENT
BEGIN:VEVENT
DTSTART;VALUE=DATE:20260626
DTEND;VALUE=DATE:20260628
DTSTAMP:20260421T005145
CREATED:20260403T181924Z
LAST-MODIFIED:20260403T181924Z
UID:987502826-1782432000-1782604799@www.aimglobal.org
SUMMARY:CannaCon St. Paul
DESCRIPTION:CannaCon Midwest St. Paul looks forward to helping grow the midwest’s cannabis industry for years to come. Join us in St. Paul to network with like-minded entrepreneurs who are building a bold\, new industry. Attend CannaCon for all of your cannabis business needs. From seed to seed money. CannaCon is a one-stop shop\, from cultivation supplies\, the newest industry innovations\, world class genetics\, business and legal advice\, retail displays\, extraction technology\, scientific and financial trends\, marketing\, branding and so much more. Exhibit at CannaCon to ensure your business is part of an elite group of Industry professionals who are speaking to the right target audience at the right time. Whether you are an industry pro or newcomer\, join the Industry Growers paving the way.
URL:https://www.aimglobal.org/event/cannacon-st-paul/
LOCATION:Saint Paul River Centre\, 175 Kellog Blvd\, St. Paul\, MN\, United States
ATTACH;FMTTYPE=image/png:https://www.aimglobal.org/wp-content/uploads/2024/05/cannacon.png
END:VEVENT
BEGIN:VEVENT
DTSTART;VALUE=DATE:20260712
DTEND;VALUE=DATE:20260716
DTSTAMP:20260421T005145
CREATED:20260403T171422Z
LAST-MODIFIED:20260403T171422Z
UID:987502813-1783814400-1784159999@www.aimglobal.org
SUMMARY:IFT FIRST
DESCRIPTION:At IFT FIRST\, advocacy for science\, innovation\, and the power of collaboration take center stage. As the leading food science and innovation event of the year\, IFT FIRST is where researchers\, suppliers\, decision-makers and more come together to connect\, collaborate\, and learn. \nExperience how research meets real world applications at IFT FIRST.
URL:https://www.aimglobal.org/event/ift-first/
LOCATION:Chicago\, IL
ATTACH;FMTTYPE=image/png:https://www.aimglobal.org/wp-content/uploads/2024/05/IFT.png
END:VEVENT
END:VCALENDAR