BEGIN:VCALENDAR
VERSION:2.0
PRODID:-//AIM Global - ECPv6.15.20//NONSGML v1.0//EN
CALSCALE:GREGORIAN
METHOD:PUBLISH
X-WR-CALNAME:AIM Global
X-ORIGINAL-URL:https://www.aimglobal.org
X-WR-CALDESC:Events for AIM Global
REFRESH-INTERVAL;VALUE=DURATION:PT1H
X-Robots-Tag:noindex
X-PUBLISHED-TTL:PT1H
BEGIN:VTIMEZONE
TZID:America/New_York
BEGIN:DAYLIGHT
TZOFFSETFROM:-0500
TZOFFSETTO:-0400
TZNAME:EDT
DTSTART:20250309T070000
END:DAYLIGHT
BEGIN:STANDARD
TZOFFSETFROM:-0400
TZOFFSETTO:-0500
TZNAME:EST
DTSTART:20251102T060000
END:STANDARD
BEGIN:DAYLIGHT
TZOFFSETFROM:-0500
TZOFFSETTO:-0400
TZNAME:EDT
DTSTART:20260308T070000
END:DAYLIGHT
BEGIN:STANDARD
TZOFFSETFROM:-0400
TZOFFSETTO:-0500
TZNAME:EST
DTSTART:20261101T060000
END:STANDARD
BEGIN:DAYLIGHT
TZOFFSETFROM:-0500
TZOFFSETTO:-0400
TZNAME:EDT
DTSTART:20270314T070000
END:DAYLIGHT
BEGIN:STANDARD
TZOFFSETFROM:-0400
TZOFFSETTO:-0500
TZNAME:EST
DTSTART:20271107T060000
END:STANDARD
BEGIN:DAYLIGHT
TZOFFSETFROM:-0500
TZOFFSETTO:-0400
TZNAME:EDT
DTSTART:20280312T070000
END:DAYLIGHT
BEGIN:STANDARD
TZOFFSETFROM:-0400
TZOFFSETTO:-0500
TZNAME:EST
DTSTART:20281105T060000
END:STANDARD
END:VTIMEZONE
BEGIN:VEVENT
DTSTART;VALUE=DATE:20261020
DTEND;VALUE=DATE:20261022
DTSTAMP:20260420T232155
CREATED:20260410T190844Z
LAST-MODIFIED:20260410T190844Z
UID:987502893-1792454400-1792627199@www.aimglobal.org
SUMMARY:IoT Tech Expo Europe
DESCRIPTION:The Leading EU Event for IoT\, Industrial AI and Autonomous Operations
URL:https://www.aimglobal.org/event/iot-tech-expo-europe-3/
LOCATION:RAI\, Amsterdam\, Netherlands
ATTACH;FMTTYPE=image/png:https://www.aimglobal.org/wp-content/uploads/2024/05/iottechecpo.png
END:VEVENT
BEGIN:VEVENT
DTSTART;VALUE=DATE:20261026
DTEND;VALUE=DATE:20261028
DTSTAMP:20260420T232155
CREATED:20260410T181813Z
LAST-MODIFIED:20260410T181813Z
UID:987502874-1792972800-1793145599@www.aimglobal.org
SUMMARY:American Medical Device Summit
DESCRIPTION:The Generis American Medical Device Summit AMD has a rich history as an exclusive platform for MedTech leaders. Now entering our 13th year\, it continues to be one of the top medical device events and a leading medical device conference for executives and solution providers to connect\, benchmark\, and explore what’s next in MedTech.
URL:https://www.aimglobal.org/event/american-medical-device-summit-3/
LOCATION:Renaissance Schaumburg Convention Center Hotel\, Chicago\, Illinois
ATTACH;FMTTYPE=image/png:https://www.aimglobal.org/wp-content/uploads/2024/05/generis-logo-blue-2.png
END:VEVENT
BEGIN:VEVENT
DTSTART;VALUE=DATE:20261029
DTEND;VALUE=DATE:20261102
DTSTAMP:20260420T232155
CREATED:20241227T164321Z
LAST-MODIFIED:20241227T164321Z
UID:987499316-1793232000-1793577599@www.aimglobal.org
SUMMARY:LabelExpo India
DESCRIPTION:View tomorrow’s technology today\, only at the largest label and package printing event in South Asia
URL:https://www.aimglobal.org/event/labelexpo-india-2/
LOCATION:New Delhi\, India
ATTACH;FMTTYPE=image/png:https://www.aimglobal.org/wp-content/uploads/2024/12/Untitled-design-12.png
END:VEVENT
BEGIN:VEVENT
DTSTART;VALUE=DATE:20261101
DTEND;VALUE=DATE:20261105
DTSTAMP:20260420T232155
CREATED:20260410T181524Z
LAST-MODIFIED:20260410T181524Z
UID:987502871-1793491200-1793836799@www.aimglobal.org
SUMMARY:Retail Value Chain Federation Fall Conference
DESCRIPTION:This conference is designed for retail professionals aiming to improve profitability\, optimize supply chain execution\, and understand current retail trends.
URL:https://www.aimglobal.org/event/retail-value-chain-federation-fall-conference-2/
LOCATION:Westin Kierland Resort and Spa\, 6902 East Greenway Parkway\, Scottsdale\, AZ\, United States
ATTACH;FMTTYPE=image/jpeg:https://www.aimglobal.org/wp-content/uploads/2024/07/RVCF.jpg
END:VEVENT
BEGIN:VEVENT
DTSTART;VALUE=DATE:20261118
DTEND;VALUE=DATE:20261121
DTSTAMP:20260420T232155
CREATED:20260410T190635Z
LAST-MODIFIED:20260410T190635Z
UID:987502890-1794960000-1795219199@www.aimglobal.org
SUMMARY:IFMA World Workplace
DESCRIPTION:At World Workplace\, we’re bringing together the brightest minds in facility management\, workplace strategy\, and business innovation.
URL:https://www.aimglobal.org/event/ifma-world-workplace-3/
LOCATION:Anaheim\, California\, Anaheim\, California
ATTACH;FMTTYPE=image/jpeg:https://www.aimglobal.org/wp-content/uploads/2026/04/IFMA-2026-320x202-1.jpg
END:VEVENT
BEGIN:VEVENT
DTSTART;VALUE=DATE:20261201
DTEND;VALUE=DATE:20261205
DTSTAMP:20260420T232155
CREATED:20260410T180251Z
LAST-MODIFIED:20260410T180251Z
UID:987502868-1796083200-1796428799@www.aimglobal.org
SUMMARY:MJBizCon
DESCRIPTION:Fuel Your Cannabis Business with Smarter Insights \nMJBizCon is the largest and most influential cannabis business conference\, bringing together industry leaders\, innovators\, and decision-makers from across the global cannabis ecosystem. Built for professionals at every level\, the conference delivers expert-led education\, actionable insights\, and high-value networking opportunities designed to drive business growth.
URL:https://www.aimglobal.org/event/mjbizcon-2/
LOCATION:Las Vegas Convention Center\, Las Vegas\, Nevada
ATTACH;FMTTYPE=image/png:https://www.aimglobal.org/wp-content/uploads/2024/05/MJBIZCon.png
END:VEVENT
BEGIN:VEVENT
DTSTART;VALUE=DATE:20270110
DTEND;VALUE=DATE:20270113
DTSTAMP:20260420T232155
CREATED:20260410T180049Z
LAST-MODIFIED:20260410T180049Z
UID:987502865-1799539200-1799798399@www.aimglobal.org
SUMMARY:NRF Retails Big Show
DESCRIPTION:
URL:https://www.aimglobal.org/event/nrf-retails-big-show/
LOCATION:Jacob K. Javits Convention Center\, New York\, New York
ATTACH;FMTTYPE=image/png:https://www.aimglobal.org/wp-content/uploads/2024/07/nrf.png
END:VEVENT
BEGIN:VEVENT
DTSTART;VALUE=DATE:20270519
DTEND;VALUE=DATE:20270521
DTSTAMP:20260420T232155
CREATED:20260403T143209Z
LAST-MODIFIED:20260403T143209Z
UID:987502758-1810684800-1810857599@www.aimglobal.org
SUMMARY:MD&M East
DESCRIPTION:Efficiently and effectively use your time and money by attending ONE SHOW THAT COVERS ALL aspects of the manufacturing process.
URL:https://www.aimglobal.org/event/mdm-east/
LOCATION:Jacob K. Javits Convention Center\, New York\, New York
ATTACH;FMTTYPE=image/png:https://www.aimglobal.org/wp-content/uploads/2026/04/download-1.png
END:VEVENT
BEGIN:VEVENT
DTSTART;VALUE=DATE:20270623
DTEND;VALUE=DATE:20270630
DTSTAMP:20260420T232155
CREATED:20240509T190857Z
LAST-MODIFIED:20240509T190857Z
UID:987497303-1813780800-1814299199@www.aimglobal.org
SUMMARY:American Library Association Conference
DESCRIPTION:Join us for top-quality education and best practices; featured thought leaders; and special programming for library professionals looking to further develop their libraries\, communities\, and careers!
URL:https://www.aimglobal.org/event/american-library-association-conference-4/
LOCATION:New Orleans\, LA\, New Orleans\, Louisiana
ATTACH;FMTTYPE=image/png:https://www.aimglobal.org/wp-content/uploads/2024/05/ALAannual-1.png
END:VEVENT
END:VCALENDAR