BEGIN:VCALENDAR
VERSION:2.0
PRODID:-//AIM Global - ECPv6.15.20//NONSGML v1.0//EN
CALSCALE:GREGORIAN
METHOD:PUBLISH
X-WR-CALNAME:AIM Global
X-ORIGINAL-URL:https://www.aimglobal.org
X-WR-CALDESC:Events for AIM Global
REFRESH-INTERVAL;VALUE=DURATION:PT1H
X-Robots-Tag:noindex
X-PUBLISHED-TTL:PT1H
BEGIN:VTIMEZONE
TZID:America/New_York
BEGIN:DAYLIGHT
TZOFFSETFROM:-0500
TZOFFSETTO:-0400
TZNAME:EDT
DTSTART:20230312T070000
END:DAYLIGHT
BEGIN:STANDARD
TZOFFSETFROM:-0400
TZOFFSETTO:-0500
TZNAME:EST
DTSTART:20231105T060000
END:STANDARD
BEGIN:DAYLIGHT
TZOFFSETFROM:-0500
TZOFFSETTO:-0400
TZNAME:EDT
DTSTART:20240310T070000
END:DAYLIGHT
BEGIN:STANDARD
TZOFFSETFROM:-0400
TZOFFSETTO:-0500
TZNAME:EST
DTSTART:20241103T060000
END:STANDARD
BEGIN:DAYLIGHT
TZOFFSETFROM:-0500
TZOFFSETTO:-0400
TZNAME:EDT
DTSTART:20250309T070000
END:DAYLIGHT
BEGIN:STANDARD
TZOFFSETFROM:-0400
TZOFFSETTO:-0500
TZNAME:EST
DTSTART:20251102T060000
END:STANDARD
END:VTIMEZONE
BEGIN:VEVENT
DTSTART;TZID=America/New_York:20240604T070000
DTEND;TZID=America/New_York:20240604T190000
DTSTAMP:20260421T130700
CREATED:20240504T001508Z
LAST-MODIFIED:20240504T001508Z
UID:987497032-1717484400-1717527600@www.aimglobal.org
SUMMARY:Breakthroughs in Smart Packaging – Revolutionizing the Link Between Manufacturers and Consumers
DESCRIPTION:Automating supply chains is an accepted business practice and leads to improved operational efficiency and higher profitability. Internet of Packaging (IoP) technologies\, such as RFID\, barcodes\, QR codes\, and digital printing\, have already been understood and adopted\, and are beginning to emerge with new competitive market advantages. Inventory control\, authenticity\, security\, and the customer experience are just part of what the Internet of Packaging has already begun to provide. Learn how the use of IoT technology is being used to offer product authenticity\, sustainability\, and powerful consumer experiences\, in addition to measurable ROI.
URL:https://www.aimglobal.org/event/breakthroughs-in-smart-packaging-revolutionizing-the-link-between-manufacturers-and-consumers/
ATTACH;FMTTYPE=image/jpeg:https://www.aimglobal.org/wp-content/uploads/2024/05/Breakthroughs-in-Smart-Packaging-scaled.jpg
END:VEVENT
BEGIN:VEVENT
DTSTART;TZID=America/New_York:20240604T040000
DTEND;TZID=America/New_York:20240606T130000
DTSTAMP:20260421T130700
CREATED:20231122T184835Z
LAST-MODIFIED:20231122T184835Z
UID:987495560-1717473600-1717678800@www.aimglobal.org
SUMMARY:NACS Convenience Summit Europe
DESCRIPTION:
URL:https://www.aimglobal.org/event/nacs-convenience-summit-europe/
LOCATION:Barcelona
ATTACH;FMTTYPE=image/png:https://www.aimglobal.org/wp-content/uploads/2023/11/nacs-logo.png
END:VEVENT
BEGIN:VEVENT
DTSTART;VALUE=DATE:20240603
DTEND;VALUE=DATE:20240608
DTSTAMP:20260421T130700
CREATED:20240509T191900Z
LAST-MODIFIED:20240509T191900Z
UID:987497312-1717444800-1717790399@www.aimglobal.org
SUMMARY:PackExpo Mexico
DESCRIPTION:EXPO PACK México positions itself as the leading event that connects end-users with the most prominent suppliers in the packaging and processing industry. The show will bring together experts\, innovators\, and professionals from over 40 vertical markets\, creating a vital space for exploring new technologies and business opportunities. \n‍
URL:https://www.aimglobal.org/event/packexpo-mexico/
LOCATION:Mexico City\, Mexico\, Mexico City\, Mexico
ATTACH;FMTTYPE=image/png:https://www.aimglobal.org/wp-content/uploads/2024/05/packexpomexico.png
END:VEVENT
BEGIN:VEVENT
DTSTART;VALUE=DATE:20240603
DTEND;VALUE=DATE:20240607
DTSTAMP:20260421T130700
CREATED:20240509T225710Z
LAST-MODIFIED:20240509T225710Z
UID:987497470-1717444800-1717703999@www.aimglobal.org
SUMMARY:SmartFactory 2024
DESCRIPTION:Where change-makers can find insights\, solutions & connections for their manufacturing & engineering projects.
URL:https://www.aimglobal.org/event/smartfactory-2024/
LOCATION:NEC Birmingham\, Birmingham\, United Kingdom
ATTACH;FMTTYPE=image/jpeg:https://www.aimglobal.org/wp-content/uploads/2024/05/smartweek.jpg
END:VEVENT
BEGIN:VEVENT
DTSTART;VALUE=DATE:20240603
DTEND;VALUE=DATE:20240607
DTSTAMP:20260421T130700
CREATED:20240509T223527Z
LAST-MODIFIED:20240509T223527Z
UID:987497441-1717444800-1717703999@www.aimglobal.org
SUMMARY:Retail Innovation Conference and Expo
DESCRIPTION:The evolved customer journey where content\, community and commerce converge.
URL:https://www.aimglobal.org/event/retail-innovation-conference-and-expo/
LOCATION:Chicago\, IL
ATTACH;FMTTYPE=image/png:https://www.aimglobal.org/wp-content/uploads/2024/05/RICE_Logo.png
END:VEVENT
BEGIN:VEVENT
DTSTART;VALUE=DATE:20240603
DTEND;VALUE=DATE:20240607
DTSTAMP:20260421T130700
CREATED:20240509T213327Z
LAST-MODIFIED:20240509T213409Z
UID:987497382-1717444800-1717703999@www.aimglobal.org
SUMMARY:MD&M SouthPack
DESCRIPTION:Bringing the product design-to-development lifecycle full circle.
URL:https://www.aimglobal.org/event/mdm-southpack/
LOCATION:Charlotte Convention Center\, Charlotte\, North Carolina
ATTACH;FMTTYPE=image/png:https://www.aimglobal.org/wp-content/uploads/2024/05/southpack.png
END:VEVENT
BEGIN:VEVENT
DTSTART;VALUE=DATE:20240603
DTEND;VALUE=DATE:20240607
DTSTAMP:20260421T130700
CREATED:20240105T021351Z
LAST-MODIFIED:20240105T021351Z
UID:987495843-1717444800-1717703999@www.aimglobal.org
SUMMARY:GS1 Connect 2024
DESCRIPTION:
URL:https://www.aimglobal.org/event/gs1-connect-2024/
LOCATION:Orlando
ATTACH;FMTTYPE=image/jpeg:https://www.aimglobal.org/wp-content/uploads/2024/01/GS1-US.jpg
END:VEVENT
BEGIN:VEVENT
DTSTART;VALUE=DATE:20240603
DTEND;VALUE=DATE:20240605
DTSTAMP:20260421T130700
CREATED:20240509T174946Z
LAST-MODIFIED:20240509T174946Z
UID:987497241-1717444800-1717531199@www.aimglobal.org
SUMMARY:RFID and IoT in the Nordics
DESCRIPTION:Impact\, quality\, and efficiency—more than buzzwords\, they’re essential for today’s businesses. Time is of the essence\, and Automatic Identification and Data Capture (AIDC) is not just a tool; it’s the game-changer steering us toward a future of green social accountability.
URL:https://www.aimglobal.org/event/rfid-and-iot-in-the-nordics/
LOCATION:IT University\, Copenhagen\, Denmark
ATTACH;FMTTYPE=image/png:https://www.aimglobal.org/wp-content/uploads/2024/05/Screenshot-2024-04-15-145938.png
END:VEVENT
BEGIN:VEVENT
DTSTART;VALUE=DATE:20240602
DTEND;VALUE=DATE:20240606
DTSTAMP:20260421T130700
CREATED:20240509T173130Z
LAST-MODIFIED:20240509T173130Z
UID:987497226-1717358400-1717617599@www.aimglobal.org
SUMMARY:ShopTalk Europe
DESCRIPTION:Transforming Europe’s retail ecosystem.
URL:https://www.aimglobal.org/event/shoptalk-europe/
LOCATION:Fira Gran Via\, Barcelona\, Spain
ATTACH;FMTTYPE=image/png:https://www.aimglobal.org/wp-content/uploads/2024/05/shoptalk.png
END:VEVENT
BEGIN:VEVENT
DTSTART;VALUE=DATE:20240602
DTEND;VALUE=DATE:20240605
DTSTAMP:20260421T130700
CREATED:20231122T015241Z
LAST-MODIFIED:20231122T015241Z
UID:987495512-1717358400-1717531199@www.aimglobal.org
SUMMARY:ICFPS International Conference on Food Packaging and Safety
DESCRIPTION:
URL:https://www.aimglobal.org/event/icfps-international-conference-on-food-packaging-and-safety/
LOCATION:New York
END:VEVENT
BEGIN:VEVENT
DTSTART;VALUE=DATE:20240601
DTEND;VALUE=DATE:20240606
DTSTAMP:20260421T130700
CREATED:20231213T014907Z
LAST-MODIFIED:20231213T014907Z
UID:987495683-1717272000-1717617599@www.aimglobal.org
SUMMARY:WERC Annual Conference
DESCRIPTION:
URL:https://www.aimglobal.org/event/werc-annual-conference/
LOCATION:Dallas\, TX
ATTACH;FMTTYPE=image/png:https://www.aimglobal.org/wp-content/uploads/2023/12/WERC.png
END:VEVENT
BEGIN:VEVENT
DTSTART;VALUE=DATE:20240530
DTEND;VALUE=DATE:20240602
DTSTAMP:20260421T130700
CREATED:20240509T170603Z
LAST-MODIFIED:20240509T170603Z
UID:987497194-1717099200-1717271999@www.aimglobal.org
SUMMARY:NECANN Chicago
DESCRIPTION:NECANN’s Illinois Cannabis Convention will once again be the largest\, most comprehensive gathering of the state’s cannabis industry and community\, making it THE must-attend event for anyone who wants to be a part of this rapidly growing industry!
URL:https://www.aimglobal.org/event/necann-chicago/
LOCATION:Schaumburg Convention Center\, Chicago\, Illinois
ATTACH;FMTTYPE=image/png:https://www.aimglobal.org/wp-content/uploads/2024/05/NECANN.png
END:VEVENT
BEGIN:VEVENT
DTSTART;VALUE=DATE:20240529
DTEND;VALUE=DATE:20240601
DTSTAMP:20260421T130700
CREATED:20240509T222534Z
LAST-MODIFIED:20240509T222534Z
UID:987497423-1717012800-1717185599@www.aimglobal.org
SUMMARY:European Medical Device Summit
DESCRIPTION:The European Medical Device Summit sets the benchmark for industry collaboration and idea exchange. This event offers valuable insights and tactics to enhance the professional growth of executives engaged in medical device aspects such as design\, product development\, innovation\, technology and quality/regulatory matters.
URL:https://www.aimglobal.org/event/european-medical-device-summit/
LOCATION:Titanic Chaussee Berlin Hotel\, Berlin\, Germany
ATTACH;FMTTYPE=image/png:https://www.aimglobal.org/wp-content/uploads/2024/05/generis-logo-blue-1.png
END:VEVENT
BEGIN:VEVENT
DTSTART;TZID=America/New_York:20240529T090000
DTEND;TZID=America/New_York:20240529T090000
DTSTAMP:20260421T130700
CREATED:20240504T000948Z
LAST-MODIFIED:20240504T000948Z
UID:987497029-1716973200-1716973200@www.aimglobal.org
SUMMARY:Revolutionizing Food Waste Prevention: AIDC Technologies for a Sustainable Future Webinar
DESCRIPTION:Food waste is a multifaceted global challenge impacting economies\, environments\, and societies. This session delves into the pivotal role of Automatic Identification and Data Capture (AIDC) technologies in reshaping the food supply chain. With a focus on prevention\, rescue\, and recycling\, the discussion probes the avenues where AIDC technologies\, such as IoT\, RFID\, and barcode systems\, revolutionize waste mitigation strategies. These technologies enable real-time traceability\, facilitating proactive measures from farm to consumer and empowering decision-making to curb unnecessary waste. Join us to delve into how AIDC technologies are pivotal in reshaping the narrative on food waste\, empowering industries\, governments\, and communities toward a more sustainable and efficient future.
URL:https://www.aimglobal.org/event/revolutionizing-food-waste-prevention-aidc-technologies-for-a-sustainable-future-webinar/
ATTACH;FMTTYPE=image/jpeg:https://www.aimglobal.org/wp-content/uploads/2024/05/Food-Waste-Webinar-1-scaled.jpg
END:VEVENT
BEGIN:VEVENT
DTSTART;VALUE=DATE:20240528
DTEND;VALUE=DATE:20240601
DTSTAMP:20260421T130700
CREATED:20240509T224358Z
LAST-MODIFIED:20240509T224358Z
UID:987497450-1716926400-1717185599@www.aimglobal.org
SUMMARY:HIMSS
DESCRIPTION:HIMSS24 Europe is the destination to learn\, connect and innovate.
URL:https://www.aimglobal.org/event/himss-3/
LOCATION:Rome\, Italy
ATTACH;FMTTYPE=image/png:https://www.aimglobal.org/wp-content/uploads/2024/05/HIMSS-Europe.png
END:VEVENT
BEGIN:VEVENT
DTSTART;VALUE=DATE:20240527
DTEND;VALUE=DATE:20240601
DTSTAMP:20260421T130700
CREATED:20240308T005514Z
LAST-MODIFIED:20240308T005514Z
UID:987496169-1716840000-1717185599@www.aimglobal.org
SUMMARY:identiverse
DESCRIPTION:Connect with the brightest minds in the Identity Industry! \nExperience unparalleled education\, collaboration\, and insight into the future of Identity. Join us in Las Vegas at the end of May for a unique event experience and participate alongside experts and peers in information-rich sessions on the latest technologies\, best practices\, and industry trends.
URL:https://www.aimglobal.org/event/identiverse/
LOCATION:ARIA Resort and Casino\, Las Vegas\, Nevada
ATTACH;FMTTYPE=image/png:https://www.aimglobal.org/wp-content/uploads/2024/03/indetiverse4.png
END:VEVENT
BEGIN:VEVENT
DTSTART;VALUE=DATE:20240527
DTEND;VALUE=DATE:20240530
DTSTAMP:20260421T130700
CREATED:20240509T222814Z
LAST-MODIFIED:20240509T222814Z
UID:987497428-1716840000-1717012799@www.aimglobal.org
SUMMARY:European Pharma Outsourcing Summit
DESCRIPTION:The Generis European Pharma Outsourcing Summit sets the standard on how the industry should connect and exchange ideas.
URL:https://www.aimglobal.org/event/european-pharma-outsourcing-summit/
LOCATION:Titanic Chaussee Berlin Hotel\, Berlin\, Germany
ATTACH;FMTTYPE=image/png:https://www.aimglobal.org/wp-content/uploads/2024/05/generis-logo-blue-2.png
END:VEVENT
BEGIN:VEVENT
DTSTART;VALUE=DATE:20240521
DTEND;VALUE=DATE:20240525
DTSTAMP:20260421T130700
CREATED:20240509T185220Z
LAST-MODIFIED:20240509T185220Z
UID:987497285-1716321600-1716580799@www.aimglobal.org
SUMMARY:MedTech Europe
DESCRIPTION:The MedTech Forum is the largest health and medical technology industry conference in Europe and a key event since 2007.
URL:https://www.aimglobal.org/event/medtech-europe/
LOCATION:Messe Wien\, Vienna\, Austria
ATTACH;FMTTYPE=image/png:https://www.aimglobal.org/wp-content/uploads/2024/05/medtech-1.png
END:VEVENT
BEGIN:VEVENT
DTSTART;VALUE=DATE:20240521
DTEND;VALUE=DATE:20240525
DTSTAMP:20260421T130700
CREATED:20240508T222419Z
LAST-MODIFIED:20240508T222419Z
UID:987497154-1716321600-1716580799@www.aimglobal.org
SUMMARY:MedTech Forum
DESCRIPTION:The MedTech Forum is the largest health and medical technology industry conference in Europe and a key event since 2007.
URL:https://www.aimglobal.org/event/medtech-forum/
LOCATION:Vienna\, Austria\, Vienna\, Austria
ATTACH;FMTTYPE=image/png:https://www.aimglobal.org/wp-content/uploads/2024/05/medtech.png
END:VEVENT
BEGIN:VEVENT
DTSTART;TZID=America/New_York:20240521T070000
DTEND;TZID=America/New_York:20240521T070000
DTSTAMP:20260421T130700
CREATED:20240504T000212Z
LAST-MODIFIED:20240504T000256Z
UID:987497025-1716274800-1716274800@www.aimglobal.org
SUMMARY:Unleashing RFID to Create Innovation Webinar
DESCRIPTION:In this panel session\, participants will explore the intersection of RFID with various emerging technologies\, such as digital twins\, robotics\, sensors\, and generative AI. The rapid evolution of these technologies is reshaping industries and creating new possibilities for businesses. This session will provide an overview of the innovative products and applications that are changing the business landscape. Industry leaders and experts will share insights\, discuss real-world implementations\, and talk about the potential future applications from these technologies. Attendees will gain valuable perspectives on how RFID’s integration with these technologies is driving creativity and revolutionizing the way companies operate in today’s dynamic and evolving technological landscape.
URL:https://www.aimglobal.org/event/unleashing-rfid-to-create-innovation/
ATTACH;FMTTYPE=image/jpeg:https://www.aimglobal.org/wp-content/uploads/2024/05/Innovation-webinar-1-scaled.jpg
END:VEVENT
BEGIN:VEVENT
DTSTART;VALUE=DATE:20240517
DTEND;VALUE=DATE:20240522
DTSTAMP:20260421T130700
CREATED:20240509T163757Z
LAST-MODIFIED:20240509T163757Z
UID:987497168-1715976000-1716321599@www.aimglobal.org
SUMMARY:National Restaurant Association Show
DESCRIPTION:Be a part of the largest gathering of foodservice professionals in the Western hemisphere\, with more resources\, information and connection opportunities than any other industry event.
URL:https://www.aimglobal.org/event/national-restaurant-association-show-2/
LOCATION:Chicago\, IL
ATTACH;FMTTYPE=image/png:https://www.aimglobal.org/wp-content/uploads/2024/05/National-Restaruant-Show.png
END:VEVENT
BEGIN:VEVENT
DTSTART;VALUE=DATE:20240517
DTEND;VALUE=DATE:20240522
DTSTAMP:20260421T130700
CREATED:20231122T185417Z
LAST-MODIFIED:20231122T212355Z
UID:987495563-1715976000-1716321599@www.aimglobal.org
SUMMARY:National Restaurant Association Show
DESCRIPTION:
URL:https://www.aimglobal.org/event/national-restaurant-association-show/
LOCATION:McCormick Place\, Chicago
ATTACH;FMTTYPE=image/png:https://www.aimglobal.org/wp-content/uploads/2023/11/National-Restaruant-Show-1-e1700670217586.png
END:VEVENT
BEGIN:VEVENT
DTSTART;VALUE=DATE:20240517
DTEND;VALUE=DATE:20240519
DTSTAMP:20260421T130700
CREATED:20240509T164115Z
LAST-MODIFIED:20240509T164115Z
UID:987497171-1715976000-1716062399@www.aimglobal.org
SUMMARY:The Floral Conference
DESCRIPTION:The Floral Conference – Miami is an interactive experience into the future of floral and explore how you can leverage research to drive change and prosperity in 2024 and beyond!
URL:https://www.aimglobal.org/event/the-floral-conference/
LOCATION:Miami\, Florida\, Miami\, Florida
ATTACH;FMTTYPE=image/jpeg:https://www.aimglobal.org/wp-content/uploads/2024/05/floral-conference.jpg
END:VEVENT
BEGIN:VEVENT
DTSTART;VALUE=DATE:20240516
DTEND;VALUE=DATE:20240519
DTSTAMP:20260421T130700
CREATED:20240509T172015Z
LAST-MODIFIED:20240509T172015Z
UID:987497213-1715889600-1716062399@www.aimglobal.org
SUMMARY:CannaCon West
DESCRIPTION:Join us in Albuquerque to network with like-minded entrepreneurs who are building a bold\, new industry. Attend CannaCon for all of your cannabis business needs.
URL:https://www.aimglobal.org/event/cannacon-west-2/
LOCATION:Albuquerque Convention Center\, Albuquerque\, New Mexico
ATTACH;FMTTYPE=image/png:https://www.aimglobal.org/wp-content/uploads/2024/05/cannacon.png
END:VEVENT
BEGIN:VEVENT
DTSTART;TZID=America/New_York:20240515T040000
DTEND;TZID=America/New_York:20240516T130000
DTSTAMP:20260421T130700
CREATED:20231213T021235Z
LAST-MODIFIED:20231213T021235Z
UID:987495706-1715745600-1715864400@www.aimglobal.org
SUMMARY:Empack 2024
DESCRIPTION:
URL:https://www.aimglobal.org/event/empack-2024/
LOCATION:Messe Dortmund\, Germany
ATTACH;FMTTYPE=image/png:https://www.aimglobal.org/wp-content/uploads/2023/12/Empack.png
END:VEVENT
BEGIN:VEVENT
DTSTART;VALUE=DATE:20240514
DTEND;VALUE=DATE:20240517
DTSTAMP:20260421T130700
CREATED:20231213T020052Z
LAST-MODIFIED:20231213T020052Z
UID:987495694-1715716800-1715889599@www.aimglobal.org
SUMMARY:All About Automation - Heibronn
DESCRIPTION:
URL:https://www.aimglobal.org/event/all-about-automation-heibronn/
LOCATION:RedBlue\, Germany
ATTACH;FMTTYPE=image/jpeg:https://www.aimglobal.org/wp-content/uploads/2023/12/All-about-automation-2.jpg
END:VEVENT
BEGIN:VEVENT
DTSTART;VALUE=DATE:20240512
DTEND;VALUE=DATE:20240516
DTSTAMP:20260421T130700
CREATED:20231122T004433Z
LAST-MODIFIED:20231122T004433Z
UID:987495467-1715544000-1715803199@www.aimglobal.org
SUMMARY:NFC Forum/RAIN Alliance Meeting
DESCRIPTION:
URL:https://www.aimglobal.org/event/nfc-forum-rain-alliance-meeting/
LOCATION:Taichung\, TAiwan
ATTACH;FMTTYPE=image/jpeg:https://www.aimglobal.org/wp-content/uploads/2023/11/NFC-Forum.jpg
END:VEVENT
BEGIN:VEVENT
DTSTART;VALUE=DATE:20240508
DTEND;VALUE=DATE:20240510
DTSTAMP:20260421T130700
CREATED:20240509T223849Z
LAST-MODIFIED:20240509T223849Z
UID:987497447-1715198400-1715284799@www.aimglobal.org
SUMMARY:Power2Drive Europe
DESCRIPTION:The international exhibition for charging infrastructure and e-mobility.
URL:https://www.aimglobal.org/event/power2drive-europe/
LOCATION:Munich\, Germany\, Munich\, Germany
ATTACH;FMTTYPE=image/jpeg:https://www.aimglobal.org/wp-content/uploads/2024/05/power2drive.jpg
END:VEVENT
BEGIN:VEVENT
DTSTART;VALUE=DATE:20240507
DTEND;VALUE=DATE:20240511
DTSTAMP:20260421T130700
CREATED:20231122T200117Z
LAST-MODIFIED:20231122T200117Z
UID:987495605-1715112000-1715371199@www.aimglobal.org
SUMMARY:Smart Cities Connect Conference
DESCRIPTION:
URL:https://www.aimglobal.org/event/smart-cities-connect-conference/
LOCATION:Raleigh Convention Center\, NC
ATTACH;FMTTYPE=image/png:https://www.aimglobal.org/wp-content/uploads/2023/11/Smart-Cities-Connect.png
END:VEVENT
BEGIN:VEVENT
DTSTART;VALUE=DATE:20240505
DTEND;VALUE=DATE:20240510
DTSTAMP:20260421T130700
CREATED:20231122T215026Z
LAST-MODIFIED:20231122T215256Z
UID:987495652-1714939200-1715284799@www.aimglobal.org
SUMMARY:Automate
DESCRIPTION:
URL:https://www.aimglobal.org/event/automate/
LOCATION:McCormick Place\, Chicago
ATTACH;FMTTYPE=image/jpeg:https://www.aimglobal.org/wp-content/uploads/2023/11/automate-1-e1700671963820.jpg
END:VEVENT
END:VCALENDAR