BEGIN:VCALENDAR
VERSION:2.0
PRODID:-//AIM Global - ECPv6.15.20//NONSGML v1.0//EN
CALSCALE:GREGORIAN
METHOD:PUBLISH
X-WR-CALNAME:AIM Global
X-ORIGINAL-URL:https://www.aimglobal.org
X-WR-CALDESC:Events for AIM Global
REFRESH-INTERVAL;VALUE=DURATION:PT1H
X-Robots-Tag:noindex
X-PUBLISHED-TTL:PT1H
BEGIN:VTIMEZONE
TZID:America/New_York
BEGIN:DAYLIGHT
TZOFFSETFROM:-0500
TZOFFSETTO:-0400
TZNAME:EDT
DTSTART:20230312T070000
END:DAYLIGHT
BEGIN:STANDARD
TZOFFSETFROM:-0400
TZOFFSETTO:-0500
TZNAME:EST
DTSTART:20231105T060000
END:STANDARD
BEGIN:DAYLIGHT
TZOFFSETFROM:-0500
TZOFFSETTO:-0400
TZNAME:EDT
DTSTART:20240310T070000
END:DAYLIGHT
BEGIN:STANDARD
TZOFFSETFROM:-0400
TZOFFSETTO:-0500
TZNAME:EST
DTSTART:20241103T060000
END:STANDARD
BEGIN:DAYLIGHT
TZOFFSETFROM:-0500
TZOFFSETTO:-0400
TZNAME:EDT
DTSTART:20250309T070000
END:DAYLIGHT
BEGIN:STANDARD
TZOFFSETFROM:-0400
TZOFFSETTO:-0500
TZNAME:EST
DTSTART:20251102T060000
END:STANDARD
BEGIN:DAYLIGHT
TZOFFSETFROM:-0500
TZOFFSETTO:-0400
TZNAME:EDT
DTSTART:20260308T070000
END:DAYLIGHT
BEGIN:STANDARD
TZOFFSETFROM:-0400
TZOFFSETTO:-0500
TZNAME:EST
DTSTART:20261101T060000
END:STANDARD
END:VTIMEZONE
BEGIN:VEVENT
DTSTART;VALUE=DATE:20250204
DTEND;VALUE=DATE:20250207
DTSTAMP:20260420T192015
CREATED:20240509T182156Z
LAST-MODIFIED:20240509T182156Z
UID:987497263-1738695600-1738868399@www.aimglobal.org
SUMMARY:IoT Tech Expo Global
DESCRIPTION:Powering the connected world with IoT
URL:https://www.aimglobal.org/event/iot-tech-expo-global/
LOCATION:Olympia London
ATTACH;FMTTYPE=image/png:https://www.aimglobal.org/wp-content/uploads/2024/05/iottechecpo.png
END:VEVENT
BEGIN:VEVENT
DTSTART;TZID=America/New_York:20250204T100000
DTEND;TZID=America/New_York:20250204T110000
DTSTAMP:20260420T192015
CREATED:20250129T185724Z
LAST-MODIFIED:20250129T185724Z
UID:987499877-1738663200-1738666800@www.aimglobal.org
SUMMARY:RFID in Pharma: The Invisible Bridge from Laboratory to Point of Care Webinar
DESCRIPTION:Join Avery Dennison and Turck Vilant Systems for an insightful webinar exploring how RFID technology is transforming the pharmaceutical industry.
URL:https://www.aimglobal.org/event/rfid-in-pharma-the-invisible-bridge-from-laboratory-to-point-of-care-webinar/
LOCATION:Virtual
ATTACH;FMTTYPE=image/png:https://www.aimglobal.org/wp-content/uploads/2025/01/b5a506f8-651b-4eac-98ba-2f067d804946.png
END:VEVENT
BEGIN:VEVENT
DTSTART;VALUE=DATE:20250203
DTEND;VALUE=DATE:20250207
DTSTAMP:20260420T192015
CREATED:20240509T215836Z
LAST-MODIFIED:20241206T150536Z
UID:987497404-1738609200-1738868399@www.aimglobal.org
SUMMARY:MD&M WestPack
DESCRIPTION:Advancing manufacturing excellence through education\, networking and innovation.
URL:https://www.aimglobal.org/event/mdm-westpack/
LOCATION:Anaheim Convention Center\, CA
ATTACH;FMTTYPE=image/png:https://www.aimglobal.org/wp-content/uploads/2024/05/westpack.png
END:VEVENT
BEGIN:VEVENT
DTSTART;VALUE=DATE:20250128
DTEND;VALUE=DATE:20250131
DTSTAMP:20260420T192015
CREATED:20250123T130640Z
LAST-MODIFIED:20250123T130640Z
UID:987499810-1738022400-1738281599@www.aimglobal.org
SUMMARY:Unified Wine & Grapes Symposium
DESCRIPTION:Wineability lands in the US
URL:https://www.aimglobal.org/event/unified-wine-grapes-symposium/
LOCATION:Nevada
ATTACH;FMTTYPE=image/png:https://www.aimglobal.org/wp-content/uploads/2025/01/1737620301364.png
END:VEVENT
BEGIN:VEVENT
DTSTART;VALUE=DATE:20250127
DTEND;VALUE=DATE:20250131
DTSTAMP:20260420T192015
CREATED:20240509T214924Z
LAST-MODIFIED:20240509T214924Z
UID:987497400-1738004400-1738263599@www.aimglobal.org
SUMMARY:DesignCon
DESCRIPTION:The must attend event for chip\, board\, and systems design engineers.
URL:https://www.aimglobal.org/event/designcon/
LOCATION:Santa Clara Convention Center\, CA
ATTACH;FMTTYPE=image/png:https://www.aimglobal.org/wp-content/uploads/2024/05/designcon-e1768242190392.png
END:VEVENT
BEGIN:VEVENT
DTSTART;VALUE=DATE:20250125
DTEND;VALUE=DATE:20250130
DTSTAMP:20260420T192015
CREATED:20240509T174048Z
LAST-MODIFIED:20240509T174048Z
UID:987497233-1737831600-1738177199@www.aimglobal.org
SUMMARY:RSPA Inspire
DESCRIPTION:The retail IT channels premier leadership conference.
URL:https://www.aimglobal.org/event/rspa-inspire-2/
LOCATION:Curacao Marriot Beach Resort\, Curaçao
ATTACH;FMTTYPE=image/png:https://www.aimglobal.org/wp-content/uploads/2024/05/inspire.png
END:VEVENT
BEGIN:VEVENT
DTSTART;VALUE=DATE:20250124
DTEND;VALUE=DATE:20250128
DTSTAMP:20260420T192015
CREATED:20241206T144304Z
LAST-MODIFIED:20241206T144304Z
UID:987498850-1737676800-1738022399@www.aimglobal.org
SUMMARY:Virginia Cannabis Conference
DESCRIPTION:Whether you’re interested in the industry\, curious about medical cannabis\, looking to become a more effective advocate\, or you’ve been fighting to end prohibition ever since Nixon launched the War on Drugs\, this conference is for you. It’s convenient\, casual\, and crucial for those wanting to be a part of the cannabis conversation in the Commonwealth.
URL:https://www.aimglobal.org/event/virginia-cannabis-conference/
LOCATION:Richmond\, VA\, Richmond\, VA\, United States
ATTACH;FMTTYPE=image/png:https://www.aimglobal.org/wp-content/uploads/2024/12/2025-virginia-cannabis-conference-logo-2.png
END:VEVENT
BEGIN:VEVENT
DTSTART;TZID=America/New_York:20250122T030000
DTEND;TZID=America/New_York:20250124T120000
DTSTAMP:20260420T192015
CREATED:20240408T191008Z
LAST-MODIFIED:20240408T191008Z
UID:987496296-1737514800-1737720000@www.aimglobal.org
SUMMARY:Wearable Expo Japan
DESCRIPTION:WEARABLE EXPO is Japan’s leading exhibition for wearable devices and technologies. All about wearables gather from around the world – from wearable devices to IoT\, AR/VR technology\, the latest materials & components.
URL:https://www.aimglobal.org/event/wearable-expo-japan/
LOCATION:Tokyo Big Sight
ATTACH;FMTTYPE=image/png:https://www.aimglobal.org/wp-content/uploads/2024/04/wea_en_25_img_mainlog01.png
END:VEVENT
BEGIN:VEVENT
DTSTART;VALUE=DATE:20250121
DTEND;VALUE=DATE:20250124
DTSTAMP:20260420T192015
CREATED:20240509T201632Z
LAST-MODIFIED:20240509T201632Z
UID:987497349-1737486000-1737658799@www.aimglobal.org
SUMMARY:PharmaPack Europe
DESCRIPTION:Europe’s leading packaging and drug delivery event.
URL:https://www.aimglobal.org/event/pharmapack-europe-2/
LOCATION:Paris Expo\, Paris\, France
ATTACH;FMTTYPE=image/png:https://www.aimglobal.org/wp-content/uploads/2024/05/pharmapack-logo.png
END:VEVENT
BEGIN:VEVENT
DTSTART;VALUE=DATE:20250112
DTEND;VALUE=DATE:20250115
DTSTAMP:20260420T192015
CREATED:20241206T143712Z
LAST-MODIFIED:20241211T151313Z
UID:987498845-1736640000-1736899199@www.aimglobal.org
SUMMARY:NRF Big Show
DESCRIPTION:  \n\n\n\n\n\n\n\n\n\n\n\n\n\n\n\n\n\n\n \n \n\n\n \n\n\n\n\n\n\n\n\n\n\n\n\n\nRegister now for your NRF 2025 Expo Pass. | View Online\n\n\n\n\n\n\n\n\n\n\n\n\n\n\n\n\n\n\n\n\n\n\n\n\n\n\n\n\n\n\n\n\n\n\n\n\n\n\nRetail’s Big Show is where retail’s future comes to life. With an Expo Pass\, you’ll unlock access to the most exciting and innovative areas of the Expo\, where you’ll connect with visionary leaders\, explore groundbreaking technologies and find inspiration for your own retail strategy. \nRight now\, retailers can claim an Expo Pass for only $100! Don’t miss this chance to dive into the trends and ideas shaping retail’s future. Register today to secure your spot.\n\n\n\n\n\n\n\n\n\n\n\n\n\n\n\n\n\n\n\n\n\n\n\n\n\n\n\n\n\n\n\n\n\n\n\n\n\n\nMEET THE PLAYERS THAT ARE CHANGING THE GAME\n\n\n\n\n\n\n\n\n\n\n\n\n\n\n\n\n\n\n\n\n\n\n\n\nNRF 2025 Innovators Showcase: Step into the future of retail by exploring groundbreaking technologies and innovations shaping the industry. From AI-powered tools to immersive customer experiences\, this showcase offers a firsthand look at advancements that can revolutionize your business. Don’t miss the chance to experience these game-changing solutions in action.\n\n\n\n\n\n\n\n\n\n\nStartup Hub: Dive into the world of emerging startups and discover fresh ideas poised to redefine the retail landscape. Engage directly with innovators who bring unique perspectives and collaboration potential. This is your opportunity to spark meaningful partnerships and unlock new growth opportunities.\n\n\n\n\n\n\n\n\n\n\nFoodservice Innovation Zone: Uncover the latest breakthroughs driving the future of foodservice. From sustainability-focused innovations to cutting-edge digital ordering solutions\, this zone is your gateway to the trends and technologies reshaping the industry. Explore how these advancements can create value for your business.\n\n\n\n\n\n\n\n\n\n\n\n\n\n\n\n\n\n\n\n\n\n\n\n\nGET YOUR EXPO PASS NOW\n\n\n\n\n\n\n\n\nTime is running out! Dive into the future of retail at NRF 2025 to experience cutting-edge tech\, visionary startups and game-changing innovations. \nRetailers can claim an Expo pass for only $100 and non-retailers can get a discounted Expo Pass\, but only for a few more weeks. \nDon’t miss out on this exclusive opportunity and register today.\n\n\n\n\n\n\n\n\n\n\n\n\n\n\n\n\n\n\n\n\n\n\n\n\n\n\n\n\n\n\n\n\n\n\n\n\n\n\n\n\n\n\n\n\n\n\n\n\n\n\n\n\n\n\n\n\n\n\n\n\n\n\n\n\n\n\n\n\n\n \n\n\n\n\n\n\n\n \n\n\n\n\n\n\n\n \n\n\n\n\n\n\n\n \n\n\n\n\n\n\n\n \n\n\n\n\n\n\n\n\n\n\n\n\n\n\n\n\n\n\n\n\n\n\n\n\n\n\n\n1101 New York Avenue NW Suite 1200 Washington\, DC 20005\n© 2024 National Retail Federation\nContact | Privacy Policy | Terms & Conditions | Update Your Preferences\n\n\n\n\n\n\n\n\n\n\n\n\n\n\n\n\n\n\n\n\n\n\n\n\n\n\n\n\n\n\n\n\n\n\n\n\n\n\n\n\n\n\n\n\n\n\n\n\n\n\n\n 
URL:https://www.aimglobal.org/event/nrf-big-show/
LOCATION:Jacob K. Javits Convention Center\, New York\, New York
ATTACH;FMTTYPE=image/jpeg:https://www.aimglobal.org/wp-content/uploads/2024/12/NRF2025_RBS_RGB_3D_Hrzn_Date.jpg
END:VEVENT
BEGIN:VEVENT
DTSTART;TZID=America/New_York:20241227T080000
DTEND;TZID=America/New_York:20241227T170000
DTSTAMP:20260420T192015
CREATED:20241227T171914Z
LAST-MODIFIED:20241227T171914Z
UID:987499336-1735286400-1735318800@www.aimglobal.org
SUMMARY:2025 RVCF Annual Fall Conference
DESCRIPTION:
URL:https://www.aimglobal.org/event/2025-rvcf-annual-fall-conference/
LOCATION:Scottsdale\, Arizona\, Scottsdale\, AZ\, United States
ATTACH;FMTTYPE=image/jpeg:https://www.aimglobal.org/wp-content/uploads/2024/07/RVCF.jpg
END:VEVENT
BEGIN:VEVENT
DTSTART;VALUE=DATE:20241212
DTEND;VALUE=DATE:20241215
DTSTAMP:20260420T192015
CREATED:20241203T130525Z
LAST-MODIFIED:20241204T141600Z
UID:987498782-1733961600-1734220799@www.aimglobal.org
SUMMARY:IFSEC India
DESCRIPTION:IFSEC India connects security product and solution providers with key decision-makers from both the public and private sectors. Our events offer the ideal platform for clients to achieve their goals through thought leadership\, product showcases\, cutting-edge solutions\, and year-round networking opportunities. \nVisit AIM Global member ID Tech Solutions in Booth A5!
URL:https://www.aimglobal.org/event/ifsec-india/
LOCATION:New Delhi\, India
ATTACH;FMTTYPE=image/png:https://www.aimglobal.org/wp-content/uploads/2024/12/IFSEC_India_without_2022_.png
END:VEVENT
BEGIN:VEVENT
DTSTART;VALUE=DATE:20241202
DTEND;VALUE=DATE:20241207
DTSTAMP:20260420T192015
CREATED:20240509T170331Z
LAST-MODIFIED:20240509T170331Z
UID:987497190-1733166000-1733511599@www.aimglobal.org
SUMMARY:MJBizCon
DESCRIPTION:MJBizCon\, the largest cannabis conference and expo is the perfect mix of newbies looking to enter the market and the OG’s who dared to push boundaries and paved the way for others to be successful in the early days of the legal cannabis market.
URL:https://www.aimglobal.org/event/mjbizcon/
LOCATION:Las Vegas Convention Center\, Las Vegas\, Nevada
ATTACH;FMTTYPE=image/png:https://www.aimglobal.org/wp-content/uploads/2024/05/MJBIZCon.png
END:VEVENT
BEGIN:VEVENT
DTSTART;VALUE=DATE:20241201
DTEND;VALUE=DATE:20241206
DTSTAMP:20260420T192015
CREATED:20240509T184340Z
LAST-MODIFIED:20240509T184340Z
UID:987497274-1733079600-1733425199@www.aimglobal.org
SUMMARY:LabelExpo Asia
DESCRIPTION:The largest label event in Asia\, driven by the strength of the Chinese market\, continues to flourish and expand.
URL:https://www.aimglobal.org/event/labelexpo-asia/
LOCATION:Shanghai New International Exhibition Centre\, Shanghai\, China
ATTACH;FMTTYPE=image/png:https://www.aimglobal.org/wp-content/uploads/2024/05/labelexpo-china.png
END:VEVENT
BEGIN:VEVENT
DTSTART;VALUE=DATE:20241119
DTEND;VALUE=DATE:20241122
DTSTAMP:20260420T192015
CREATED:20240509T214708Z
LAST-MODIFIED:20240509T214708Z
UID:987497397-1732042800-1732215599@www.aimglobal.org
SUMMARY:BIOMEDevice  Silicon Valley
DESCRIPTION:BIOMEDevice is a meeting place for engineers and business leaders from MedTech\, biotech\, and pharma\, to inspire and collaborate on the next life-changing medical device.
URL:https://www.aimglobal.org/event/biomedevice-silicon-valley/
LOCATION:Santa Clara Convention Center\, CA
ATTACH;FMTTYPE=image/png:https://www.aimglobal.org/wp-content/uploads/2024/05/biomed-1.png
END:VEVENT
BEGIN:VEVENT
DTSTART;VALUE=DATE:20241117
DTEND;VALUE=DATE:20241120
DTSTAMP:20260420T192015
CREATED:20240508T223401Z
LAST-MODIFIED:20240508T234132Z
UID:987497162-1731870000-1732042799@www.aimglobal.org
SUMMARY:AIPIA World Congress Europe
DESCRIPTION:The AIPIA World Congress is the premier event in the Smart Packaging sector\, encompassing a comprehensive spectrum of technology\, spanning both active and intelligent applications.
URL:https://www.aimglobal.org/event/aipia-world-congress-europe/
LOCATION:Amsterdam\, Netherlands\, Amsterdam\, Netherlands
ATTACH;FMTTYPE=image/png:https://www.aimglobal.org/wp-content/uploads/2024/05/aipa-1.png
END:VEVENT
BEGIN:VEVENT
DTSTART;VALUE=DATE:20241113
DTEND;VALUE=DATE:20241118
DTSTAMP:20260420T192015
CREATED:20240509T184651Z
LAST-MODIFIED:20240509T184651Z
UID:987497278-1731524400-1731869999@www.aimglobal.org
SUMMARY:LabelExpo India
DESCRIPTION:View tomorrow’s technology today\, only at the largest label and packaging printing event in South Asia.
URL:https://www.aimglobal.org/event/labelexpo-india/
LOCATION:India Expo Centre\, Greater Noida\, India
ATTACH;FMTTYPE=image/png:https://www.aimglobal.org/wp-content/uploads/2024/05/labelexpoindia.png
END:VEVENT
BEGIN:VEVENT
DTSTART;VALUE=DATE:20241112
DTEND;VALUE=DATE:20241115
DTSTAMP:20260420T192015
CREATED:20240509T214444Z
LAST-MODIFIED:20240509T214444Z
UID:987497394-1731438000-1731610799@www.aimglobal.org
SUMMARY:PACK EX Montreal
DESCRIPTION:The advanced design and manufacturing exhibition
URL:https://www.aimglobal.org/event/pack-ex-montreal/
LOCATION:Montreal\, Quebec
ATTACH;FMTTYPE=image/png:https://www.aimglobal.org/wp-content/uploads/2024/05/Packex-Montreal-1.png
END:VEVENT
BEGIN:VEVENT
DTSTART;VALUE=DATE:20241112
DTEND;VALUE=DATE:20241115
DTSTAMP:20260420T192015
CREATED:20231122T010034Z
LAST-MODIFIED:20231122T010132Z
UID:987495479-1731438000-1731610799@www.aimglobal.org
SUMMARY:Advanced Design & Manufacturing Expo
DESCRIPTION:
URL:https://www.aimglobal.org/event/advanced-design-manufacturing-expo/
LOCATION:Montreal\, Quebec
ATTACH;FMTTYPE=image/png:https://www.aimglobal.org/wp-content/uploads/2023/11/ADM.png
END:VEVENT
BEGIN:VEVENT
DTSTART;TZID=America/New_York:20241107T110000
DTEND;TZID=America/New_York:20241107T120000
DTSTAMP:20260420T192015
CREATED:20241029T141815Z
LAST-MODIFIED:20241031T193442Z
UID:987498551-1730977200-1730980800@www.aimglobal.org
SUMMARY:UDI Compliance Problems and Why They Matter
DESCRIPTION:
URL:https://www.aimglobal.org/event/udi-compliance-problems-and-why-they-matter/
LOCATION:Nevada
ATTACH;FMTTYPE=image/png:https://www.aimglobal.org/wp-content/uploads/2024/10/Vuemed-webinar-2.png
END:VEVENT
BEGIN:VEVENT
DTSTART;TZID=America/New_York:20241105T083000
DTEND;TZID=America/New_York:20241105T100000
DTSTAMP:20260420T192015
CREATED:20240830T235005Z
LAST-MODIFIED:20240930T201750Z
UID:987498117-1730795400-1730800800@www.aimglobal.org
SUMMARY:AIM Partnership Breakfast at PACK EXPO
DESCRIPTION:Connect with fellow AIDC representatives at the AIM Partnership Breakfast. There will be a light continental breakfast along with a few educational sessions.
URL:https://www.aimglobal.org/event/aim-partnership-breakfast-at-pack-expo/
LOCATION:Chicago\, IL
END:VEVENT
BEGIN:VEVENT
DTSTART;VALUE=DATE:20241104
DTEND;VALUE=DATE:20241108
DTSTAMP:20260420T192015
CREATED:20240509T224830Z
LAST-MODIFIED:20240509T224830Z
UID:987497458-1730746800-1731005999@www.aimglobal.org
SUMMARY:ICT & Logistiek 2024
DESCRIPTION:ICT & Logistics is the meeting place for technological innovation within the logistics sector.
URL:https://www.aimglobal.org/event/ict-logistiek-2024/
LOCATION:Utrecht\, Netherlands
ATTACH;FMTTYPE=image/jpeg:https://www.aimglobal.org/wp-content/uploads/2024/05/ict.jpg
END:VEVENT
BEGIN:VEVENT
DTSTART;VALUE=DATE:20241104
DTEND;VALUE=DATE:20241108
DTSTAMP:20260420T192015
CREATED:20240509T195833Z
LAST-MODIFIED:20240509T195833Z
UID:987497335-1730746800-1731005999@www.aimglobal.org
SUMMARY:Smart City Expo World Congress
DESCRIPTION:Smart City Expo World Congress is the world’s biggest and most influential event on urban innovation. We connect leaders from global companies\, governments and organizations to move cities towards a better future.
URL:https://www.aimglobal.org/event/smart-city-expo-world-congress/
LOCATION:Barcelona\, Spain\, Barcelona\, Spain
ATTACH;FMTTYPE=image/png:https://www.aimglobal.org/wp-content/uploads/2024/05/smartcity-dark-logo.png
END:VEVENT
BEGIN:VEVENT
DTSTART;VALUE=DATE:20241102
DTEND;VALUE=DATE:20241107
DTSTAMP:20260420T192015
CREATED:20240509T212850Z
LAST-MODIFIED:20240509T212850Z
UID:987497374-1730577600-1730919599@www.aimglobal.org
SUMMARY:Retail Value Chain Federation Fall Conference
DESCRIPTION:The driving force in collaboration
URL:https://www.aimglobal.org/event/retail-value-chain-federation-fall-conference/
LOCATION:JW Marriot Tucson Starr Pass Resort & Spa\, Tucson\, Arizona
ATTACH;FMTTYPE=image/jpeg:https://www.aimglobal.org/wp-content/uploads/2024/05/RVCF.jpg
END:VEVENT
BEGIN:VEVENT
DTSTART;VALUE=DATE:20241102
DTEND;VALUE=DATE:20241107
DTSTAMP:20260420T192015
CREATED:20231122T185830Z
LAST-MODIFIED:20231122T185830Z
UID:987495568-1730577600-1730919599@www.aimglobal.org
SUMMARY:PACK Expo International
DESCRIPTION:
URL:https://www.aimglobal.org/event/pack-expo-international/
LOCATION:Chicago\, IL
ATTACH;FMTTYPE=image/png:https://www.aimglobal.org/wp-content/uploads/2023/11/Pack-Expo-Int.png
END:VEVENT
BEGIN:VEVENT
DTSTART;TZID=America/New_York:20241030T140000
DTEND;TZID=America/New_York:20241030T150000
DTSTAMP:20260420T192015
CREATED:20241029T144544Z
LAST-MODIFIED:20241029T144544Z
UID:987498555-1730296800-1730300400@www.aimglobal.org
SUMMARY:RFID for Manufacturing & Warehousing Webinar
DESCRIPTION:Modern RFID is changing the way manufacturers and warehouses operate. Gone are the days of slow and inaccurate inventories—2024 demands smarter solutions. \nThe benefits of a modern RFID system are huge\, and the organizations that are getting it right are seeing game-changing results.
URL:https://www.aimglobal.org/event/rfid-for-manufacturing-warehousing-webinar/
LOCATION:Nevada
END:VEVENT
BEGIN:VEVENT
DTSTART;VALUE=DATE:20241024
DTEND;VALUE=DATE:20241027
DTSTAMP:20260420T192015
CREATED:20240509T171647Z
LAST-MODIFIED:20240509T171647Z
UID:987497210-1729800000-1729972799@www.aimglobal.org
SUMMARY:NECANN New York
DESCRIPTION:Attend NECANN’s New York cannabis convention\, the only cannabis expo focused exclusively on the NY market.
URL:https://www.aimglobal.org/event/necann-new-york/
LOCATION:NYS Fairgrounds – Center of Progress Building\, Syracuse\, New York
ATTACH;FMTTYPE=image/png:https://www.aimglobal.org/wp-content/uploads/2024/05/NECANN.png
END:VEVENT
BEGIN:VEVENT
DTSTART;VALUE=DATE:20241022
DTEND;VALUE=DATE:20241025
DTSTAMP:20260420T192015
CREATED:20231122T195209Z
LAST-MODIFIED:20231122T195436Z
UID:987495594-1729627200-1729799999@www.aimglobal.org
SUMMARY:Wireless IOT Tomorrow
DESCRIPTION:
URL:https://www.aimglobal.org/event/wireless-iot-tomorrow/
LOCATION:Wiesbaden\, Germany
ATTACH;FMTTYPE=image/png:https://www.aimglobal.org/wp-content/uploads/2023/11/WIOT.png
END:VEVENT
BEGIN:VEVENT
DTSTART;VALUE=DATE:20241021
DTEND;VALUE=DATE:20241025
DTSTAMP:20260420T192015
CREATED:20240509T200738Z
LAST-MODIFIED:20240509T200738Z
UID:987497343-1729540800-1729799999@www.aimglobal.org
SUMMARY:Enlit Europe
DESCRIPTION:Enlit is a constantly growing\, inclusive\, end-to-end forum that addresses every aspect of the energy agenda.
URL:https://www.aimglobal.org/event/enlit-europe/
LOCATION:Fiera Milano di Rhou\, Milan\, Italy
ATTACH;FMTTYPE=image/png:https://www.aimglobal.org/wp-content/uploads/2024/05/enlit-europe.png
END:VEVENT
BEGIN:VEVENT
DTSTART;VALUE=DATE:20241020
DTEND;VALUE=DATE:20241024
DTSTAMP:20260420T192015
CREATED:20240708T164141Z
LAST-MODIFIED:20240708T164155Z
UID:987497786-1729454400-1729713599@www.aimglobal.org
SUMMARY:Convergence
DESCRIPTION:At Loftware Convergence 2024 you’ll hear how companies are looking at new ways to stand out\, build their brands\, and deliver outstanding customer experience.
URL:https://www.aimglobal.org/event/convergence/
LOCATION:Orlando
ATTACH;FMTTYPE=image/jpeg:https://www.aimglobal.org/wp-content/uploads/2024/07/1718571924977.jpg
END:VEVENT
END:VCALENDAR