BEGIN:VCALENDAR
VERSION:2.0
PRODID:-//AIM Global - ECPv6.15.20//NONSGML v1.0//EN
CALSCALE:GREGORIAN
METHOD:PUBLISH
X-ORIGINAL-URL:https://www.aimglobal.org
X-WR-CALDESC:Events for AIM Global
REFRESH-INTERVAL;VALUE=DURATION:PT1H
X-Robots-Tag:noindex
X-PUBLISHED-TTL:PT1H
BEGIN:VTIMEZONE
TZID:America/New_York
BEGIN:DAYLIGHT
TZOFFSETFROM:-0500
TZOFFSETTO:-0400
TZNAME:EDT
DTSTART:20240310T070000
END:DAYLIGHT
BEGIN:STANDARD
TZOFFSETFROM:-0400
TZOFFSETTO:-0500
TZNAME:EST
DTSTART:20241103T060000
END:STANDARD
BEGIN:DAYLIGHT
TZOFFSETFROM:-0500
TZOFFSETTO:-0400
TZNAME:EDT
DTSTART:20250309T070000
END:DAYLIGHT
BEGIN:STANDARD
TZOFFSETFROM:-0400
TZOFFSETTO:-0500
TZNAME:EST
DTSTART:20251102T060000
END:STANDARD
BEGIN:DAYLIGHT
TZOFFSETFROM:-0500
TZOFFSETTO:-0400
TZNAME:EDT
DTSTART:20260308T070000
END:DAYLIGHT
BEGIN:STANDARD
TZOFFSETFROM:-0400
TZOFFSETTO:-0500
TZNAME:EST
DTSTART:20261101T060000
END:STANDARD
END:VTIMEZONE
BEGIN:VEVENT
DTSTART;VALUE=DATE:20250324
DTEND;VALUE=DATE:20250327
DTSTAMP:20260420T180516
CREATED:20250324T122030Z
LAST-MODIFIED:20250324T122030Z
UID:987500302-1742774400-1743033599@www.aimglobal.org
SUMMARY:LogiMed
DESCRIPTION:The World’s Leading End-to-End Healthcare Supply Chain Event
URL:https://www.aimglobal.org/event/logimed-2/
LOCATION:Carlsbad\, CA
ATTACH;FMTTYPE=image/png:https://www.aimglobal.org/wp-content/uploads/2023/11/LogiMed.png
END:VEVENT
BEGIN:VEVENT
DTSTART;VALUE=DATE:20250324
DTEND;VALUE=DATE:20250327
DTSTAMP:20260420T180516
CREATED:20240509T202105Z
LAST-MODIFIED:20240509T202105Z
UID:987497360-1742846400-1743019199@www.aimglobal.org
SUMMARY:NFC Forum Americas Member Meeting
DESCRIPTION:The NFC Forum hosts Member Meetings to create community\, develop common interest in new markets\, and make F2F progress on shared work products. All Members are invited for a three-day program that includes Committee\, SIG\, and Working Group meetings along with our Member Roundtable and networking receptions.
URL:https://www.aimglobal.org/event/nfc-forum-americas-member-meeting/
LOCATION:Nevada
ATTACH;FMTTYPE=image/png:https://www.aimglobal.org/wp-content/uploads/2024/05/nfc-america.png
END:VEVENT
BEGIN:VEVENT
DTSTART;VALUE=DATE:20250325
DTEND;VALUE=DATE:20250327
DTSTAMP:20260420T180516
CREATED:20250313T125846Z
LAST-MODIFIED:20250313T125846Z
UID:987500229-1742860800-1743033599@www.aimglobal.org
SUMMARY:Sustainable Supply Chain Exhibition
DESCRIPTION:
URL:https://www.aimglobal.org/event/sustainable-supply-chain-exhibition/
LOCATION:NEC Birmingham\, Birmingham\, United Kingdom
ATTACH;FMTTYPE=image/png:https://www.aimglobal.org/wp-content/uploads/2025/03/Screenshot-2025-03-13-085821.png
END:VEVENT
BEGIN:VEVENT
DTSTART;VALUE=DATE:20250325
DTEND;VALUE=DATE:20250328
DTSTAMP:20260420T180516
CREATED:20241212T201012Z
LAST-MODIFIED:20250207T140659Z
UID:987498949-1742860800-1743119999@www.aimglobal.org
SUMMARY:ShopTalk Spring
DESCRIPTION:Shoptalk Spring 2025 will explicitly reflect that\, by examining and defining what it means to be “customer-centric” today. Our agenda is focusing on the four most important qualities that people expect and require from the consumer brands and retailers they do business with today: customer hospitality\, value\, inspiration\, reason for being.
URL:https://www.aimglobal.org/event/shoptalk-fall-2/
LOCATION:Mandalay Bay\, Las Vegas\, Nevada
ATTACH;FMTTYPE=image/png:https://www.aimglobal.org/wp-content/uploads/2024/05/shoptalk.png
END:VEVENT
BEGIN:VEVENT
DTSTART;VALUE=DATE:20250325
DTEND;VALUE=DATE:20250328
DTSTAMP:20260420T180516
CREATED:20250226T144713Z
LAST-MODIFIED:20250226T144713Z
UID:987500106-1742860800-1743119999@www.aimglobal.org
SUMMARY:CMU Energy Week 2025
DESCRIPTION:Register to join us for CMU Energy Week 2025 to combine forces and exchange ideas on AI + Energy.
URL:https://www.aimglobal.org/event/cmu-energy-week-2025/
LOCATION:Carnegie Mellon University\, Pittsburgh\, PA\, United States
ATTACH;FMTTYPE=image/jpeg:https://www.aimglobal.org/wp-content/uploads/2025/02/energyweek-social.jpg
END:VEVENT
BEGIN:VEVENT
DTSTART;TZID=America/New_York:20250326T100000
DTEND;TZID=America/New_York:20250326T110000
DTSTAMP:20260420T180516
CREATED:20250318T162018Z
LAST-MODIFIED:20250318T162110Z
UID:987500255-1742983200-1742986800@www.aimglobal.org
SUMMARY:Selecting the Appropriate Technology for Sensor Data Collection: A Guide to Application-Specific Solutions
DESCRIPTION:Navigate the complexities of supply chain data acquisition in this webinar. We will conduct a comprehensive analysis of leading sensor technologies\, including RFID\, Bluetooth Low Energy (BLE)\, and LoRaWAN\, to optimize your logistics and cold chain processes. Crucially\, we will provide guidance on selecting the right technology for your unique use case\, ensuring data collection strategies align perfectly with your specific measurement requirements and operational goals.
URL:https://www.aimglobal.org/event/selecting-the-appropriate-technology-for-sensor-data-collection-a-guide-to-application-specific-solutions/
LOCATION:Virtual
ATTACH;FMTTYPE=image/png:https://www.aimglobal.org/wp-content/uploads/2025/03/Selecting-the-Appropriate-Technology-for-Sensor-Data-Collection-A-Guide-to-Application-Specific-Solutions-3.png
END:VEVENT
BEGIN:VEVENT
DTSTART;VALUE=DATE:20250327
DTEND;VALUE=DATE:20250328
DTSTAMP:20260420T180516
CREATED:20250310T143546Z
LAST-MODIFIED:20250310T143546Z
UID:987500210-1743033600-1743119999@www.aimglobal.org
SUMMARY:Rewiring for Change: How Machine Vision Adapts to New Automotive Electronics and Safety Challenges ​
DESCRIPTION:As vehicles become more complex with additional wires\, connectors\, PCBs\, and safety features\, suppliers must adapt to increased configurations\, finer inspections\, and expanded traceability. Cognex machine vision systems and barcode readers leverage AI technology\, powerful optics\, and advanced imaging to quickly adapt to new assemblies\, detect defects\, and scan even the most challenging barcodes. Join this webinar to explore emerging trends in automotive electronics\, common application challenges\, and how machine vision and barcode reading solutions can improve efficiency and accuracy.
URL:https://www.aimglobal.org/event/rewiring-for-change-how-machine-vision-adapts-to-new-automotive-electronics-and-safety-challenges/
LOCATION:Virtual
ATTACH;FMTTYPE=image/jpeg:https://www.aimglobal.org/wp-content/uploads/2025/03/webinar.jpg
END:VEVENT
BEGIN:VEVENT
DTSTART;VALUE=DATE:20250331
DTEND;VALUE=DATE:20250404
DTSTAMP:20260420T180516
CREATED:20241212T201640Z
LAST-MODIFIED:20241212T213018Z
UID:987498951-1743379200-1743724799@www.aimglobal.org
SUMMARY:GFSI Conference
DESCRIPTION:The annual rendezvous for everyone involved in advancing food safety and consumer trust worldwide.
URL:https://www.aimglobal.org/event/gfsi-conference/
LOCATION:Dublin\, Ireland\, Dublin\, Ireland
ATTACH;FMTTYPE=image/png:https://www.aimglobal.org/wp-content/uploads/2024/12/GFSI.png
END:VEVENT
BEGIN:VEVENT
DTSTART;VALUE=DATE:20250331
DTEND;VALUE=DATE:20250405
DTSTAMP:20260420T180516
CREATED:20241212T202613Z
LAST-MODIFIED:20241212T212920Z
UID:987498955-1743379200-1743811199@www.aimglobal.org
SUMMARY:Hannover Messe
DESCRIPTION:At the world’s leading industrial trade fair\, companies from the mechanical engineering\, electrical engineering and digital industries as well as the energy sector will come together to present solutions for a high-performance\, but also sustainable industry. More than 4\,000 companies will be acting as an interconnected industrial ecosystem and demonstrating how climate neutrality can be achieved through electrification\, digitization and automation.
URL:https://www.aimglobal.org/event/hannover-messe/
LOCATION:Hannover\, Germany
ATTACH;FMTTYPE=image/png:https://www.aimglobal.org/wp-content/uploads/2024/12/Teaser_HMI_600x600.png
END:VEVENT
BEGIN:VEVENT
DTSTART;VALUE=DATE:20250331
DTEND;VALUE=DATE:20250404
DTSTAMP:20260420T180516
CREATED:20240509T184917Z
LAST-MODIFIED:20241212T212716Z
UID:987497281-1743451200-1743710399@www.aimglobal.org
SUMMARY:LabelExpo Mexico
DESCRIPTION:Labelexpo Mexico is the latest label and package printing event in the region.
URL:https://www.aimglobal.org/event/labelexpo-mexico/
LOCATION:Expo Guadalajara\, Guadalajara\, Mexico
ATTACH;FMTTYPE=image/png:https://www.aimglobal.org/wp-content/uploads/2024/05/labeltechmexico.png
END:VEVENT
BEGIN:VEVENT
DTSTART;VALUE=DATE:20250402
DTEND;VALUE=DATE:20250404
DTSTAMP:20260420T180516
CREATED:20250310T122234Z
LAST-MODIFIED:20250310T122234Z
UID:987500205-1743552000-1743724799@www.aimglobal.org
SUMMARY:Retail Technology Show
DESCRIPTION:Experience the very best in retail tech as the industry’s most innovative suppliers present the latest game-changing tech and digital solutions for in-store\, online\, and omnichannel retail.
URL:https://www.aimglobal.org/event/retail-technology-show/
LOCATION:London\, United Kingdom
ATTACH;FMTTYPE=image/jpeg:https://www.aimglobal.org/wp-content/uploads/2025/03/Retail-Tecnology-Show.jpg
END:VEVENT
BEGIN:VEVENT
DTSTART;VALUE=DATE:20250407
DTEND;VALUE=DATE:20250411
DTSTAMP:20260420T180516
CREATED:20241213T161349Z
LAST-MODIFIED:20241213T161349Z
UID:987498974-1743984000-1744329599@www.aimglobal.org
SUMMARY:NFC Forum  Member Meeting
DESCRIPTION:The NFC Forum hosts Member Meetings to create community\, develop common interest in new markets\, and make F2F progress on shared work products. All Members are invited for a three day program that includes Committee\, SIG\, and Working Group meetings along with our Member Roundtable and networking receptions.
URL:https://www.aimglobal.org/event/nfc-forum-member-meeting/
LOCATION:Dubai
ATTACH;FMTTYPE=image/jpeg:https://www.aimglobal.org/wp-content/uploads/2024/07/nfc-forum-logo-horizontal-blue.jpg
END:VEVENT
BEGIN:VEVENT
DTSTART;VALUE=DATE:20250408
DTEND;VALUE=DATE:20250409
DTSTAMP:20260420T180516
CREATED:20241213T161814Z
LAST-MODIFIED:20241213T161829Z
UID:987498978-1744070400-1744156799@www.aimglobal.org
SUMMARY:National Association of Convenience Stores Food Safety Forum
DESCRIPTION:The NACS Food Safety Forum is developed and administered by convenience industry food safety\, foodservice\, quality assurance and risk management leaders. This is the only retail-focused event of its kind for the global convenience community.
URL:https://www.aimglobal.org/event/national-association-of-convenience-stores-food-safety-forum/
LOCATION:Dallas\, TX
ATTACH;FMTTYPE=image/png:https://www.aimglobal.org/wp-content/uploads/2023/11/nacs-logo.png
END:VEVENT
BEGIN:VEVENT
DTSTART;VALUE=DATE:20250408
DTEND;VALUE=DATE:20250411
DTSTAMP:20260420T180516
CREATED:20241213T161547Z
LAST-MODIFIED:20241213T161547Z
UID:987498976-1744070400-1744329599@www.aimglobal.org
SUMMARY:Passenger Terminal Expo
DESCRIPTION:Passenger Terminal Expo & Conference provides the most significant opportunity for airports and airlines to debate current issues and form business relationships on a global scale\, with 10\,000+ people from 120+ countries expected to attend in 2025.
URL:https://www.aimglobal.org/event/passenger-terminal-expo-2/
LOCATION:Madrid\, Spain
ATTACH;FMTTYPE=image/jpeg:https://www.aimglobal.org/wp-content/uploads/2023/11/Passenger-Terminal.jpg
END:VEVENT
BEGIN:VEVENT
DTSTART;VALUE=DATE:20250409
DTEND;VALUE=DATE:20250411
DTSTAMP:20260420T180516
CREATED:20250318T150143Z
LAST-MODIFIED:20250318T150143Z
UID:987500244-1744156800-1744329599@www.aimglobal.org
SUMMARY:AIM Summit
DESCRIPTION:Join us on April 9-10 in Holtsville\, NY\, for the AIM Summit\, a premier event connecting industry leaders\, technology experts\, and professionals to explore the latest advancements in digital identification technologies. Through expert-led panels and discussions\, attendees will gain valuable insights into e-labeling\, digital product passports\, healthcare compliance\, the latest trends\, and global AIDC adoption with standards.
URL:https://www.aimglobal.org/event/aim-summit-2/
LOCATION:Holtsville\, NY\, 1 Zebra Plz\, Holtsville\, NY\, 11742\, United States
ATTACH;FMTTYPE=image/png:https://www.aimglobal.org/wp-content/uploads/2025/01/SUMMIT-Blog-Banner.png
END:VEVENT
BEGIN:VEVENT
DTSTART;TZID=America/New_York:20250409T110000
DTEND;TZID=America/New_York:20250409T120000
DTSTAMP:20260420T180516
CREATED:20250318T184955Z
LAST-MODIFIED:20250318T184955Z
UID:987500253-1744196400-1744200000@www.aimglobal.org
SUMMARY:Cut Costs and Save Time: Label Printing Hacks for Small Businesses
DESCRIPTION:This webinar will provide expert insights\, actionable tips\, and real-world success stories to help transform small businesses’ labeling operations.
URL:https://www.aimglobal.org/event/cut-costs-and-save-time-label-printing-hacks-for-small-businesses/
LOCATION:Virtual
ATTACH;FMTTYPE=image/png:https://www.aimglobal.org/wp-content/uploads/2025/03/TEKLYNX-webinar-banner.png
END:VEVENT
BEGIN:VEVENT
DTSTART;TZID=America/New_York:20250409T120000
DTEND;TZID=America/New_York:20250409T130000
DTSTAMP:20260420T180516
CREATED:20250403T121408Z
LAST-MODIFIED:20250403T121408Z
UID:987500411-1744200000-1744203600@www.aimglobal.org
SUMMARY:Cut Costs and Save Time: Label Printing Hacks for Small Businesses Webinar
DESCRIPTION:Are you a small business looking to save time and cut costs\, or someone looking to brush up on your barcode basics? Join TEKLYNX for our live webinar where we’ll share expert insights\, actionable tips\, and real-world success stories to help you transform your labeling operations.
URL:https://www.aimglobal.org/event/cut-costs-and-save-time-label-printing-hacks-for-small-businesses-webinar/
LOCATION:Virtual
ATTACH;FMTTYPE=image/png:https://www.aimglobal.org/wp-content/uploads/2024/08/Proof15_Teklynx_Web_MK_standard-Copy.png
END:VEVENT
BEGIN:VEVENT
DTSTART;VALUE=DATE:20250413
DTEND;VALUE=DATE:20250416
DTSTAMP:20260420T180516
CREATED:20241213T163059Z
LAST-MODIFIED:20241213T163059Z
UID:987498985-1744502400-1744761599@www.aimglobal.org
SUMMARY:MedTech Forum Europe
DESCRIPTION:The MedTech Forum is the largest health and medical technology industry conference in Europe and a key event since 2007.\nJoin industry leaders\, leading innovators and investors to discuss the future opportunities in the medical technology sector.
URL:https://www.aimglobal.org/event/medtech-forum-europe/
LOCATION:Lisbon\, Portugal\, Lisbon\, Portugal
ATTACH;FMTTYPE=image/png:https://www.aimglobal.org/wp-content/uploads/2024/05/medtech-1.png
END:VEVENT
BEGIN:VEVENT
DTSTART;VALUE=DATE:20250413
DTEND;VALUE=DATE:20250416
DTSTAMP:20260420T180516
CREATED:20241213T163725Z
LAST-MODIFIED:20241213T163725Z
UID:987498994-1744502400-1744761599@www.aimglobal.org
SUMMARY:IoT Solutions World Congress
DESCRIPTION:IoT Solutions World Congress attracts over 11\,000 attendees and IoT enthusiasts and this is your opportunity to showcase your LoRaWAN enabled products\, services\, devices\, demonstrations\, use cases\, and end-to-end solutions.
URL:https://www.aimglobal.org/event/iot-solutions-world-congress/
LOCATION:Barcelona\, Spain\, Barcelona\, Spain
ATTACH;FMTTYPE=image/png:https://www.aimglobal.org/wp-content/uploads/2024/12/signature-IOTSWC.png
END:VEVENT
BEGIN:VEVENT
DTSTART;VALUE=DATE:20250413
DTEND;VALUE=DATE:20250417
DTSTAMP:20260420T180516
CREATED:20241213T163327Z
LAST-MODIFIED:20241213T163327Z
UID:987498990-1744502400-1744847999@www.aimglobal.org
SUMMARY:RAPS Euro Convergence
DESCRIPTION:RAPS Euro Convergence is the most comprehensive regulatory affairs conference in Europe\, focusing on the latest topics and developments in healthcare products in Europe and beyond — with sessions in medical devices\, IVDs\, pharmaceuticals\, combination products\, regulatory business\, AI\, software\, and cybersecurity.
URL:https://www.aimglobal.org/event/raps-euro-convergence/
LOCATION:Brussels\, Belgium\, Brussels\, Belgium
ATTACH;FMTTYPE=image/png:https://www.aimglobal.org/wp-content/uploads/2024/12/RAPS.png
END:VEVENT
BEGIN:VEVENT
DTSTART;VALUE=DATE:20250414
DTEND;VALUE=DATE:20250417
DTSTAMP:20260420T180516
CREATED:20241204T145333Z
LAST-MODIFIED:20241204T145333Z
UID:987498804-1744588800-1744847999@www.aimglobal.org
SUMMARY:Food Automation and Manufacturing Symposium and Expo
DESCRIPTION:The Premier Event for Food Manufacturing.
URL:https://www.aimglobal.org/event/food-automation-and-manufacturing-symposium-and-expo/
LOCATION:Hilton Downtown Tampa\, Tampa\, FL\, United States
ATTACH;FMTTYPE=image/png:https://www.aimglobal.org/wp-content/uploads/2024/12/food_automation_conference_logo.png
END:VEVENT
BEGIN:VEVENT
DTSTART;VALUE=DATE:20250414
DTEND;VALUE=DATE:20250418
DTSTAMP:20260420T180516
CREATED:20241213T164613Z
LAST-MODIFIED:20241213T164613Z
UID:987498997-1744588800-1744934399@www.aimglobal.org
SUMMARY:Edge Conference
DESCRIPTION:For the first time in years\, the annual event is heading to the sunny California coast. What an awesome spot to break away from the norm\, get valuable insight specific to your job role\, and enjoy the legendary camaraderie and spirit of the Dscoop global community!
URL:https://www.aimglobal.org/event/edge-conference/
LOCATION:Long Beach Convention & Entertainment Center\, 300 E Ocean Blvd\, Long Beach\, CA\, United States
ATTACH;FMTTYPE=image/png:https://www.aimglobal.org/wp-content/uploads/2024/12/4633958-673509439bdbc.png
END:VEVENT
BEGIN:VEVENT
DTSTART;VALUE=DATE:20250415
DTEND;VALUE=DATE:20250418
DTSTAMP:20260420T180516
CREATED:20241212T203755Z
LAST-MODIFIED:20241212T212800Z
UID:987498961-1744675200-1744934399@www.aimglobal.org
SUMMARY:GS1 Standards Week
DESCRIPTION:The heart of GS1 Standards Week is the work groups that participate in the Global Standards Management Process (GSMP). These groups will meet virtually to ensure business challenges are being addressed\, and to help develop global standards that are especially relevant in today’s changing environment. Join us to take part in this exciting event where key stakeholders will work together to shape the future of standards.
URL:https://www.aimglobal.org/event/gs1-standards-week/
LOCATION:Virtual
ATTACH;FMTTYPE=image/png:https://www.aimglobal.org/wp-content/uploads/2023/08/Gs1-Global-Forum.png
END:VEVENT
BEGIN:VEVENT
DTSTART;TZID=America/New_York:20250416T110000
DTEND;TZID=America/New_York:20250416T180000
DTSTAMP:20260420T180516
CREATED:20250318T150845Z
LAST-MODIFIED:20250318T150845Z
UID:987500248-1744801200-1744826400@www.aimglobal.org
SUMMARY:AIDC 101 Fundamentals Workshop
DESCRIPTION:Join AIM’s AIDC 101 Workshop for a full–day educational experience tailored for every professional level
URL:https://www.aimglobal.org/event/aidc-101-fundamentals-workshop/
LOCATION:Chicago\, IL
ATTACH;FMTTYPE=image/jpeg:https://www.aimglobal.org/wp-content/uploads/2025/01/SUMMIT-Blog-Banner-1.jpg
END:VEVENT
BEGIN:VEVENT
DTSTART;TZID=America/New_York:20250422T140000
DTEND;TZID=America/New_York:20250422T150000
DTSTAMP:20260420T180516
CREATED:20250403T181905Z
LAST-MODIFIED:20250403T181905Z
UID:987500425-1745330400-1745334000@www.aimglobal.org
SUMMARY:How AI is Transforming Barcode Reading & Traceability: Smarter\, Faster\, More Accurate Automation
DESCRIPTION:This webinar explores how AI-powered barcode reading is transforming traceability and manufacturing efficiency. We’ll dive into out-of-the-box AI that enables automation without extensive training – and showcase how DataMan barcode readers overcome traditional scanning limitations with AI-driven innovations like guided setup\, real-time tuning\, and enhanced decoding.
URL:https://www.aimglobal.org/event/how-ai-is-transforming-barcode-reading-traceability-smarter-faster-more-accurate-automation/
LOCATION:Virtual
ATTACH;FMTTYPE=image/jpeg:https://www.aimglobal.org/wp-content/uploads/2025/04/Cognex-webinar-calendat.jpg
END:VEVENT
BEGIN:VEVENT
DTSTART;TZID=America/New_York:20250423T140000
DTEND;TZID=America/New_York:20250423T150000
DTSTAMP:20260420T180516
CREATED:20250418T184328Z
LAST-MODIFIED:20250418T184328Z
UID:987500459-1745416800-1745420400@www.aimglobal.org
SUMMARY:RFID: Selecting the Right Encoding Scheme for Your Customer's Application Webinar
DESCRIPTION:Selecting the appropriate RFID encoding scheme is crucial for maximizing the effectiveness of your RFID solution\, but which scheme should be used for which application? How do you generate these encodings? TSC Auto ID is here to help by covering four key benefits of encoding:\n–Integration with existing infrastructure\n–Optimize reader performance\n–Avoid “RAIN Flooding” & “Acid RAIN”\n–Making the most of existing schemes
URL:https://www.aimglobal.org/event/rfid-selecting-the-right-encoding-scheme-for-your-customers-application-webinar/
LOCATION:Virtual
ATTACH;FMTTYPE=image/png:https://www.aimglobal.org/wp-content/uploads/2025/04/1743789985725.png
END:VEVENT
BEGIN:VEVENT
DTSTART;VALUE=DATE:20250427
DTEND;VALUE=DATE:20250501
DTSTAMP:20260420T180516
CREATED:20250213T183746Z
LAST-MODIFIED:20250213T183746Z
UID:987500038-1745712000-1746057599@www.aimglobal.org
SUMMARY:Global Clinical Supplies Group 2025 US Conference
DESCRIPTION:
URL:https://www.aimglobal.org/event/global-clinical-supplies-group-2025-us-conference/
LOCATION:San Antonio\, Texas\, San Antonio\, TX\, United States
ATTACH;FMTTYPE=image/jpeg:https://www.aimglobal.org/wp-content/uploads/2025/02/download.jpg
END:VEVENT
BEGIN:VEVENT
DTSTART;VALUE=DATE:20250427
DTEND;VALUE=DATE:20250502
DTSTAMP:20260420T180516
CREATED:20241212T205051Z
LAST-MODIFIED:20241212T205051Z
UID:987498963-1745712000-1746143999@www.aimglobal.org
SUMMARY:Asembia's AXS 25 Summit
DESCRIPTION:The epicenter of the specialty pharmacy industry
URL:https://www.aimglobal.org/event/asembias-axs-25-summit/
LOCATION:Las Vegas\, Nevada\, Las Vegas\, Nevada
ATTACH;FMTTYPE=image/png:https://www.aimglobal.org/wp-content/uploads/2024/12/AXS.png
END:VEVENT
BEGIN:VEVENT
DTSTART;VALUE=DATE:20250428
DTEND;VALUE=DATE:20250502
DTSTAMP:20260420T180516
CREATED:20241213T155824Z
LAST-MODIFIED:20241213T155824Z
UID:987498967-1745798400-1746143999@www.aimglobal.org
SUMMARY:RSA Conference
DESCRIPTION:At RSAC 2025\, you’re not just attending a conference—you’re stepping into a vibrant\, thriving community of thinkers\, innovators\, and achievers. Though we come from different corners of the cybersecurity world\, we are united by a common mission: to foresee risks\, counter threats\, and embrace the challenges ahead. Together\, we shape the future of security. Together\, we shine as one.
URL:https://www.aimglobal.org/event/rsa-conference/
LOCATION:Moscone Center\, San Francisco\, CA\, United States
ATTACH;FMTTYPE=image/jpeg:https://www.aimglobal.org/wp-content/uploads/2024/12/RSA-Conference.jpg
END:VEVENT
BEGIN:VEVENT
DTSTART;VALUE=DATE:20250429
DTEND;VALUE=DATE:20250502
DTSTAMP:20260420T180516
CREATED:20241213T161158Z
LAST-MODIFIED:20241213T161158Z
UID:987498971-1745884800-1746143999@www.aimglobal.org
SUMMARY:International Powder & Bulk Solids
DESCRIPTION:Meet 3\,000 qualified buyers & decision makers at The Powder Show
URL:https://www.aimglobal.org/event/international-powder-bulk-solids/
LOCATION:Rosemount\, Illinois
ATTACH;FMTTYPE=image/png:https://www.aimglobal.org/wp-content/uploads/2024/05/Powderbulk-e1734105637218.png
END:VEVENT
END:VCALENDAR