BEGIN:VCALENDAR
VERSION:2.0
PRODID:-//AIM Global - ECPv6.15.20//NONSGML v1.0//EN
CALSCALE:GREGORIAN
METHOD:PUBLISH
X-WR-CALNAME:AIM Global
X-ORIGINAL-URL:https://www.aimglobal.org
X-WR-CALDESC:Events for AIM Global
REFRESH-INTERVAL;VALUE=DURATION:PT1H
X-Robots-Tag:noindex
X-PUBLISHED-TTL:PT1H
BEGIN:VTIMEZONE
TZID:America/New_York
BEGIN:DAYLIGHT
TZOFFSETFROM:-0500
TZOFFSETTO:-0400
TZNAME:EDT
DTSTART:20220313T070000
END:DAYLIGHT
BEGIN:STANDARD
TZOFFSETFROM:-0400
TZOFFSETTO:-0500
TZNAME:EST
DTSTART:20221106T060000
END:STANDARD
BEGIN:DAYLIGHT
TZOFFSETFROM:-0500
TZOFFSETTO:-0400
TZNAME:EDT
DTSTART:20230312T070000
END:DAYLIGHT
BEGIN:STANDARD
TZOFFSETFROM:-0400
TZOFFSETTO:-0500
TZNAME:EST
DTSTART:20231105T060000
END:STANDARD
BEGIN:DAYLIGHT
TZOFFSETFROM:-0500
TZOFFSETTO:-0400
TZNAME:EDT
DTSTART:20240310T070000
END:DAYLIGHT
BEGIN:STANDARD
TZOFFSETFROM:-0400
TZOFFSETTO:-0500
TZNAME:EST
DTSTART:20241103T060000
END:STANDARD
END:VTIMEZONE
BEGIN:VEVENT
DTSTART;VALUE=DATE:20230816
DTEND;VALUE=DATE:20230820
DTSTAMP:20260421T205143
CREATED:20230618T030549Z
LAST-MODIFIED:20230618T030549Z
UID:987495064-1692151200-1692410399@www.aimglobal.org
SUMMARY:Southern Hemp Expo
DESCRIPTION:WAFBA Announces a Pause for 2023 Southern Hemp Expo in Nashville\nLearn more here.
URL:https://www.aimglobal.org/event/southern-hemp-expo/
ATTACH;FMTTYPE=image/jpeg:https://www.aimglobal.org/wp-content/uploads/2023/06/SHE5-1900x500-APR.jpg
END:VEVENT
BEGIN:VEVENT
DTSTART;VALUE=DATE:20230804
DTEND;VALUE=DATE:20230807
DTSTAMP:20260421T205143
CREATED:20230618T024845Z
LAST-MODIFIED:20230618T025106Z
UID:987495056-1691114400-1691287199@www.aimglobal.org
SUMMARY:CannaCon West
DESCRIPTION:Learn more here.
URL:https://www.aimglobal.org/event/cannacon-west/
LOCATION:Long Beach Convention & Entertainment Center\, 300 E Ocean Blvd\, Long Beach\, CA\, United States
ATTACH;FMTTYPE=image/jpeg:https://www.aimglobal.org/wp-content/uploads/2023/06/CannaCon2019_MSP_013119-171-1200x801-1.jpg
END:VEVENT
END:VCALENDAR