BEGIN:VCALENDAR
VERSION:2.0
PRODID:-//AIM Global - ECPv6.15.20//NONSGML v1.0//EN
CALSCALE:GREGORIAN
METHOD:PUBLISH
X-WR-CALNAME:AIM Global
X-ORIGINAL-URL:https://www.aimglobal.org
X-WR-CALDESC:Events for AIM Global
REFRESH-INTERVAL;VALUE=DURATION:PT1H
X-Robots-Tag:noindex
X-PUBLISHED-TTL:PT1H
BEGIN:VTIMEZONE
TZID:America/New_York
BEGIN:DAYLIGHT
TZOFFSETFROM:-0500
TZOFFSETTO:-0400
TZNAME:EDT
DTSTART:20230312T070000
END:DAYLIGHT
BEGIN:STANDARD
TZOFFSETFROM:-0400
TZOFFSETTO:-0500
TZNAME:EST
DTSTART:20231105T060000
END:STANDARD
BEGIN:DAYLIGHT
TZOFFSETFROM:-0500
TZOFFSETTO:-0400
TZNAME:EDT
DTSTART:20240310T070000
END:DAYLIGHT
BEGIN:STANDARD
TZOFFSETFROM:-0400
TZOFFSETTO:-0500
TZNAME:EST
DTSTART:20241103T060000
END:STANDARD
BEGIN:DAYLIGHT
TZOFFSETFROM:-0500
TZOFFSETTO:-0400
TZNAME:EDT
DTSTART:20250309T070000
END:DAYLIGHT
BEGIN:STANDARD
TZOFFSETFROM:-0400
TZOFFSETTO:-0500
TZNAME:EST
DTSTART:20251102T060000
END:STANDARD
END:VTIMEZONE
BEGIN:VEVENT
DTSTART;VALUE=DATE:20241019
DTEND;VALUE=DATE:20241023
DTSTAMP:20260421T015927
CREATED:20240509T165836Z
LAST-MODIFIED:20240509T165836Z
UID:987497185-1729368000-1729627199@www.aimglobal.org
SUMMARY:Food Safety and Cannabis Consortium
DESCRIPTION:The Food Safety Consortium starts with several pre-conference workshops and training which leads into two full days of high-level panel discussions and educational presentations.
URL:https://www.aimglobal.org/event/food-safety-and-cannabis-consortium/
LOCATION:Crystal Gateway Marriott\, Arlington\, V
ATTACH;FMTTYPE=image/jpeg:https://www.aimglobal.org/wp-content/uploads/2024/05/FoodSafetyConsortium-.jpg
END:VEVENT
BEGIN:VEVENT
DTSTART;VALUE=DATE:20241015
DTEND;VALUE=DATE:20241019
DTSTAMP:20260421T015927
CREATED:20240509T172838Z
LAST-MODIFIED:20240509T172838Z
UID:987497223-1729022400-1729281599@www.aimglobal.org
SUMMARY:ShopTalk Fall
DESCRIPTION:Retails must attend new event.
URL:https://www.aimglobal.org/event/shoptalk-fall/
LOCATION:Chicago\, IL
ATTACH;FMTTYPE=image/png:https://www.aimglobal.org/wp-content/uploads/2024/05/shoptalk.png
END:VEVENT
BEGIN:VEVENT
DTSTART;VALUE=DATE:20241015
DTEND;VALUE=DATE:20241018
DTSTAMP:20260421T015927
CREATED:20231122T183558Z
LAST-MODIFIED:20231122T183558Z
UID:987495545-1729022400-1729195199@www.aimglobal.org
SUMMARY:MinnPack
DESCRIPTION:
URL:https://www.aimglobal.org/event/minnpack/
LOCATION:Minneapolis Convention Center
ATTACH;FMTTYPE=image/png:https://www.aimglobal.org/wp-content/uploads/2023/11/Minnpack.png
END:VEVENT
BEGIN:VEVENT
DTSTART;VALUE=DATE:20241013
DTEND;VALUE=DATE:20241019
DTSTAMP:20260421T015927
CREATED:20240509T225132Z
LAST-MODIFIED:20240509T225132Z
UID:987497462-1728849600-1729281599@www.aimglobal.org
SUMMARY:GITEX 2024
DESCRIPTION:GITEX offers an unprecedented 40+ halls of exhibition space\, showcasing tech giants and innovative startups in fields like AI\, Cybersecurity\, Mobility\, Sustainable Tech\, and more.
URL:https://www.aimglobal.org/event/gitex-2024/
LOCATION:Dubai
ATTACH;FMTTYPE=image/jpeg:https://www.aimglobal.org/wp-content/uploads/2024/05/gitex.jpg
END:VEVENT
BEGIN:VEVENT
DTSTART;TZID=America/New_York:20241009T230000
DTEND;TZID=America/New_York:20241010T000000
DTSTAMP:20260421T015927
CREATED:20240910T160721Z
LAST-MODIFIED:20240910T160721Z
UID:987498208-1728514800-1728518400@www.aimglobal.org
SUMMARY:How to Choose the Right RAIN RFID Antenna
DESCRIPTION:
URL:https://www.aimglobal.org/event/how-to-choose-the-right-rain-rfid-antenna/
LOCATION:Virtual
END:VEVENT
BEGIN:VEVENT
DTSTART;VALUE=DATE:20241008
DTEND;VALUE=DATE:20241012
DTSTAMP:20260421T015927
CREATED:20240509T212540Z
LAST-MODIFIED:20240509T212540Z
UID:987497370-1728417600-1728676799@www.aimglobal.org
SUMMARY:AIM Germany Autumn Meeting
DESCRIPTION:As part of the AIM Autumn Forum 2024\, the results and projects of the AIM Experts Groups will again be presented; The board and management report on the current activities of the association. In addition\, an interesting lecture program is planned\, in which external guests and experts will comment on current and future-oriented topics.
URL:https://www.aimglobal.org/event/aim-germany-autumn-meeting/
LOCATION:Reutlingen\, Germany\, Reutlingen\, Germany
ATTACH;FMTTYPE=image/png:https://www.aimglobal.org/wp-content/uploads/2024/05/logo-aim-deutschland-oesterreich-schweiz-tagline.png
END:VEVENT
BEGIN:VEVENT
DTSTART;VALUE=DATE:20241008
DTEND;VALUE=DATE:20241012
DTSTAMP:20260421T015927
CREATED:20240509T195618Z
LAST-MODIFIED:20240509T195618Z
UID:987497331-1728417600-1728676799@www.aimglobal.org
SUMMARY:IFMA World Workplace
DESCRIPTION:IFMA’s World Workplace is the largest\, most highly acclaimed conference in the world. It’s where all facility management professionals gather to discover the latest FM innovations\, make valuable connections and improve essential skills.
URL:https://www.aimglobal.org/event/ifma-world-workplace/
LOCATION:Henry B. Gonzalez Convention Center\, San Antonio\, Texas
ATTACH;FMTTYPE=image/png:https://www.aimglobal.org/wp-content/uploads/2024/05/worldworkplace.png
END:VEVENT
BEGIN:VEVENT
DTSTART;VALUE=DATE:20241007
DTEND;VALUE=DATE:20241011
DTSTAMP:20260421T015927
CREATED:20240509T201851Z
LAST-MODIFIED:20240509T202701Z
UID:987497356-1728331200-1728590399@www.aimglobal.org
SUMMARY:NFC Forum Europe Member Meeting
DESCRIPTION:The NFC Forum hosts Member Meetings to create community\, develop common interest in new markets\, and make F2F progress on shared work products. All Members are invited for a three-day program that includes Committee\, SIG\, and Working Group meetings along with our Member Roundtable and networking receptions.
URL:https://www.aimglobal.org/event/nfc-forum-europe-member-meeting/
LOCATION:Nice\, France\, Nice\, France
ATTACH;FMTTYPE=image/png:https://www.aimglobal.org/wp-content/uploads/2024/05/nfc.png
END:VEVENT
BEGIN:VEVENT
DTSTART;VALUE=DATE:20241006
DTEND;VALUE=DATE:20241011
DTSTAMP:20260421T015927
CREATED:20240509T181302Z
LAST-MODIFIED:20240509T181302Z
UID:987497255-1728244800-1728590399@www.aimglobal.org
SUMMARY:Electric & Hybrid Vehicle Technology Expo North America
DESCRIPTION:North America ‘s largest advanced battery event
URL:https://www.aimglobal.org/event/electric-hybrid-vehicle-technology-expo-north-america/
LOCATION:Huntington Place\, Detroit\, Michigan
ATTACH;FMTTYPE=image/png:https://www.aimglobal.org/wp-content/uploads/2024/05/ehvtc-1.png
END:VEVENT
BEGIN:VEVENT
DTSTART;VALUE=DATE:20241006
DTEND;VALUE=DATE:20241011
DTSTAMP:20260421T015927
CREATED:20231122T200922Z
LAST-MODIFIED:20231122T200922Z
UID:987495612-1728244800-1728590399@www.aimglobal.org
SUMMARY:The Battery Show North America
DESCRIPTION:
URL:https://www.aimglobal.org/event/the-battery-show-north-america/
LOCATION:Illinois
ATTACH;FMTTYPE=image/png:https://www.aimglobal.org/wp-content/uploads/2023/11/The.png
END:VEVENT
BEGIN:VEVENT
DTSTART;VALUE=DATE:20241006
DTEND;VALUE=DATE:20241011
DTSTAMP:20260421T015927
CREATED:20231122T184558Z
LAST-MODIFIED:20231122T184558Z
UID:987495557-1728244800-1728590399@www.aimglobal.org
SUMMARY:National Association of Convenience Stores Conference
DESCRIPTION:
URL:https://www.aimglobal.org/event/national-association-of-convenience-stores-conference/
LOCATION:Las Vegas\, NV
ATTACH;FMTTYPE=image/jpeg:https://www.aimglobal.org/wp-content/uploads/2023/11/NACS-Show.jpg
END:VEVENT
BEGIN:VEVENT
DTSTART;VALUE=DATE:20241006
DTEND;VALUE=DATE:20241010
DTSTAMP:20260421T015927
CREATED:20240509T210846Z
LAST-MODIFIED:20240509T210846Z
UID:987497364-1728244800-1728503999@www.aimglobal.org
SUMMARY:NFC Forum Europe Members Meeting
DESCRIPTION:The NFC Forum hosts Member Meetings to create community\, develop common interest in new markets\, and make F2F progress on shared work products. All Members are invited for a three day program that includes Committee\, SIG\, and Working Group meetings along with our Member Roundtable and networking receptions.
URL:https://www.aimglobal.org/event/nfc-forum-europe-members-meeting/
LOCATION:Illinois
ATTACH;FMTTYPE=image/png:https://www.aimglobal.org/wp-content/uploads/2024/05/nfceurope-2025-1.png
END:VEVENT
BEGIN:VEVENT
DTSTART;VALUE=DATE:20241006
DTEND;VALUE=DATE:20241010
DTSTAMP:20260421T015927
CREATED:20240509T173316Z
LAST-MODIFIED:20240509T173316Z
UID:987497229-1728244800-1728503999@www.aimglobal.org
SUMMARY:GroceryShop
DESCRIPTION:Where grocery\, technology and innovation intersect.
URL:https://www.aimglobal.org/event/groceryshop/
LOCATION:Mandalay Bay\, Las Vegas\, Nevada
ATTACH;FMTTYPE=image/png:https://www.aimglobal.org/wp-content/uploads/2024/05/groceryshop.png
END:VEVENT
BEGIN:VEVENT
DTSTART;VALUE=DATE:20241003
DTEND;VALUE=DATE:20241006
DTSTAMP:20260421T015927
CREATED:20240509T171357Z
LAST-MODIFIED:20240509T171357Z
UID:987497207-1727985600-1728158399@www.aimglobal.org
SUMMARY:NECANN Connecticut
DESCRIPTION:As Connecticut begins the transition to a legal recreational cannabis state\, NECANN will serve as the state’s “must attend” B2B event for the emerging industry.
URL:https://www.aimglobal.org/event/necann-connecticut/
LOCATION:XL Center\, Hartford\, Connecticut
ATTACH;FMTTYPE=image/png:https://www.aimglobal.org/wp-content/uploads/2024/05/NECANN.png
END:VEVENT
BEGIN:VEVENT
DTSTART;VALUE=DATE:20241002
DTEND;VALUE=DATE:20241006
DTSTAMP:20260421T015927
CREATED:20240509T194334Z
LAST-MODIFIED:20240509T194334Z
UID:987497322-1727899200-1728158399@www.aimglobal.org
SUMMARY:AIAG Quality Summit
DESCRIPTION:From implementing the new APQP and Control Plan in an EV environment\, to trends and best practices for EV-related technologies and software quality with driver assistance or autonomous driving/systems/features\, our 2024 event is one you won’t want to miss!
URL:https://www.aimglobal.org/event/aiag-quality-summit/
LOCATION:Novi\, MI\, Novi\, MI
ATTACH;FMTTYPE=image/png:https://www.aimglobal.org/wp-content/uploads/2024/05/store_logo.png
END:VEVENT
BEGIN:VEVENT
DTSTART;VALUE=DATE:20241002
DTEND;VALUE=DATE:20241006
DTSTAMP:20260421T015927
CREATED:20240509T181858Z
LAST-MODIFIED:20240509T181858Z
UID:987497259-1727899200-1728158399@www.aimglobal.org
SUMMARY:The Battery Show India
DESCRIPTION:The battery community’s greatest event.
URL:https://www.aimglobal.org/event/the-battery-show-india/
LOCATION:India Expo Centre\, Greater Noida\, India
ATTACH;FMTTYPE=image/png:https://www.aimglobal.org/wp-content/uploads/2024/05/batteryshow-e1735318044171.png
END:VEVENT
BEGIN:VEVENT
DTSTART;VALUE=DATE:20241002
DTEND;VALUE=DATE:20241005
DTSTAMP:20260421T015927
CREATED:20240509T172228Z
LAST-MODIFIED:20240509T172228Z
UID:987497217-1727899200-1728071999@www.aimglobal.org
SUMMARY:CannaCon MidWest
DESCRIPTION:Join us in Cleveland to network with like-minded entrepreneurs who are building a bold\, new industry. Attend CannaCon for all of your cannabis business needs.
URL:https://www.aimglobal.org/event/cannacon-midwest/
LOCATION:Huntington Convention Center\, Cleveland\, Ohio
ATTACH;FMTTYPE=image/png:https://www.aimglobal.org/wp-content/uploads/2024/05/cannacon.png
END:VEVENT
BEGIN:VEVENT
DTSTART;TZID=America/New_York:20241002T110000
DTEND;TZID=America/New_York:20241002T120000
DTSTAMP:20260421T015927
CREATED:20240925T160513Z
LAST-MODIFIED:20240925T160513Z
UID:987498373-1727866800-1727870400@www.aimglobal.org
SUMMARY:Barcodes Decoded: A Panel of Pros Discuss the Past\, Present\, and Future
DESCRIPTION:Industry experts from GS1 and Janam will join TEKLYNX and Brother to explore the evolution of barcodes\, the untapped potential of 2D barcodes for optimizing operations\, and provide expert advice on future-proofing labeling and data management.
URL:https://www.aimglobal.org/event/barcodes-decoded-a-panel-of-pros-discuss-the-past-present-and-future/
LOCATION:Virtual
ATTACH;FMTTYPE=image/png:https://www.aimglobal.org/wp-content/uploads/2024/09/TEKLYNX-and-Brother-Webinar-Promo-Image.png
END:VEVENT
BEGIN:VEVENT
DTSTART;TZID=America/New_York:20241001T130000
DTEND;TZID=America/New_York:20241001T140000
DTSTAMP:20260421T015927
CREATED:20240802T235942Z
LAST-MODIFIED:20240925T184232Z
UID:987498040-1727787600-1727791200@www.aimglobal.org
SUMMARY:Securing the Aerospace and Defense Supply Chains with Non-Cloneable Security Markers
DESCRIPTION:
URL:https://www.aimglobal.org/event/securing-the-aerospace-and-defense-supply-chains-with-non-cloneable-security-markers/
LOCATION:Illinois
ATTACH;FMTTYPE=image/jpeg:https://www.aimglobal.org/wp-content/uploads/2024/08/Securing-the-Aerospace-and-Defense-Supply-Chains-with-Non-Cloneable-Security-Markers.jpg
END:VEVENT
BEGIN:VEVENT
DTSTART;TZID=America/New_York:20241001T040000
DTEND;TZID=America/New_York:20241004T130000
DTSTAMP:20260421T015927
CREATED:20240807T163908Z
LAST-MODIFIED:20240807T163908Z
UID:987498050-1727755200-1728046800@www.aimglobal.org
SUMMARY:HIMSS APAC
DESCRIPTION:Building the future of health IT
URL:https://www.aimglobal.org/event/himss-apac/
LOCATION:Coex\, Seoul Korea
ATTACH;FMTTYPE=image/png:https://www.aimglobal.org/wp-content/uploads/2024/08/logo-240404.png
END:VEVENT
BEGIN:VEVENT
DTSTART;VALUE=DATE:20240930
DTEND;VALUE=DATE:20241003
DTSTAMP:20260421T015927
CREATED:20240509T221848Z
LAST-MODIFIED:20240509T221848Z
UID:987497419-1727726400-1727899199@www.aimglobal.org
SUMMARY:American Medical Device Summit
DESCRIPTION:Setting the standard on how the medical device industry connects and exchanges ideas\, the American Medical Device Summit provides insights and strategies to enhance the professional development of medtech executives involved in the design\, product development\, innovation\, technology\, quality\, and regulatory aspects of medical devices.
URL:https://www.aimglobal.org/event/american-medical-device-summit/
LOCATION:Renaissance Schaumburg Convention Center Hotel\, Chicago\, Illinois
ATTACH;FMTTYPE=image/png:https://www.aimglobal.org/wp-content/uploads/2024/05/generis-logo-blue.png
END:VEVENT
BEGIN:VEVENT
DTSTART;VALUE=DATE:20240930
DTEND;VALUE=DATE:20241003
DTSTAMP:20260421T015927
CREATED:20231122T020608Z
LAST-MODIFIED:20231122T020608Z
UID:987495519-1727726400-1727899199@www.aimglobal.org
SUMMARY:IoT Tech Expo Europe
DESCRIPTION:
URL:https://www.aimglobal.org/event/iot-tech-expo-europe/
LOCATION:Amsterdam
ATTACH;FMTTYPE=image/png:https://www.aimglobal.org/wp-content/uploads/2023/11/IotTech-Expo-Europe.png
END:VEVENT
BEGIN:VEVENT
DTSTART;VALUE=DATE:20240930
DTEND;VALUE=DATE:20241003
DTSTAMP:20260421T015927
CREATED:20231122T011836Z
LAST-MODIFIED:20231122T011836Z
UID:987495490-1727726400-1727899199@www.aimglobal.org
SUMMARY:AI & Big Data Expo - Europe
DESCRIPTION:
URL:https://www.aimglobal.org/event/ai-big-data-expo-europe/
LOCATION:Amsterdam
ATTACH;FMTTYPE=image/png:https://www.aimglobal.org/wp-content/uploads/2023/11/AI-Big-Data-Expo-Europe.png
END:VEVENT
BEGIN:VEVENT
DTSTART;VALUE=DATE:20240924
DTEND;VALUE=DATE:20240928
DTSTAMP:20260421T015927
CREATED:20231122T182700Z
LAST-MODIFIED:20231122T182700Z
UID:987495537-1727208000-1727467199@www.aimglobal.org
SUMMARY:MedTec China
DESCRIPTION:
URL:https://www.aimglobal.org/event/medtec-china/
LOCATION:Shanghai\, China
ATTACH;FMTTYPE=image/png:https://www.aimglobal.org/wp-content/uploads/2023/11/Medtec-China.png
END:VEVENT
BEGIN:VEVENT
DTSTART;VALUE=DATE:20240924
DTEND;VALUE=DATE:20240927
DTSTAMP:20260421T015927
CREATED:20240509T225424Z
LAST-MODIFIED:20240509T225424Z
UID:987497466-1727208000-1727380799@www.aimglobal.org
SUMMARY:Medical Technology Ireland
DESCRIPTION:Europe’s second largest and fastest growing medical device design and manufacturing show.
URL:https://www.aimglobal.org/event/medical-technology-ireland/
LOCATION:Galway Racecourse\, Galway\, Ireland
ATTACH;FMTTYPE=image/png:https://www.aimglobal.org/wp-content/uploads/2024/05/medical-tech-ireland.png
END:VEVENT
BEGIN:VEVENT
DTSTART;VALUE=DATE:20240924
DTEND;VALUE=DATE:20240927
DTSTAMP:20260421T015927
CREATED:20240509T214014Z
LAST-MODIFIED:20240509T214014Z
UID:987497390-1727208000-1727380799@www.aimglobal.org
SUMMARY:BIOMEDevice Boston
DESCRIPTION:Connect with the top medical device OEM’s in the region
URL:https://www.aimglobal.org/event/biomedevice-boston/
LOCATION:Boston Convention and Exhibition Center\, Boston\, Massachusetts
ATTACH;FMTTYPE=image/png:https://www.aimglobal.org/wp-content/uploads/2024/05/biomed.png
END:VEVENT
BEGIN:VEVENT
DTSTART;TZID=America/New_York:20240924T070000
DTEND;TZID=America/New_York:20240924T080000
DTSTAMP:20260421T015927
CREATED:20240905T164441Z
LAST-MODIFIED:20240910T161102Z
UID:987498160-1727161200-1727164800@www.aimglobal.org
SUMMARY:Transforming the Healthcare and Pharma Industry  with Smart Packaging Solutions: Improving Safety\,  Efficiency\, and Authenticity with RFID-NFC  Solutions Webinar
DESCRIPTION:
URL:https://www.aimglobal.org/event/transforming-the-healthcare-and-pharma-industry-with-smart-packaging-solutions-improving-safety-efficiency-and-authenticity-with-rfid-nfc-solutions-webinar/
LOCATION:Virtual
ATTACH;FMTTYPE=image/jpeg:https://www.aimglobal.org/wp-content/uploads/2024/09/TRANSF1.jpg
END:VEVENT
BEGIN:VEVENT
DTSTART;VALUE=DATE:20240922
DTEND;VALUE=DATE:20240926
DTSTAMP:20260421T015927
CREATED:20231206T010825Z
LAST-MODIFIED:20231206T010825Z
UID:987495658-1727035200-1727294399@www.aimglobal.org
SUMMARY:LogiPharma
DESCRIPTION:
URL:https://www.aimglobal.org/event/logipharma/
LOCATION:Boston\, MA
ATTACH;FMTTYPE=image/png:https://www.aimglobal.org/wp-content/uploads/2023/12/Logipharma.png
END:VEVENT
BEGIN:VEVENT
DTSTART;VALUE=DATE:20240922
DTEND;VALUE=DATE:20240927
DTSTAMP:20260421T015927
CREATED:20230618T025855Z
LAST-MODIFIED:20231122T010557Z
UID:987495060-1726966800-1727312399@www.aimglobal.org
SUMMARY:AHRMM Conference and Expo
DESCRIPTION:
URL:https://www.aimglobal.org/event/ahrmm-conference-and-expo/
LOCATION:Columbus\, OH
ATTACH;FMTTYPE=image/jpeg:https://www.aimglobal.org/wp-content/uploads/2023/06/AHRMM.jpg
END:VEVENT
BEGIN:VEVENT
DTSTART;VALUE=DATE:20240921
DTEND;VALUE=DATE:20240926
DTSTAMP:20260421T015927
CREATED:20240509T223040Z
LAST-MODIFIED:20240509T223040Z
UID:987497431-1726948800-1727294399@www.aimglobal.org
SUMMARY:International Foodservice Distributors Association (IFDA) Conference
DESCRIPTION:The premier event for the food distribution community.
URL:https://www.aimglobal.org/event/international-foodservice-distributors-association-ifda-conference/
LOCATION:Kansas City\, Missouri
ATTACH;FMTTYPE=image/png:https://www.aimglobal.org/wp-content/uploads/2024/05/ifda-e1735306353380.png
END:VEVENT
END:VCALENDAR