BEGIN:VCALENDAR
VERSION:2.0
PRODID:-//AIM Global - ECPv6.15.20//NONSGML v1.0//EN
CALSCALE:GREGORIAN
METHOD:PUBLISH
X-ORIGINAL-URL:https://www.aimglobal.org
X-WR-CALDESC:Events for AIM Global
REFRESH-INTERVAL;VALUE=DURATION:PT1H
X-Robots-Tag:noindex
X-PUBLISHED-TTL:PT1H
BEGIN:VTIMEZONE
TZID:America/New_York
BEGIN:DAYLIGHT
TZOFFSETFROM:-0500
TZOFFSETTO:-0400
TZNAME:EDT
DTSTART:20240310T070000
END:DAYLIGHT
BEGIN:STANDARD
TZOFFSETFROM:-0400
TZOFFSETTO:-0500
TZNAME:EST
DTSTART:20241103T060000
END:STANDARD
BEGIN:DAYLIGHT
TZOFFSETFROM:-0500
TZOFFSETTO:-0400
TZNAME:EDT
DTSTART:20250309T070000
END:DAYLIGHT
BEGIN:STANDARD
TZOFFSETFROM:-0400
TZOFFSETTO:-0500
TZNAME:EST
DTSTART:20251102T060000
END:STANDARD
BEGIN:DAYLIGHT
TZOFFSETFROM:-0500
TZOFFSETTO:-0400
TZNAME:EDT
DTSTART:20260308T070000
END:DAYLIGHT
BEGIN:STANDARD
TZOFFSETFROM:-0400
TZOFFSETTO:-0500
TZNAME:EST
DTSTART:20261101T060000
END:STANDARD
END:VTIMEZONE
BEGIN:VEVENT
DTSTART;VALUE=DATE:20250506
DTEND;VALUE=DATE:20250510
DTSTAMP:20260421T013157
CREATED:20241213T172726Z
LAST-MODIFIED:20241213T172726Z
UID:987499026-1746489600-1746835199@www.aimglobal.org
SUMMARY:Power2Drive Europe
DESCRIPTION:The International Exhibition for Charging Infrastructure and E-Mobility
URL:https://www.aimglobal.org/event/power2drive-europe-2/
LOCATION:Munchen\, Denmark\, Munchen\, Denmark
ATTACH;FMTTYPE=image/jpeg:https://www.aimglobal.org/wp-content/uploads/2024/05/power2drive.jpg
END:VEVENT
BEGIN:VEVENT
DTSTART;TZID=America/New_York:20250506T150000
DTEND;TZID=America/New_York:20250506T160000
DTSTAMP:20260421T013157
CREATED:20250422T171435Z
LAST-MODIFIED:20250422T171435Z
UID:987500463-1746543600-1746547200@www.aimglobal.org
SUMMARY:Navigating ICH E6(R3) with Confidence Webinar
DESCRIPTION:With the recent release of ICH E6(R3)\, life sciences sponsors face increased responsibility for ongoing oversight of CRO and CDMO systems and services. This shift demands more than annual audits—it requires a proactive\, continuous governance approach to ensure compliance and protect your clinical data. \nThis webinar is designed to help you meet these heightened regulatory expectations with confidence. \nWhat you’ll learn: \n\nWhat’s changed in ICH E6(R3)—and why it matters now\nHow to operationalize IT governance and risk management over CRO systems\nHow to enable real-time monitoring of cybersecurity risks\nA scalable\, managed service that reduces compliance burdens
URL:https://www.aimglobal.org/event/navigating-ich-e6r3-with-confidence-webinar/
LOCATION:Virtual
ATTACH;FMTTYPE=image/png:https://www.aimglobal.org/wp-content/uploads/2025/04/USDM_hi-res_color.png
END:VEVENT
BEGIN:VEVENT
DTSTART;VALUE=DATE:20250506
DTEND;VALUE=DATE:20250511
DTSTAMP:20260421T013157
CREATED:20240508T220756Z
LAST-MODIFIED:20240508T220756Z
UID:987497142-1746561600-1746907199@www.aimglobal.org
SUMMARY:CES
DESCRIPTION:The global stage for innovation.
URL:https://www.aimglobal.org/event/ces/
LOCATION:Las Vegas\, NV
ATTACH;FMTTYPE=image/png:https://www.aimglobal.org/wp-content/uploads/2024/05/cescta-logo.png
END:VEVENT
BEGIN:VEVENT
DTSTART;VALUE=DATE:20250507
DTEND;VALUE=DATE:20250509
DTSTAMP:20260421T013157
CREATED:20241213T173734Z
LAST-MODIFIED:20241213T173734Z
UID:987499029-1746576000-1746748799@www.aimglobal.org
SUMMARY:UKIVA Machine Vision Conference
DESCRIPTION:Committed to driving industry progress and helping our users make more informed technology decisions. Vision UK has become the leading UK machine vision exhibition from UKIVA and incorporates the Machine Vision Conference (MVC).
URL:https://www.aimglobal.org/event/ukiva-machine-vision-conference-2/
LOCATION:Coventry Building Society Arena\, Coventry\, United Kingdom
ATTACH;FMTTYPE=image/png:https://www.aimglobal.org/wp-content/uploads/2024/12/Screenshot-2024-12-13-123644.png
END:VEVENT
BEGIN:VEVENT
DTSTART;VALUE=DATE:20250508
DTEND;VALUE=DATE:20250511
DTSTAMP:20260421T013157
CREATED:20241213T174147Z
LAST-MODIFIED:20241213T174147Z
UID:987499032-1746662400-1746921599@www.aimglobal.org
SUMMARY:LabelExpo Southeast Asia
DESCRIPTION:Southeast Asia’s largest label and package printing event.
URL:https://www.aimglobal.org/event/labelexpo-southeast-asia/
LOCATION:Bangkok\, Thailand\, Bangkok\, Thailand
ATTACH;FMTTYPE=image/png:https://www.aimglobal.org/wp-content/uploads/2024/12/Labelexpo-SEasia.png
END:VEVENT
BEGIN:VEVENT
DTSTART;TZID=America/New_York:20250508T073000
DTEND;TZID=America/New_York:20250508T093000
DTSTAMP:20260421T013157
CREATED:20250116T131814Z
LAST-MODIFIED:20250116T131814Z
UID:987499665-1746689400-1746696600@www.aimglobal.org
SUMMARY:Breakfast with The RAIN Alliance and AIM at RFID Journal Live
DESCRIPTION:Exclusively for RAIN and AIM members\, session attendees will hear insights from RAIN Alliance and AIM leadership\, plus case study insights from each organization’s members.
URL:https://www.aimglobal.org/event/breakfast-with-the-rain-alliance-and-aim-at-rfid-journal-live/
LOCATION:KY
END:VEVENT
BEGIN:VEVENT
DTSTART;TZID=America/New_York:20250508T073000
DTEND;TZID=America/New_York:20250508T093000
DTSTAMP:20260421T013157
CREATED:20250318T151601Z
LAST-MODIFIED:20250318T151601Z
UID:987500249-1746689400-1746696600@www.aimglobal.org
SUMMARY:AIM – RAIN Alliance Partnership Breakfast at RFID Journal LIVE!
DESCRIPTION:Exclusively for RAIN and AIM members\, session attendees will hear insights from RAIN Alliance and AIM leadership\, plus case study insights from each organization’s members. \nAttendees will also benefit from networking with each other over a light breakfast.
URL:https://www.aimglobal.org/event/aim-rain-alliance-partnership-breakfast-at-rfid-journal-live/
LOCATION:Paris Hotel\, Las Vegas\, Las Vegas\, NV\, United States
END:VEVENT
BEGIN:VEVENT
DTSTART;TZID=America/New_York:20250508T150000
DTEND;TZID=America/New_York:20250508T210000
DTSTAMP:20260421T013157
CREATED:20250401T184812Z
LAST-MODIFIED:20250401T184812Z
UID:987500399-1746716400-1746738000@www.aimglobal.org
SUMMARY:BlueStar’s 2U Tour
DESCRIPTION:The 2U Tour combines a tech expo and networking for B2B technology providers in supply chain\, retail\, hospitality\, and healthcare. Get hands-on with rugged mobile computers\, barcode scanners\, RIFD\, label printers\, and more. Food & drinks provided. \n 
URL:https://www.aimglobal.org/event/bluestars-2u-tour-3/
LOCATION:Le Crystal\, Reception Hall\, Montreal\, Canada
ATTACH;FMTTYPE=image/png:https://www.aimglobal.org/wp-content/uploads/2025/03/2U-Tour-Logo.png
END:VEVENT
BEGIN:VEVENT
DTSTART;VALUE=DATE:20250511
DTEND;VALUE=DATE:20250516
DTSTAMP:20260421T013157
CREATED:20240722T180749Z
LAST-MODIFIED:20240722T180749Z
UID:987497896-1746993600-1747339199@www.aimglobal.org
SUMMARY:Food Safety Summit
DESCRIPTION:Network with food safety professionals on the exhibit floor\, during education sessions and at networking events.
URL:https://www.aimglobal.org/event/food-safety-summit/
LOCATION:Rosemont\, Illinois\, Rosemont\, Illinois
ATTACH;FMTTYPE=image/jpeg:https://www.aimglobal.org/wp-content/uploads/2024/07/Food-safety-summit.jpg
END:VEVENT
BEGIN:VEVENT
DTSTART;VALUE=DATE:20250512
DTEND;VALUE=DATE:20250516
DTSTAMP:20260421T013157
CREATED:20241213T162054Z
LAST-MODIFIED:20250318T151000Z
UID:987498980-1747008000-1747353599@www.aimglobal.org
SUMMARY:Automate
DESCRIPTION:As the largest robotics and automation event in the Americas\, this is the place for anyone working with or curious about automation. Join us in discovering what’s next – for you and the world.
URL:https://www.aimglobal.org/event/automate-2/
LOCATION:Detroit\, MI\, Detroit\, MI\, United States
ATTACH;FMTTYPE=image/jpeg:https://www.aimglobal.org/wp-content/uploads/2023/11/automate-1-e1700671963820.jpg
END:VEVENT
BEGIN:VEVENT
DTSTART;VALUE=DATE:20250513
DTEND;VALUE=DATE:20250516
DTSTAMP:20260421T013157
CREATED:20250214T133850Z
LAST-MODIFIED:20250214T143110Z
UID:987500042-1747094400-1747353599@www.aimglobal.org
SUMMARY:Warsaw Industry Automatica
DESCRIPTION:Warsaw Industry Automatica is an automation and robotics trade fair\, presenting innovations in control systems\, robotics\, electronics and industrial equipment. It is a meeting place for industry leaders\, exchanging knowledge and establishing business contacts.
URL:https://www.aimglobal.org/event/warsaw-industry-automatica/
LOCATION:Warsaw\, Poland\, Warsaw\, Poland
ATTACH;FMTTYPE=image/png:https://www.aimglobal.org/wp-content/uploads/2025/02/Messelogo-Warsaw-Industry-Automatica-600x400-bg-hybris-teaser.png
END:VEVENT
BEGIN:VEVENT
DTSTART;VALUE=DATE:20250514
DTEND;VALUE=DATE:20250518
DTSTAMP:20260421T013157
CREATED:20250210T184708Z
LAST-MODIFIED:20250210T184708Z
UID:987500001-1747180800-1747526399@www.aimglobal.org
SUMMARY:ESG Extravaganza 2025
DESCRIPTION:ESG Extravaganza presents an unparalleled opportunity\, marking the debut of a distinctive global platform for ESG initiatives in Macau.
URL:https://www.aimglobal.org/event/esg-extravaganza-2025/
LOCATION:Macau\, Macau
ATTACH;FMTTYPE=image/png:https://www.aimglobal.org/wp-content/uploads/2025/02/Screenshot-2025-02-10-134620.png
END:VEVENT
BEGIN:VEVENT
DTSTART;TZID=America/New_York:20250515T120000
DTEND;TZID=America/New_York:20250515T130000
DTSTAMP:20260421T013157
CREATED:20250505T134703Z
LAST-MODIFIED:20250505T135028Z
UID:987500547-1747310400-1747314000@www.aimglobal.org
SUMMARY:Supercharging AI: The Data Quality Advantage Webinar
DESCRIPTION:Join us for an insightful webinar on the critical role of data quality in enhancing AI outcomes. Discover how clean\, accurate\, and well-structured data can significantly improve the performance and reliability of AI models. We’ll explore best practices for data collection and validation and share real-world examples of how high-quality data drives better AI results. Whether you’re a data scientist\, AI practitioner\, or business leader\, this session will provide valuable insights to help you optimize your AI initiatives. Don’t miss this opportunity to learn how to turn your data into a powerful asset for AI success!
URL:https://www.aimglobal.org/event/supercharging-ai-the-data-quality-advantage-webinar/
LOCATION:Virtual
ATTACH;FMTTYPE=image/png:https://www.aimglobal.org/wp-content/uploads/2025/05/Supercharging-AI-The-Data-Quality-Advantage.png
END:VEVENT
BEGIN:VEVENT
DTSTART;VALUE=DATE:20250517
DTEND;VALUE=DATE:20250521
DTSTAMP:20260421T013157
CREATED:20241213T164912Z
LAST-MODIFIED:20241213T164912Z
UID:987499000-1747440000-1747785599@www.aimglobal.org
SUMMARY:National Restaurant Association Show
DESCRIPTION:The National Restaurant Association Show is the must-attend event for every member of the restaurant and foodservice industry­. As the world’s most influential showcase of foodservice innovation and inspiration\, it’s where every trend\, solution and category are represented — connecting you with the people and products you need to thrive in today’s business environment.
URL:https://www.aimglobal.org/event/national-restaurant-association-show-3/
LOCATION:Chicago\, IL
ATTACH;FMTTYPE=image/png:https://www.aimglobal.org/wp-content/uploads/2024/05/National-Restaruant-Show.png
END:VEVENT
BEGIN:VEVENT
DTSTART;VALUE=DATE:20250519
DTEND;VALUE=DATE:20250523
DTSTAMP:20260421T013157
CREATED:20240509T213111Z
LAST-MODIFIED:20241206T155354Z
UID:987497378-1747684800-1747943999@www.aimglobal.org
SUMMARY:MD&M EastPack
DESCRIPTION:Meet innovators changing the packaging industry at EastPack.
URL:https://www.aimglobal.org/event/mdm-eastpack/
LOCATION:Jacob K. Javits Convention Center\, New York\, New York
ATTACH;FMTTYPE=image/jpeg:https://www.aimglobal.org/wp-content/uploads/2024/05/EPlogo.jpg
END:VEVENT
BEGIN:VEVENT
DTSTART;VALUE=DATE:20250520
DTEND;VALUE=DATE:20250523
DTSTAMP:20260421T013157
CREATED:20241213T170202Z
LAST-MODIFIED:20241213T170202Z
UID:987499010-1747699200-1747958399@www.aimglobal.org
SUMMARY:MD&M EastPack
DESCRIPTION:Medtech moves fast. Keep the pace with the latest innovations and immerse yourself in a community of visionaries and industry leaders. It’s all waiting at the region’s most comprehensive medical design and manufacturing event — MD&M East.
URL:https://www.aimglobal.org/event/mdm-eastpack-2/
LOCATION:Jacob K. Javits Convention Center\, New York\, New York
ATTACH;FMTTYPE=image/png:https://www.aimglobal.org/wp-content/uploads/2024/12/Screenshot-2024-12-13-120104.png
END:VEVENT
BEGIN:VEVENT
DTSTART;TZID=America/New_York:20250521T110000
DTEND;TZID=America/New_York:20250521T120000
DTSTAMP:20260421T013157
CREATED:20250519T172722Z
LAST-MODIFIED:20250519T172722Z
UID:987500633-1747825200-1747828800@www.aimglobal.org
SUMMARY:Can RFID Take Us Beyond DSCSA to Stop Counterfeits\, Improve Safety\, and Streamline Pharma Operations? Are We Doing Enough?
DESCRIPTION:As the FDA implemented a stabilization period for a group of dispensers in 2023\, the Drug Supply Chain Security Act (DSCSA) is now officially in effect. The pharmaceutical industry is under increasing pressure to ensure product authenticity\, traceability\, and patient safety. But is compliance enough? In this webinar\, we’ll explore how Radio Frequency Identification (RFID) technology can go beyond DSCSA mandates to address persistent challenges in the pharmaceutical supply chain—including counterfeit prevention\, operational inefficiencies\, and real-time visibility. What You’ll Learn: * The current state of DSCSA—and what’s next * How RFID can be integrated into enterprise systems and scaled across operations * Lessons from real-world RFID pilot implementations * Strategic advantages for manufacturers\, wholesalers & pharmacies This session will highlight a recent RFID pilot study conducted by The Axia Institute at Michigan State University with key industry stakeholders and offer insights into how RFID can be integrated into enterprise systems\, scaled across operations\, and potentially adopted by wholesalers\, pharmacies\, and beyond. Panelists from the Axia Institute\, CCL/eAgile and Cencora will share technical perspectives\, industry implications\, and strategic takeaways that point to RFID as a transformative tool—not just for compliance\, but for unlocking broader business and safety benefits.
URL:https://www.aimglobal.org/event/can-rfid-take-us-beyond-dscsa-to-stop-counterfeits-improve-safety-and-streamline-pharma-operations-are-we-doing-enough/
LOCATION:Virtual
ATTACH;FMTTYPE=image/png:https://www.aimglobal.org/wp-content/uploads/2025/05/RFID-DSCSA-Webinar.png
END:VEVENT
BEGIN:VEVENT
DTSTART;VALUE=DATE:20250523
DTEND;VALUE=DATE:20250525
DTSTAMP:20260421T013157
CREATED:20241213T170403Z
LAST-MODIFIED:20241213T170403Z
UID:987499013-1747958400-1748131199@www.aimglobal.org
SUMMARY:2025 Cannadellic Miami
DESCRIPTION:Join us for an unforgettable experience where cannabis\, psychedelics\, and holistic wellness converge. Cannadelic is the ultimate event for enthusiasts and professionals seeking knowledge\, community\, and innovation.
URL:https://www.aimglobal.org/event/2025-cannadellic-miami/
LOCATION:Miami\, Florida\, Miami\, Florida
ATTACH;FMTTYPE=image/png:https://www.aimglobal.org/wp-content/uploads/2024/05/NECANN.png
END:VEVENT
BEGIN:VEVENT
DTSTART;VALUE=DATE:20250527
DTEND;VALUE=DATE:20250530
DTSTAMP:20260421T013157
CREATED:20241213T170918Z
LAST-MODIFIED:20241213T170918Z
UID:987499015-1748304000-1748563199@www.aimglobal.org
SUMMARY:Saudi Warehousing & Logistics Expo
DESCRIPTION:Saudi Arabia’s largest logistics\, warehousing and supply chain event.
URL:https://www.aimglobal.org/event/saudi-warehousing-logistics-expo-2/
LOCATION:Riyadh International Convention Center\, India
ATTACH;FMTTYPE=image/png:https://www.aimglobal.org/wp-content/uploads/2024/03/Saudi-logistics-warehouse-expo-logo-dark.png
END:VEVENT
BEGIN:VEVENT
DTSTART;VALUE=DATE:20250602
DTEND;VALUE=DATE:20250605
DTSTAMP:20260421T013157
CREATED:20241213T175506Z
LAST-MODIFIED:20241213T175506Z
UID:987499042-1748822400-1749081599@www.aimglobal.org
SUMMARY:ShopTalk Europe
DESCRIPTION:
URL:https://www.aimglobal.org/event/shoptalk-europe-2/
LOCATION:Fira Barcelona Gran Via\, Barcelona\, Spain
ATTACH;FMTTYPE=image/png:https://www.aimglobal.org/wp-content/uploads/2024/05/shoptalk.png
END:VEVENT
BEGIN:VEVENT
DTSTART;VALUE=DATE:20250602
DTEND;VALUE=DATE:20250606
DTSTAMP:20260421T013157
CREATED:20241217T185057Z
LAST-MODIFIED:20241217T185057Z
UID:987499110-1748822400-1749167999@www.aimglobal.org
SUMMARY:Transport Logistics Munich
DESCRIPTION:Present yourself at transport logistic 2025 and experience the benefits firsthand! As the world’s leading trade fair for logistics\, mobility\, IT\, and supply chain management\, this event provides a unique platform for industry experts\, manufacturers\, users\, and researchers.
URL:https://www.aimglobal.org/event/transport-logistics-munich/
LOCATION:Munich\, Germany\, Munich\, Germany
ATTACH;FMTTYPE=image/png:https://www.aimglobal.org/wp-content/uploads/2024/12/transport-logistic.png
END:VEVENT
BEGIN:VEVENT
DTSTART;VALUE=DATE:20250603
DTEND;VALUE=DATE:20250605
DTSTAMP:20260421T013157
CREATED:20241213T180328Z
LAST-MODIFIED:20241213T180328Z
UID:987499047-1748908800-1749081599@www.aimglobal.org
SUMMARY:European Medical Device Summit
DESCRIPTION:The European Medical Device Summit sets the benchmark for industry collaboration and idea exchange. This event offers valuable insights and tactics to enhance the professional growth of executives engaged in medical device aspects such as design\, product development\, innovation\, technology and quality/regulatory matters.
URL:https://www.aimglobal.org/event/european-medical-device-summit-2/
LOCATION:Dusseldorf\, Germany\, Dusseldorf\, Germany
ATTACH;FMTTYPE=image/png:https://www.aimglobal.org/wp-content/uploads/2024/05/generis-logo-blue-2.png
END:VEVENT
BEGIN:VEVENT
DTSTART;VALUE=DATE:20250603
DTEND;VALUE=DATE:20250606
DTSTAMP:20260421T013157
CREATED:20241213T180523Z
LAST-MODIFIED:20241213T180523Z
UID:987499049-1748908800-1749167999@www.aimglobal.org
SUMMARY:Electric & Hybrid Vehicle Technology Expo Europe
DESCRIPTION:Meet battery manufacturers\, suppliers\, engineers\, thought leaders and decision-makers for a conference and battery tech expo focused on the latest developments in the advanced battery and automotive industries.
URL:https://www.aimglobal.org/event/electric-hybrid-vehicle-technology-expo-europe-2/
LOCATION:Messe Stuttgart\, Stuttgart\, Germany
ATTACH;FMTTYPE=image/png:https://www.aimglobal.org/wp-content/uploads/2024/05/ehvtc-1.png
END:VEVENT
BEGIN:VEVENT
DTSTART;VALUE=DATE:20250603
DTEND;VALUE=DATE:20250606
DTSTAMP:20260421T013157
CREATED:20241213T180718Z
LAST-MODIFIED:20241213T180718Z
UID:987499051-1748908800-1749167999@www.aimglobal.org
SUMMARY:The Battery Show Europe
DESCRIPTION:Meet battery manufacturers\, suppliers\, engineers\, thought leaders and decision-makers for a conference and battery tech expo focused on the latest developments in the advanced battery and automotive industries.
URL:https://www.aimglobal.org/event/the-battery-show-europe-2/
LOCATION:Messe Stuttgart\, Stuttgart\, Germany
ATTACH;FMTTYPE=image/png:https://www.aimglobal.org/wp-content/uploads/2023/11/The-Battery-show-Europe.png
END:VEVENT
BEGIN:VEVENT
DTSTART;VALUE=DATE:20250603
DTEND;VALUE=DATE:20250606
DTSTAMP:20260421T013157
CREATED:20241213T193246Z
LAST-MODIFIED:20241213T193246Z
UID:987499073-1748908800-1749167999@www.aimglobal.org
SUMMARY:NRF Singapore
DESCRIPTION:Taking place in Singapore from June 3-5\, 2025\, the Asia Pacific edition of Retail’s Big Show brings together retail industry leaders from across the region to collaborate on a Pan Asia Pacific stage\, home of the world’s fastest growing markets.
URL:https://www.aimglobal.org/event/nrf-singapore/
LOCATION:Singapore
ATTACH;FMTTYPE=image/png:https://www.aimglobal.org/wp-content/uploads/2023/08/NRF2024_Logo_stacked_redcircle_RGB-e1700667857282.png
END:VEVENT
BEGIN:VEVENT
DTSTART;VALUE=DATE:20250603
DTEND;VALUE=DATE:20250607
DTSTAMP:20260421T013157
CREATED:20241213T181127Z
LAST-MODIFIED:20241213T181127Z
UID:987499053-1748908800-1749254399@www.aimglobal.org
SUMMARY:IEEE Wireless Power Technology Conference and Expo (WPTCE2024)
DESCRIPTION:WPTCE2025 is the largest event in the world for wireless power research and industry engagement\, covering a wide range of topics\, applications\, frequencies\, and power levels.
URL:https://www.aimglobal.org/event/ieee-wireless-power-technology-conference-and-expo-wptce2024/
LOCATION:Rome\, Italy
ATTACH;FMTTYPE=image/jpeg:https://www.aimglobal.org/wp-content/uploads/2024/12/WPTCE-ROME-e1734113466457.jpg
END:VEVENT
BEGIN:VEVENT
DTSTART;TZID=America/New_York:20250603T120000
DTEND;TZID=America/New_York:20250603T130000
DTSTAMP:20260421T013157
CREATED:20250521T200932Z
LAST-MODIFIED:20250521T200932Z
UID:987500641-1748952000-1748955600@www.aimglobal.org
SUMMARY:DOGE Ready: CAES by Honeywell Automates WIP Tracking with RFID
DESCRIPTION:REGISTER HERE \nDiscover how CAES\, a leading defense electronics manufacturer recently acquired by Honeywell\, implemented RFID technology from the ground up to revolutionize its production operations. \nWith 13 advanced facilities across North America\, CAES produces a mix of classified and unclassified aerospace components and high-end electronics. In this exclusive webinar\, learn how the company successfully transitioned from zero RFID infrastructure to a fully integrated\, enterprise-wide RFID system. \nYou’ll hear how CAES uses RFID for real-time work-in-progress (WIP) tracking and calibrated asset management\, enabling greater visibility\, improved shop floor efficiency\, and enhanced quality control across their highly automated manufacturing environments. \nWhether you’re in aerospace\, defense\, electronics manufacturing\, or industrial automation\, this webinar offers a compelling case study on the real-world benefits of RFID in complex\, high-mix production settings. \n\nWhat You’ll Learn:\n\nHow CAES planned and executed full-scale RFID implementation in aerospace manufacturing\nThe impact of RFID on WIP tracking\, asset calibration\, and production efficiency\nLessons learned and best practices from deploying RFID in secure\, high-tech environments\nFuture plans for RFID expansion across CAES’s North American operations\n\n\nWho Should Attend:\n\nManufacturing and operations leaders\nAerospace and defense industry professionals\nIT and digital transformation specialists\nAnyone exploring RFID technology for industrial or government applications
URL:https://www.aimglobal.org/event/doge-ready-caes-by-honeywell-automates-wip-tracking-with-rfid/
LOCATION:Virtual
ATTACH;FMTTYPE=image/png:https://www.aimglobal.org/wp-content/uploads/2025/05/DOGE-Ready-CAES-by-Honeywell-Automates-WIP-Tracking-with-RFID-5.png
END:VEVENT
BEGIN:VEVENT
DTSTART;VALUE=DATE:20250604
DTEND;VALUE=DATE:20250606
DTSTAMP:20260421T013157
CREATED:20241213T181447Z
LAST-MODIFIED:20241213T181447Z
UID:987499056-1748995200-1749167999@www.aimglobal.org
SUMMARY:IoT Tech Expo North America
DESCRIPTION:The IoT Tech Expo North America is the leading destination for exploring the transformative potential of IoT and connected technologies. Taking place on June 4-5\, 2025\, the event brings together 7\,000+ industry leaders\, innovators\, and technology enthusiasts from across the globe.
URL:https://www.aimglobal.org/event/iot-tech-expo-north-america-2/
LOCATION:Santa Clara Convention Center\, CA
ATTACH;FMTTYPE=image/png:https://www.aimglobal.org/wp-content/uploads/2023/11/Iot-Tech-Expo-NA.png
END:VEVENT
BEGIN:VEVENT
DTSTART;VALUE=DATE:20250604
DTEND;VALUE=DATE:20250606
DTSTAMP:20260421T013157
CREATED:20241213T181943Z
LAST-MODIFIED:20241213T181943Z
UID:987499058-1748995200-1749167999@www.aimglobal.org
SUMMARY:SmartFactory 2025
DESCRIPTION:Now in its ninth year\, Smart Factory Expo is firmly established as the go-to manufacturing technology event curated by the leading and trusted industry brand\, The Manufacturer.
URL:https://www.aimglobal.org/event/smartfactory-2025/
LOCATION:NEC Birmingham\, Birmingham\, United Kingdom
ATTACH;FMTTYPE=image/jpeg:https://www.aimglobal.org/wp-content/uploads/2024/12/smart_factory_expo_logo.jpg
END:VEVENT
BEGIN:VEVENT
DTSTART;TZID=America/New_York:20250604T080000
DTEND;TZID=America/New_York:20250604T090000
DTSTAMP:20260421T013157
CREATED:20250514T150846Z
LAST-MODIFIED:20250514T150846Z
UID:987500574-1749024000-1749027600@www.aimglobal.org
SUMMARY:The Road to Responsive Reusables: The Answer to Managing Your Fleet of Reusable Transport Packaging (RTP)
DESCRIPTION:Join Wiliot and Avery Dennison—two pioneers in digital identification—as they unveil a smarter approach to RTP management\, blending the best of UHF RFID and the new frontier of Ambient IoT. This webinar is your front-row seat to the technologies\, real-world applications\, and collaborative strategies reshaping logistics.
URL:https://www.aimglobal.org/event/the-road-to-responsive-reusables-the-answer-to-managing-your-fleet-of-reusable-transport-packaging-rtp/
LOCATION:Virtual
ATTACH;FMTTYPE=image/jpeg:https://www.aimglobal.org/wp-content/uploads/2025/05/1747234862683.jpg
END:VEVENT
END:VCALENDAR