BEGIN:VCALENDAR
VERSION:2.0
PRODID:-//AIM Global - ECPv6.15.20//NONSGML v1.0//EN
CALSCALE:GREGORIAN
METHOD:PUBLISH
X-WR-CALNAME:AIM Global
X-ORIGINAL-URL:https://www.aimglobal.org
X-WR-CALDESC:Events for AIM Global
REFRESH-INTERVAL;VALUE=DURATION:PT1H
X-Robots-Tag:noindex
X-PUBLISHED-TTL:PT1H
BEGIN:VTIMEZONE
TZID:America/New_York
BEGIN:DAYLIGHT
TZOFFSETFROM:-0500
TZOFFSETTO:-0400
TZNAME:EDT
DTSTART:20230312T070000
END:DAYLIGHT
BEGIN:STANDARD
TZOFFSETFROM:-0400
TZOFFSETTO:-0500
TZNAME:EST
DTSTART:20231105T060000
END:STANDARD
BEGIN:DAYLIGHT
TZOFFSETFROM:-0500
TZOFFSETTO:-0400
TZNAME:EDT
DTSTART:20240310T070000
END:DAYLIGHT
BEGIN:STANDARD
TZOFFSETFROM:-0400
TZOFFSETTO:-0500
TZNAME:EST
DTSTART:20241103T060000
END:STANDARD
BEGIN:DAYLIGHT
TZOFFSETFROM:-0500
TZOFFSETTO:-0400
TZNAME:EDT
DTSTART:20250309T070000
END:DAYLIGHT
BEGIN:STANDARD
TZOFFSETFROM:-0400
TZOFFSETTO:-0500
TZNAME:EST
DTSTART:20251102T060000
END:STANDARD
END:VTIMEZONE
BEGIN:VEVENT
DTSTART;VALUE=DATE:20240921
DTEND;VALUE=DATE:20240926
DTSTAMP:20260421T063318
CREATED:20240509T223040Z
LAST-MODIFIED:20240509T223040Z
UID:987497431-1726948800-1727294399@www.aimglobal.org
SUMMARY:International Foodservice Distributors Association (IFDA) Conference
DESCRIPTION:The premier event for the food distribution community.
URL:https://www.aimglobal.org/event/international-foodservice-distributors-association-ifda-conference/
LOCATION:Kansas City\, Missouri
ATTACH;FMTTYPE=image/png:https://www.aimglobal.org/wp-content/uploads/2024/05/ifda-e1735306353380.png
END:VEVENT
BEGIN:VEVENT
DTSTART;VALUE=DATE:20240919
DTEND;VALUE=DATE:20240922
DTSTAMP:20260421T063318
CREATED:20240509T171157Z
LAST-MODIFIED:20240509T171157Z
UID:987497204-1726776000-1726948799@www.aimglobal.org
SUMMARY:NECANN Michigan
DESCRIPTION:NECANN conventions are a unique mix of the local industry\, advocates\, and community\, combined with leading national companies and thought leaders from around the country.
URL:https://www.aimglobal.org/event/necann-michigan/
LOCATION:Devos Place\, Grand Rapids\, Michigan
ATTACH;FMTTYPE=image/png:https://www.aimglobal.org/wp-content/uploads/2024/05/NECANN.png
END:VEVENT
BEGIN:VEVENT
DTSTART;TZID=America/New_York:20240918T100000
DTEND;TZID=America/New_York:20240918T110000
DTSTAMP:20260421T063318
CREATED:20240830T173126Z
LAST-MODIFIED:20240917T181907Z
UID:987498111-1726653600-1726657200@www.aimglobal.org
SUMMARY:Power Pack: Pick by Light & Never Out of Stock - Turbocharge Your Inventory Management in ONE Solution
DESCRIPTION:
URL:https://www.aimglobal.org/event/power-pack-pick-by-light-never-out-of-stock-turbocharge-your-inventory-management-in-one-solution/
ATTACH;FMTTYPE=image/jpeg:https://www.aimglobal.org/wp-content/uploads/2024/08/Powerpack-Pick-by-Light-Never-out-of-Stock-Turbocharge-Your-Inventory-Management-in-ONE-Solution-3.jpg
END:VEVENT
BEGIN:VEVENT
DTSTART;VALUE=DATE:20240917
DTEND;VALUE=DATE:20240920
DTSTAMP:20260421T063318
CREATED:20231122T184013Z
LAST-MODIFIED:20231122T184013Z
UID:987495549-1726603200-1726775999@www.aimglobal.org
SUMMARY:Modern Manufacturing Expo
DESCRIPTION:
URL:https://www.aimglobal.org/event/modern-manufacturing-expo/
LOCATION:Sydney Showground
ATTACH;FMTTYPE=image/png:https://www.aimglobal.org/wp-content/uploads/2023/11/Modern-Manufacturing-Expo.png
END:VEVENT
BEGIN:VEVENT
DTSTART;VALUE=DATE:20240916
DTEND;VALUE=DATE:20240920
DTSTAMP:20260421T063318
CREATED:20231122T190413Z
LAST-MODIFIED:20231122T190413Z
UID:987495572-1726516800-1726775999@www.aimglobal.org
SUMMARY:Paris Retail Week
DESCRIPTION:
URL:https://www.aimglobal.org/event/paris-retail-week/
LOCATION:Paris
ATTACH;FMTTYPE=image/jpeg:https://www.aimglobal.org/wp-content/uploads/2023/11/Paris-Retail-Week.jpg
END:VEVENT
BEGIN:VEVENT
DTSTART;TZID=America/New_York:20240916T040000
DTEND;TZID=America/New_York:20240917T130000
DTSTAMP:20260421T063318
CREATED:20231122T203328Z
LAST-MODIFIED:20231122T203328Z
UID:987495629-1726459200-1726578000@www.aimglobal.org
SUMMARY:Vartech
DESCRIPTION:
URL:https://www.aimglobal.org/event/vartech/
LOCATION:Orlando
ATTACH;FMTTYPE=image/png:https://www.aimglobal.org/wp-content/uploads/2023/11/Vartech.png
END:VEVENT
BEGIN:VEVENT
DTSTART;VALUE=DATE:20240915
DTEND;VALUE=DATE:20240920
DTSTAMP:20260421T063318
CREATED:20240508T222026Z
LAST-MODIFIED:20240508T222026Z
UID:987497150-1726430400-1726775999@www.aimglobal.org
SUMMARY:Channel Futures MSP Summit
DESCRIPTION:The #1 MSP Conference of the year returns this September in Atlanta. Attend to get MSP trends and predictions for 2025 and shape the future of your managed services / recurring revenue practice.
URL:https://www.aimglobal.org/event/channel-futures-msp-summit-2/
LOCATION:Atlanta\, Georgia\, Atlanta\, Georgia
ATTACH;FMTTYPE=image/png:https://www.aimglobal.org/wp-content/uploads/2024/05/mspsummit.png
END:VEVENT
BEGIN:VEVENT
DTSTART;TZID=America/New_York:20240912T100000
DTEND;TZID=America/New_York:20240912T110000
DTSTAMP:20260421T063318
CREATED:20240910T160349Z
LAST-MODIFIED:20240910T161328Z
UID:987498206-1726135200-1726138800@www.aimglobal.org
SUMMARY:Introduction to Barcode Reading Webinar
DESCRIPTION:In this informative webinar\, Cognex dives into the basics of barcode reading\, its role in automation\, and how it can improve your operations.
URL:https://www.aimglobal.org/event/introduction-to-barcode-reading-webinar/
LOCATION:Virtual
END:VEVENT
BEGIN:VEVENT
DTSTART;TZID=America/New_York:20240912T070000
DTEND;TZID=America/New_York:20240912T080000
DTSTAMP:20260421T063318
CREATED:20240905T164206Z
LAST-MODIFIED:20240905T164226Z
UID:987498155-1726124400-1726128000@www.aimglobal.org
SUMMARY:Mastering RFID in Manufacturing:  Unlock Efficiency\, Automation and Accuracy Webinar
DESCRIPTION:
URL:https://www.aimglobal.org/event/mastering-rfid-in-manufacturing-unlock-efficiency-automation-and-accuracy/
LOCATION:Virtual
ATTACH;FMTTYPE=image/png:https://www.aimglobal.org/wp-content/uploads/2024/09/FS-Event-social-1080x1080-v3.png
END:VEVENT
BEGIN:VEVENT
DTSTART;VALUE=DATE:20240910
DTEND;VALUE=DATE:20240914
DTSTAMP:20260421T063318
CREATED:20240509T211848Z
LAST-MODIFIED:20240509T211848Z
UID:987497367-1725998400-1726257599@www.aimglobal.org
SUMMARY:JAISA Auto-ID & Communications Expo
DESCRIPTION:The only exhibition in Japan devoted exclusively to cutting-edge automatic identification products\, technologies and solutions.
URL:https://www.aimglobal.org/event/jaisa-auto-id-communications-expo/
LOCATION:Tokyo Big Sight
ATTACH;FMTTYPE=image/png:https://www.aimglobal.org/wp-content/uploads/2024/05/auto-id.png
END:VEVENT
BEGIN:VEVENT
DTSTART;VALUE=DATE:20240909
DTEND;VALUE=DATE:20240913
DTSTAMP:20260421T063318
CREATED:20240509T182813Z
LAST-MODIFIED:20240509T182813Z
UID:987497266-1725912000-1726171199@www.aimglobal.org
SUMMARY:LabelExpo Americas
DESCRIPTION:This is the best opportunity to target the latest advancements in flexible packaging\, automation\, RFID technology and sustainability all under one roof.
URL:https://www.aimglobal.org/event/labelexpo-americas/
LOCATION:Chicago\, IL
ATTACH;FMTTYPE=image/png:https://www.aimglobal.org/wp-content/uploads/2024/05/labelexpoamerica.png
END:VEVENT
BEGIN:VEVENT
DTSTART;VALUE=DATE:20240909
DTEND;VALUE=DATE:20240913
DTSTAMP:20260421T063318
CREATED:20240509T175534Z
LAST-MODIFIED:20240509T175534Z
UID:987497245-1725912000-1726171199@www.aimglobal.org
SUMMARY:Printing United
DESCRIPTION:PRINTING United Expo is an annual event focused on bringing together the entire print industry to see the latest trends\, technology\, and solutions in one place.
URL:https://www.aimglobal.org/event/printing-united/
LOCATION:Las Vegas\, Nevada\, Las Vegas\, Nevada
ATTACH;FMTTYPE=image/jpeg:https://www.aimglobal.org/wp-content/uploads/2024/05/cropped-printing_united_expo_horiz_cmyk-6.2.jpg
END:VEVENT
BEGIN:VEVENT
DTSTART;VALUE=DATE:20240909
DTEND;VALUE=DATE:20240912
DTSTAMP:20260421T063318
CREATED:20240509T213711Z
LAST-MODIFIED:20240509T213711Z
UID:987497386-1725912000-1726084799@www.aimglobal.org
SUMMARY:PBS Texas Conference
DESCRIPTION:Connecting technical experts with engineers in the powder and bulk solids industry in Texas.
URL:https://www.aimglobal.org/event/pbs-texas-conference/
LOCATION:Hilton Houston Post Oak by the Galleria\, Houston\, Texas
ATTACH;FMTTYPE=image/png:https://www.aimglobal.org/wp-content/uploads/2024/05/Powderbulk-e1734105637218.png
END:VEVENT
BEGIN:VEVENT
DTSTART;VALUE=DATE:20240907
DTEND;VALUE=DATE:20240910
DTSTAMP:20260421T063318
CREATED:20240508T223014Z
LAST-MODIFIED:20240508T223014Z
UID:987497158-1725739200-1725911999@www.aimglobal.org
SUMMARY:AIPIA Smart Labeling Seminar
DESCRIPTION:The AWA & AIPIA Smart Labeling Seminar 2024\, part of the AWA Label Expo Seminar Series 2024 offers a comprehensive program on smart labelling\, making it the ideal kickoff to Labelexpo week.
URL:https://www.aimglobal.org/event/aipia-smart-labeling-seminar/
LOCATION:Rosemont\, Illinois\, Rosemont\, Illinois
ATTACH;FMTTYPE=image/png:https://www.aimglobal.org/wp-content/uploads/2024/05/aipa.png
END:VEVENT
BEGIN:VEVENT
DTSTART;VALUE=DATE:20240905
DTEND;VALUE=DATE:20240908
DTSTAMP:20260421T063318
CREATED:20240509T171007Z
LAST-MODIFIED:20240509T171007Z
UID:987497201-1725566400-1725739199@www.aimglobal.org
SUMMARY:NECANN New Jersey
DESCRIPTION:The largest B2B cannabis industry event in NJ.
URL:https://www.aimglobal.org/event/necann-new-jersey/
LOCATION:Atlantic Convention Center\, Atlantic City\, New Jersey
ATTACH;FMTTYPE=image/png:https://www.aimglobal.org/wp-content/uploads/2024/05/NECANN.png
END:VEVENT
BEGIN:VEVENT
DTSTART;VALUE=DATE:20240901
DTEND;VALUE=DATE:20240905
DTSTAMP:20260421T063318
CREATED:20240325T171952Z
LAST-MODIFIED:20240325T171952Z
UID:987496278-1725220800-1725479999@www.aimglobal.org
SUMMARY:Saudi Warehousing & Logistics Expo
DESCRIPTION:The Saudi Warehousing & Logistics Expo\, unites the entire intralogistics industry in one place\, showcasing the full spectrum of industry expertise and innovation. As trade continues to globalize and Saudi Arabia strives to be at the forefront of industry performance\, there has never been a better time to be a part of the event.
URL:https://www.aimglobal.org/event/saudi-warehousing-logistics-expo/
ATTACH;FMTTYPE=image/png:https://www.aimglobal.org/wp-content/uploads/2024/03/Saudi-logistics-warehouse-expo-logo-dark.png
END:VEVENT
BEGIN:VEVENT
DTSTART;TZID=America/New_York:20240828T070000
DTEND;TZID=America/New_York:20240828T080000
DTSTAMP:20260421T063318
CREATED:20240802T235742Z
LAST-MODIFIED:20240802T235742Z
UID:987498037-1724828400-1724832000@www.aimglobal.org
SUMMARY:Mosnel Winery Welcomes a New Era of Wine Authenticity and Traceability
DESCRIPTION:
URL:https://www.aimglobal.org/event/mosnel-winery-welcomes-a-new-era-of-wine-authenticity-and-traceability/
ATTACH;FMTTYPE=image/jpeg:https://www.aimglobal.org/wp-content/uploads/2024/08/Mosnel-Winery-Welcomes-a-New-Era-of-Wine-Authenticity-and-Traceability-1.jpg
END:VEVENT
BEGIN:VEVENT
DTSTART;VALUE=DATE:20240827
DTEND;VALUE=DATE:20240830
DTSTAMP:20260421T063318
CREATED:20231213T020501Z
LAST-MODIFIED:20231213T020501Z
UID:987495702-1724788800-1724961599@www.aimglobal.org
SUMMARY:All About Automation - Zurich
DESCRIPTION:
URL:https://www.aimglobal.org/event/all-about-automation-zurich/
LOCATION:Messe Zurich\, Germany
ATTACH;FMTTYPE=image/jpeg:https://www.aimglobal.org/wp-content/uploads/2023/12/All-about-automation-4.jpg
END:VEVENT
BEGIN:VEVENT
DTSTART;TZID=America/New_York:20240821T040000
DTEND;TZID=America/New_York:20240824T130000
DTSTAMP:20260421T063318
CREATED:20231122T012552Z
LAST-MODIFIED:20231122T215815Z
UID:987495498-1724212800-1724504400@www.aimglobal.org
SUMMARY:Automation Expo - India
DESCRIPTION:
URL:https://www.aimglobal.org/event/automation-expo-india/
LOCATION:Mumbai
ATTACH;FMTTYPE=image/png:https://www.aimglobal.org/wp-content/uploads/2023/11/Automation-Expo-2024-1-e1700672280206.png
END:VEVENT
BEGIN:VEVENT
DTSTART;TZID=America/New_York:20240820T060000
DTEND;TZID=America/New_York:20240820T070000
DTSTAMP:20260421T063318
CREATED:20240730T202029Z
LAST-MODIFIED:20240802T235359Z
UID:987498001-1724133600-1724137200@www.aimglobal.org
SUMMARY:See More to Achieve More: How Warehouse Leaders are Investing in Visibility to Boost Supply Chain Resiliency
DESCRIPTION:In this webinar\, we’ll delve into the findings of Zebra’s Warehouse Vision Study\, which investigates the trends and technologies shaping the future of warehouse operations and examines factors causing supply chain disruption\, how warehouse leaders are gaining operational visibility\, and what they’re doing to achieve supply chain resiliency.
URL:https://www.aimglobal.org/event/see-more-to-achieve-more-how-warehouse-leaders-are-investing-in-visibility-to-boost-supply-chain-resiliency/
LOCATION:Virtual
ATTACH;FMTTYPE=image/png:https://www.aimglobal.org/wp-content/uploads/2024/07/Zebra-See-More-to-Achieve-More.png
END:VEVENT
BEGIN:VEVENT
DTSTART;VALUE=DATE:20240818
DTEND;VALUE=DATE:20240821
DTSTAMP:20260421T063318
CREATED:20240807T182230Z
LAST-MODIFIED:20240807T182230Z
UID:987498054-1724011200-1724183999@www.aimglobal.org
SUMMARY:Scansource Partner First Conference 2024
DESCRIPTION:
URL:https://www.aimglobal.org/event/scansource-partner-first-conference-2024/
ATTACH;FMTTYPE=image/png:https://www.aimglobal.org/wp-content/uploads/2024/03/ScanSource-e1710487055507.png
END:VEVENT
BEGIN:VEVENT
DTSTART;TZID=America/New_York:20240814T170000
DTEND;TZID=America/New_York:20240814T180000
DTSTAMP:20260421T063318
CREATED:20240730T201604Z
LAST-MODIFIED:20240802T234557Z
UID:987497997-1723654800-1723658400@www.aimglobal.org
SUMMARY:Demystifying Ambient IoT and RFID
DESCRIPTION:
URL:https://www.aimglobal.org/event/demystifying-ambient-iot-and-rfid-2/
LOCATION:Virtual
ATTACH;FMTTYPE=image/jpeg:https://www.aimglobal.org/wp-content/uploads/2024/07/Ambient-IoT-and-RFID-2.jpg
END:VEVENT
BEGIN:VEVENT
DTSTART;TZID=America/New_York:20240814T070000
DTEND;TZID=America/New_York:20240814T080000
DTSTAMP:20260421T063318
CREATED:20240730T201423Z
LAST-MODIFIED:20240802T233223Z
UID:987497993-1723618800-1723622400@www.aimglobal.org
SUMMARY:Demystifying Ambient IoT and RFID
DESCRIPTION:
URL:https://www.aimglobal.org/event/demystifying-ambient-iot-and-rfid/
LOCATION:Virtual
ATTACH;FMTTYPE=image/jpeg:https://www.aimglobal.org/wp-content/uploads/2024/07/Ambient-IoT-and-RFID-1.jpg
END:VEVENT
BEGIN:VEVENT
DTSTART;VALUE=DATE:20240803
DTEND;VALUE=DATE:20240807
DTSTAMP:20260421T063318
CREATED:20241213T195710Z
LAST-MODIFIED:20241213T195710Z
UID:987499083-1722643200-1722988799@www.aimglobal.org
SUMMARY:AHRMM Annual Conference
DESCRIPTION:AHRMM25 will feature a wide range of interactive education sessions and networking opportunities to connect with other experts as well as next generation leaders in the field. Network\, meet your peers\, and build collaborative relationships. Discover fresh ideas and insights from influential thought leaders.
URL:https://www.aimglobal.org/event/ahrmm-annual-conference/
LOCATION:Denver\, Colorado\, Denver\, Colorado
ATTACH;FMTTYPE=image/png:https://www.aimglobal.org/wp-content/uploads/2024/07/ahrmm.png
END:VEVENT
BEGIN:VEVENT
DTSTART;TZID=America/New_York:20240801T023000
DTEND;TZID=America/New_York:20240801T033000
DTSTAMP:20260421T063318
CREATED:20240719T162808Z
LAST-MODIFIED:20240719T162808Z
UID:987497872-1722479400-1722483000@www.aimglobal.org
SUMMARY:RFID for Supply Chain Traceability and Inventory Management
DESCRIPTION:This insightful webinar presented by AIM India is designed to keep you ahead with the latest industry trends and AIDC knowledge. This session will be led by Ashim Patil\, MD & CEO at i-TEK RFID. 
URL:https://www.aimglobal.org/event/rfid-for-supply-chain-traceability-and-inventory-management/
LOCATION:Virtual
ATTACH;FMTTYPE=image/jpeg:https://www.aimglobal.org/wp-content/uploads/2024/07/aim-india-webinar.jpg
END:VEVENT
BEGIN:VEVENT
DTSTART;VALUE=DATE:20240728
DTEND;VALUE=DATE:20240802
DTSTAMP:20260421T063318
CREATED:20240509T185745Z
LAST-MODIFIED:20240509T185745Z
UID:987497289-1722196800-1722542399@www.aimglobal.org
SUMMARY:National Property Management Association Education Seminar
DESCRIPTION:
URL:https://www.aimglobal.org/event/national-property-management-association-education-seminar/
LOCATION:Reno\, Nevada\, Reno\, Nevada
ATTACH;FMTTYPE=image/png:https://www.aimglobal.org/wp-content/uploads/2024/05/npma.png
END:VEVENT
BEGIN:VEVENT
DTSTART;VALUE=DATE:20240727
DTEND;VALUE=DATE:20240731
DTSTAMP:20260421T063318
CREATED:20231122T194652Z
LAST-MODIFIED:20231122T194652Z
UID:987495591-1722110400-1722369599@www.aimglobal.org
SUMMARY:RetailNow
DESCRIPTION:
URL:https://www.aimglobal.org/event/retailnow/
LOCATION:Las Vegas\, NV
ATTACH;FMTTYPE=image/png:https://www.aimglobal.org/wp-content/uploads/2023/11/retail-now.png
END:VEVENT
BEGIN:VEVENT
DTSTART;VALUE=DATE:20240713
DTEND;VALUE=DATE:20240718
DTSTAMP:20260421T063318
CREATED:20240509T164831Z
LAST-MODIFIED:20240509T164831Z
UID:987497179-1720900800-1721246399@www.aimglobal.org
SUMMARY:IFT First Conference
DESCRIPTION:Be the first to learn about the latest innovations including the transformative power of AI\, global and consumer-centric developments\, science-based approaches to prevent foodborne illness\, digitalization and disruption\, food as medicine\, and more.
URL:https://www.aimglobal.org/event/ift-first-conference/
LOCATION:McCormick Place\, Chicago
ATTACH;FMTTYPE=image/png:https://www.aimglobal.org/wp-content/uploads/2024/05/IFT.png
END:VEVENT
BEGIN:VEVENT
DTSTART;VALUE=DATE:20240713
DTEND;VALUE=DATE:20240718
DTSTAMP:20260421T063318
CREATED:20240509T164440Z
LAST-MODIFIED:20240509T164440Z
UID:987497176-1720900800-1721246399@www.aimglobal.org
SUMMARY:International Association for Food Protection Annual Conference
DESCRIPTION:Each year\, the International Association for Food Protection hosts an Annual Meeting\, providing attendees with information on current and emerging food safety issues\, the latest science\, innovative solutions to new and recurring problems\, and the opportunity to network with thousands of food safety professionals from around the globe.
URL:https://www.aimglobal.org/event/international-association-for-food-protection-annual-conference/
LOCATION:Long Beach Convention & Entertainment Center\, 300 E Ocean Blvd\, Long Beach\, CA\, United States
ATTACH;FMTTYPE=image/jpeg:https://www.aimglobal.org/wp-content/uploads/2024/05/IAFP.jpg
END:VEVENT
BEGIN:VEVENT
DTSTART;VALUE=DATE:20240712
DTEND;VALUE=DATE:20240717
DTSTAMP:20260421T063318
CREATED:20240709T195445Z
LAST-MODIFIED:20240709T195445Z
UID:987497819-1720814400-1721159999@www.aimglobal.org
SUMMARY:American Hort Cultivate
DESCRIPTION:Want to see what’s up-and-coming in plant material\, hard goods\, products\, and more? \n\n\n\n\nIt’s all here!
URL:https://www.aimglobal.org/event/american-hort-cultivate/
LOCATION:Columbus\, OH
ATTACH;FMTTYPE=image/jpeg:https://www.aimglobal.org/wp-content/uploads/2024/07/Untitled-design-1-e1720540474540.jpg
END:VEVENT
END:VCALENDAR